BEGIN:VCALENDAR
VERSION:2.0
PRODID:-//Yea Golf Club - ECPv6.15.17.1//NONSGML v1.0//EN
CALSCALE:GREGORIAN
METHOD:PUBLISH
X-WR-CALNAME:Yea Golf Club
X-ORIGINAL-URL:https://www.yeagolfclub.com.au
X-WR-CALDESC:Events for Yea Golf Club
REFRESH-INTERVAL;VALUE=DURATION:PT1H
X-Robots-Tag:noindex
X-PUBLISHED-TTL:PT1H
BEGIN:VTIMEZONE
TZID:Australia/Melbourne
BEGIN:STANDARD
TZOFFSETFROM:+1100
TZOFFSETTO:+1000
TZNAME:AEST
DTSTART:20230401T160000
END:STANDARD
BEGIN:DAYLIGHT
TZOFFSETFROM:+1000
TZOFFSETTO:+1100
TZNAME:AEDT
DTSTART:20230930T160000
END:DAYLIGHT
BEGIN:STANDARD
TZOFFSETFROM:+1100
TZOFFSETTO:+1000
TZNAME:AEST
DTSTART:20240406T160000
END:STANDARD
BEGIN:DAYLIGHT
TZOFFSETFROM:+1000
TZOFFSETTO:+1100
TZNAME:AEDT
DTSTART:20241005T160000
END:DAYLIGHT
BEGIN:STANDARD
TZOFFSETFROM:+1100
TZOFFSETTO:+1000
TZNAME:AEST
DTSTART:20250405T160000
END:STANDARD
BEGIN:DAYLIGHT
TZOFFSETFROM:+1000
TZOFFSETTO:+1100
TZNAME:AEDT
DTSTART:20251004T160000
END:DAYLIGHT
BEGIN:STANDARD
TZOFFSETFROM:+1100
TZOFFSETTO:+1000
TZNAME:AEST
DTSTART:20260404T160000
END:STANDARD
BEGIN:DAYLIGHT
TZOFFSETFROM:+1000
TZOFFSETTO:+1100
TZNAME:AEDT
DTSTART:20261003T160000
END:DAYLIGHT
END:VTIMEZONE
BEGIN:VEVENT
DTSTART;VALUE=DATE:20250315
DTEND;VALUE=DATE:20250316
DTSTAMP:20260421T223115
CREATED:20250209T223219Z
LAST-MODIFIED:20250209T223219Z
UID:8387-1741996800-1742083199@www.yeagolfclub.com.au
SUMMARY:Barry Moore Trophy - Stableford - 1st Rnd-  BH 14th  @ Ladies Stableford
DESCRIPTION:Played over two 18 hole Rounds  – B/Hole 14th
URL:https://www.yeagolfclub.com.au/event/barry-moore-trophy-stableford-1st-rnd-bh-14th-ladies-stableford/
LOCATION:Yea GC
CATEGORIES:Ladies,Mens
END:VEVENT
BEGIN:VEVENT
DTSTART;VALUE=DATE:20250313
DTEND;VALUE=DATE:20250314
DTSTAMP:20260421T223115
CREATED:20250209T223219Z
LAST-MODIFIED:20250209T223219Z
UID:8383-1741824000-1741910399@www.yeagolfclub.com.au
SUMMARY:Ruby McKenzie Salver - Woodend @ Vets (Eildon)
DESCRIPTION:
URL:https://www.yeagolfclub.com.au/event/ruby-mckenzie-salver-woodend-vets-eildon/
LOCATION:Woodend GC
CATEGORIES:Ladies,Mixed
END:VEVENT
BEGIN:VEVENT
DTSTART;TZID=Australia/Melbourne:20250312T000000
DTEND;TZID=Australia/Melbourne:20250312T000000
DTSTAMP:20260421T223115
CREATED:20250209T223219Z
LAST-MODIFIED:20250209T223219Z
UID:8386-1741737600-1741737600@www.yeagolfclub.com.au
SUMMARY:Silver Spoon Round 1 / Men - Four Stick Stford
DESCRIPTION:Men  choose a max of 4 Clubs for the round
URL:https://www.yeagolfclub.com.au/event/silver-spoon-round-1-men-four-stick-stford/
LOCATION:Yea GC
CATEGORIES:Ladies,Mens
END:VEVENT
BEGIN:VEVENT
DTSTART;VALUE=DATE:20250308
DTEND;VALUE=DATE:20250309
DTSTAMP:20260421T223115
CREATED:20250209T223336Z
LAST-MODIFIED:20250209T223336Z
UID:8444-1741392000-1741478399@www.yeagolfclub.com.au
SUMMARY:Season Opening- Mixed 3 Person Ambrose
DESCRIPTION:
URL:https://www.yeagolfclub.com.au/event/season-opening-mixed-3-person-ambrose-2/
LOCATION:Yea GC
CATEGORIES:Mixed
END:VEVENT
BEGIN:VEVENT
DTSTART;TZID=Australia/Melbourne:20250305T000000
DTEND;TZID=Australia/Melbourne:20250305T000000
DTSTAMP:20260421T223115
CREATED:20250209T223219Z
LAST-MODIFIED:20250209T223219Z
UID:8385-1741132800-1741132800@www.yeagolfclub.com.au
SUMMARY:Ladies Opening Day 2025 - 9 Hole Ambrose @ Men Two Person Irish Stableford
DESCRIPTION:Ladies: 9-Hole Ambrose and Lunch Invite and bring a friend; Members bring a plate to share -Welcome to the Ladies 2024 Golf SeasonMen: Take the best score on 1st nine holes then both on 2nd nine
URL:https://www.yeagolfclub.com.au/event/ladies-opening-day-2025-9-hole-ambrose-men-two-person-irish-stableford/
LOCATION:Yea GC
CATEGORIES:Ladies,Mens
END:VEVENT
BEGIN:VEVENT
DTSTART;VALUE=DATE:20250301
DTEND;VALUE=DATE:20250302
DTSTAMP:20260421T223115
CREATED:20240228T044201Z
LAST-MODIFIED:20250209T030319Z
UID:7763-1740787200-1740873599@www.yeagolfclub.com.au
SUMMARY:Murrindindi Masters #4 (Marysville GC)
DESCRIPTION:
URL:https://www.yeagolfclub.com.au/event/murrindindi-masters-4-to-be-confirmed/
LOCATION:Yea GC
CATEGORIES:Ladies,Mens
END:VEVENT
BEGIN:VEVENT
DTSTART;VALUE=DATE:20250226
DTEND;VALUE=DATE:20250227
DTSTAMP:20260421T223115
CREATED:20240228T044236Z
LAST-MODIFIED:20240228T044236Z
UID:7766-1740528000-1740614399@www.yeagolfclub.com.au
SUMMARY:Stableford
DESCRIPTION:
URL:https://www.yeagolfclub.com.au/event/stableford-117/
LOCATION:Yea GC
CATEGORIES:Ladies,Mens
END:VEVENT
BEGIN:VEVENT
DTSTART;VALUE=DATE:20250226
DTEND;VALUE=DATE:20250227
DTSTAMP:20260421T223115
CREATED:20240228T044202Z
LAST-MODIFIED:20250209T030155Z
UID:7764-1740528000-1740614399@www.yeagolfclub.com.au
SUMMARY:Stableford & followed by Gender Lunch
DESCRIPTION:
URL:https://www.yeagolfclub.com.au/event/stableford-followed-by-gender-lunch-5/
LOCATION:Yea GC
CATEGORIES:Ladies,Mens
END:VEVENT
BEGIN:VEVENT
DTSTART;VALUE=DATE:20250223
DTEND;VALUE=DATE:20250224
DTSTAMP:20260421T223115
CREATED:20240228T044201Z
LAST-MODIFIED:20250209T030101Z
UID:7762-1740268800-1740355199@www.yeagolfclub.com.au
SUMMARY:Yea Races (To be confirmed)
DESCRIPTION:
URL:https://www.yeagolfclub.com.au/event/yea-races-to-be-confirmed-10/
LOCATION:Yea GC
CATEGORIES:Social
END:VEVENT
BEGIN:VEVENT
DTSTART;VALUE=DATE:20250222
DTEND;VALUE=DATE:20250223
DTSTAMP:20260421T223115
CREATED:20240228T044236Z
LAST-MODIFIED:20240228T044236Z
UID:7765-1740182400-1740268799@www.yeagolfclub.com.au
SUMMARY:Stableford
DESCRIPTION:Mens – Birdie Hole 6th
URL:https://www.yeagolfclub.com.au/event/stableford-116/
LOCATION:Yea GC
CATEGORIES:Ladies,Mens
END:VEVENT
BEGIN:VEVENT
DTSTART;VALUE=DATE:20250212
DTEND;VALUE=DATE:20250213
DTSTAMP:20260421T223115
CREATED:20240228T044201Z
LAST-MODIFIED:20250209T025859Z
UID:7761-1739318400-1739404799@www.yeagolfclub.com.au
SUMMARY:Gender Challenge  #9 Final Round - Mary Walker Memorial Shield
DESCRIPTION:
URL:https://www.yeagolfclub.com.au/event/gender-challenge-9-final-round-ann-baynes-trophy-2/
LOCATION:Yea GC
CATEGORIES:Ladies,Mens
END:VEVENT
BEGIN:VEVENT
DTSTART;VALUE=DATE:20250208
DTEND;VALUE=DATE:20250209
DTSTAMP:20260421T223115
CREATED:20240228T044201Z
LAST-MODIFIED:20240228T044201Z
UID:7760-1738972800-1739059199@www.yeagolfclub.com.au
SUMMARY:Murrindindi  Masters #3 - (TBC)
DESCRIPTION:
URL:https://www.yeagolfclub.com.au/event/murrindindi-masters-3-tbc/
LOCATION:Yea GC
CATEGORIES:Ladies,Mens
END:VEVENT
BEGIN:VEVENT
DTSTART;VALUE=DATE:20250205
DTEND;VALUE=DATE:20250206
DTSTAMP:20260421T223115
CREATED:20240228T044146Z
LAST-MODIFIED:20240228T044146Z
UID:7759-1738713600-1738799999@www.yeagolfclub.com.au
SUMMARY:Gender Challenge #8 - Par
DESCRIPTION:
URL:https://www.yeagolfclub.com.au/event/gender-challenge-8-par-2/
LOCATION:Yea GC
CATEGORIES:Ladies,Mens
END:VEVENT
BEGIN:VEVENT
DTSTART;VALUE=DATE:20250201
DTEND;VALUE=DATE:20250202
DTSTAMP:20260421T223115
CREATED:20240228T044145Z
LAST-MODIFIED:20240228T044145Z
UID:7758-1738368000-1738454399@www.yeagolfclub.com.au
SUMMARY:Mens & Ladies Monthly Medal
DESCRIPTION:Stroke & Putting  / Birdie Hole 17th
URL:https://www.yeagolfclub.com.au/event/mens-ladies-monthly-medal/
LOCATION:Yea GC
CATEGORIES:Ladies,Mens
END:VEVENT
BEGIN:VEVENT
DTSTART;VALUE=DATE:20250129
DTEND;VALUE=DATE:20250130
DTSTAMP:20260421T223115
CREATED:20240228T044145Z
LAST-MODIFIED:20240228T044145Z
UID:7757-1738108800-1738195199@www.yeagolfclub.com.au
SUMMARY:Gender Challenge  #7 - Stroke & Putting
DESCRIPTION:
URL:https://www.yeagolfclub.com.au/event/gender-challenge-7-stroke-putting-2/
LOCATION:Yea GC
CATEGORIES:Ladies,Mens
END:VEVENT
BEGIN:VEVENT
DTSTART;VALUE=DATE:20250125
DTEND;VALUE=DATE:20250126
DTSTAMP:20260421T223115
CREATED:20240228T044145Z
LAST-MODIFIED:20240228T044145Z
UID:7756-1737763200-1737849599@www.yeagolfclub.com.au
SUMMARY:4BBB Stableford
DESCRIPTION:Find your own partner / Birdie Hole 3rd
URL:https://www.yeagolfclub.com.au/event/4bbb-stableford-8/
LOCATION:Yea GC
CATEGORIES:Ladies,Mens
END:VEVENT
BEGIN:VEVENT
DTSTART;VALUE=DATE:20250122
DTEND;VALUE=DATE:20250123
DTSTAMP:20260421T223115
CREATED:20240228T044145Z
LAST-MODIFIED:20240228T044145Z
UID:7755-1737504000-1737590399@www.yeagolfclub.com.au
SUMMARY:Gender Challenge #6
DESCRIPTION:
URL:https://www.yeagolfclub.com.au/event/gender-challenge-6-2/
LOCATION:Yea GC
CATEGORIES:Ladies,Mens
END:VEVENT
BEGIN:VEVENT
DTSTART;VALUE=DATE:20250118
DTEND;VALUE=DATE:20250119
DTSTAMP:20260421T223115
CREATED:20240228T044131Z
LAST-MODIFIED:20240228T044131Z
UID:7754-1737158400-1737244799@www.yeagolfclub.com.au
SUMMARY:Yea Races (To be confirmed)
DESCRIPTION:
URL:https://www.yeagolfclub.com.au/event/yea-races-to-be-confirmed-9/
LOCATION:Yea GC
CATEGORIES:Social
END:VEVENT
BEGIN:VEVENT
DTSTART;VALUE=DATE:20250115
DTEND;VALUE=DATE:20250116
DTSTAMP:20260421T223115
CREATED:20240228T044131Z
LAST-MODIFIED:20240228T044131Z
UID:7753-1736899200-1736985599@www.yeagolfclub.com.au
SUMMARY:Gender Challenge #5 - Red Tees / Stableford
DESCRIPTION:
URL:https://www.yeagolfclub.com.au/event/gender-challenge-5-red-tees-stableford-4/
LOCATION:Yea GC
CATEGORIES:Ladies,Mens
END:VEVENT
BEGIN:VEVENT
DTSTART;VALUE=DATE:20250111
DTEND;VALUE=DATE:20250112
DTSTAMP:20260421T223115
CREATED:20240228T044130Z
LAST-MODIFIED:20240228T044130Z
UID:7752-1736553600-1736639999@www.yeagolfclub.com.au
SUMMARY:Murrindindi  Masters #2 (TBC)
DESCRIPTION:
URL:https://www.yeagolfclub.com.au/event/murrindindi-masters-2-tbc/
LOCATION:Yea GC
CATEGORIES:Ladies,Mens
END:VEVENT
BEGIN:VEVENT
DTSTART;VALUE=DATE:20250108
DTEND;VALUE=DATE:20250109
DTSTAMP:20260421T223115
CREATED:20240228T044130Z
LAST-MODIFIED:20240228T044130Z
UID:7751-1736294400-1736380799@www.yeagolfclub.com.au
SUMMARY:Gender Challenge #4- Par
DESCRIPTION:
URL:https://www.yeagolfclub.com.au/event/gender-challenge-4-par-4/
LOCATION:Yea GC
CATEGORIES:Ladies,Mens
END:VEVENT
BEGIN:VEVENT
DTSTART;VALUE=DATE:20250104
DTEND;VALUE=DATE:20250105
DTSTAMP:20260421T223115
CREATED:20240228T044130Z
LAST-MODIFIED:20240228T044130Z
UID:7750-1735948800-1736035199@www.yeagolfclub.com.au
SUMMARY:Stableford
DESCRIPTION:Birdie Hole 11th
URL:https://www.yeagolfclub.com.au/event/stableford-115/
LOCATION:Yea GC
CATEGORIES:Ladies,Mens
END:VEVENT
BEGIN:VEVENT
DTSTART;VALUE=DATE:20250101
DTEND;VALUE=DATE:20250102
DTSTAMP:20260421T223115
CREATED:20240228T044116Z
LAST-MODIFIED:20240228T044116Z
UID:7749-1735689600-1735775999@www.yeagolfclub.com.au
SUMMARY:NEW YEARS DAY
DESCRIPTION:
URL:https://www.yeagolfclub.com.au/event/new-years-day/
LOCATION:Yea GC
CATEGORIES:Ladies,Mens
END:VEVENT
BEGIN:VEVENT
DTSTART;VALUE=DATE:20241228
DTEND;VALUE=DATE:20241229
DTSTAMP:20260421T223115
CREATED:20240228T044116Z
LAST-MODIFIED:20240228T044116Z
UID:7748-1735344000-1735430399@www.yeagolfclub.com.au
SUMMARY:Stableford
DESCRIPTION:
URL:https://www.yeagolfclub.com.au/event/stableford-114/
LOCATION:Yea GC
CATEGORIES:Ladies,Mens
END:VEVENT
BEGIN:VEVENT
DTSTART;VALUE=DATE:20241225
DTEND;VALUE=DATE:20241226
DTSTAMP:20260421T223115
CREATED:20240228T044116Z
LAST-MODIFIED:20240228T044116Z
UID:7747-1735084800-1735171199@www.yeagolfclub.com.au
SUMMARY:XMAS DAY
DESCRIPTION:
URL:https://www.yeagolfclub.com.au/event/xmas-day/
LOCATION:Yea GC
CATEGORIES:Ladies,Mens
END:VEVENT
BEGIN:VEVENT
DTSTART;VALUE=DATE:20241221
DTEND;VALUE=DATE:20241222
DTSTAMP:20260421T223115
CREATED:20240228T044116Z
LAST-MODIFIED:20240228T044116Z
UID:7746-1734739200-1734825599@www.yeagolfclub.com.au
SUMMARY:Stableford
DESCRIPTION:Men – Birdie Hole 2nd
URL:https://www.yeagolfclub.com.au/event/stableford-113/
LOCATION:Yea GC
CATEGORIES:Ladies,Mens
END:VEVENT
BEGIN:VEVENT
DTSTART;VALUE=DATE:20241218
DTEND;VALUE=DATE:20241219
DTSTAMP:20260421T223115
CREATED:20240228T044115Z
LAST-MODIFIED:20240228T044115Z
UID:7745-1734480000-1734566399@www.yeagolfclub.com.au
SUMMARY:Gender Challenge #3- Stableford & Lunch
DESCRIPTION:Come and celebrate with  Xmas Lunch
URL:https://www.yeagolfclub.com.au/event/gender-challenge-3-stableford-lunch/
LOCATION:Yea GC
CATEGORIES:Ladies,Mens
END:VEVENT
BEGIN:VEVENT
DTSTART;VALUE=DATE:20241214
DTEND;VALUE=DATE:20241215
DTSTAMP:20260421T223115
CREATED:20240228T043905Z
LAST-MODIFIED:20240228T043905Z
UID:7744-1734134400-1734220799@www.yeagolfclub.com.au
SUMMARY:Stableford
DESCRIPTION:Men – Birdie Hole 4th
URL:https://www.yeagolfclub.com.au/event/stableford-112/
LOCATION:Yea GC
CATEGORIES:Ladies,Mens
END:VEVENT
BEGIN:VEVENT
DTSTART;VALUE=DATE:20241212
DTEND;VALUE=DATE:20241213
DTSTAMP:20260421T223115
CREATED:20240228T043905Z
LAST-MODIFIED:20240228T043905Z
UID:7743-1733961600-1734047999@www.yeagolfclub.com.au
SUMMARY:Vets (Broadford)
DESCRIPTION:4 Pers Mixed Ambrose & Xmas Breakup
URL:https://www.yeagolfclub.com.au/event/vets-broadford-2/
LOCATION:Broadford GC
CATEGORIES:Veterans
END:VEVENT
BEGIN:VEVENT
DTSTART;VALUE=DATE:20241210
DTEND;VALUE=DATE:20241211
DTSTAMP:20260421T223115
CREATED:20240228T043905Z
LAST-MODIFIED:20241021T104935Z
UID:7742-1733788800-1733875199@www.yeagolfclub.com.au
SUMMARY:Men's End of year trip to Benalla GC -
DESCRIPTION:Pellys Budget &
URL:https://www.yeagolfclub.com.au/event/end-of-year-golf-trip-2/
LOCATION:Yea GC
CATEGORIES:Ladies,Mens
END:VEVENT
END:VCALENDAR