BEGIN:VCALENDAR
VERSION:2.0
PRODID:-//Yea Golf Club - ECPv6.15.17.1//NONSGML v1.0//EN
CALSCALE:GREGORIAN
METHOD:PUBLISH
X-WR-CALNAME:Yea Golf Club
X-ORIGINAL-URL:https://www.yeagolfclub.com.au
X-WR-CALDESC:Events for Yea Golf Club
REFRESH-INTERVAL;VALUE=DURATION:PT1H
X-Robots-Tag:noindex
X-PUBLISHED-TTL:PT1H
BEGIN:VTIMEZONE
TZID:Australia/Melbourne
BEGIN:STANDARD
TZOFFSETFROM:+1100
TZOFFSETTO:+1000
TZNAME:AEST
DTSTART:20240406T160000
END:STANDARD
BEGIN:DAYLIGHT
TZOFFSETFROM:+1000
TZOFFSETTO:+1100
TZNAME:AEDT
DTSTART:20241005T160000
END:DAYLIGHT
BEGIN:STANDARD
TZOFFSETFROM:+1100
TZOFFSETTO:+1000
TZNAME:AEST
DTSTART:20250405T160000
END:STANDARD
BEGIN:DAYLIGHT
TZOFFSETFROM:+1000
TZOFFSETTO:+1100
TZNAME:AEDT
DTSTART:20251004T160000
END:DAYLIGHT
BEGIN:STANDARD
TZOFFSETFROM:+1100
TZOFFSETTO:+1000
TZNAME:AEST
DTSTART:20260404T160000
END:STANDARD
BEGIN:DAYLIGHT
TZOFFSETFROM:+1000
TZOFFSETTO:+1100
TZNAME:AEDT
DTSTART:20261003T160000
END:DAYLIGHT
END:VTIMEZONE
BEGIN:VEVENT
DTSTART;VALUE=DATE:20250409
DTEND;VALUE=DATE:20250410
DTSTAMP:20260423T190153
CREATED:20250209T230724Z
LAST-MODIFIED:20250209T230724Z
UID:8509-1744156800-1744243199@www.yeagolfclub.com.au
SUMMARY:Stableford
DESCRIPTION:Stableford
URL:https://www.yeagolfclub.com.au/event/stableford-122/
LOCATION:Yea GC
CATEGORIES:Ladies,Mens
END:VEVENT
BEGIN:VEVENT
DTSTART;VALUE=DATE:20250407
DTEND;VALUE=DATE:20250408
DTSTAMP:20260423T190153
CREATED:20250209T223058Z
LAST-MODIFIED:20250209T223058Z
UID:8343-1743984000-1744070399@www.yeagolfclub.com.au
SUMMARY:Weekday Pennant - Round 1
DESCRIPTION:
URL:https://www.yeagolfclub.com.au/event/weekday-pennant-round-1-2/
CATEGORIES:Ladies
END:VEVENT
BEGIN:VEVENT
DTSTART;VALUE=DATE:20250406
DTEND;VALUE=DATE:20250407
DTSTAMP:20260423T190153
CREATED:20250209T223058Z
LAST-MODIFIED:20260318T122031Z
UID:8342-1743897600-1743983999@www.yeagolfclub.com.au
SUMMARY:Sunday Pennant - Round 3  / Romsey Junior Event
DESCRIPTION:
URL:https://www.yeagolfclub.com.au/event/sunday-pennant-round-3-romsey-junior-event/
CATEGORIES:Juniors,Mens
END:VEVENT
BEGIN:VEVENT
DTSTART;VALUE=DATE:20250405
DTEND;VALUE=DATE:20250406
DTSTAMP:20260423T190153
CREATED:20250209T230717Z
LAST-MODIFIED:20250209T230717Z
UID:8508-1743811200-1743897599@www.yeagolfclub.com.au
SUMMARY:Barry Moore Trophy - Stableford BH 16th -  Final Rnd @ Ladies Stableford
DESCRIPTION:Men Final Round of Barry Moore Trophy
URL:https://www.yeagolfclub.com.au/event/barry-moore-trophy-stableford-bh-16th-final-rnd-ladies-stableford/
LOCATION:Yea GC
CATEGORIES:Ladies,Mens
END:VEVENT
BEGIN:VEVENT
DTSTART;VALUE=DATE:20250403
DTEND;VALUE=DATE:20250404
DTSTAMP:20260423T190153
CREATED:20250209T223147Z
LAST-MODIFIED:20250209T223147Z
UID:8364-1743638400-1743724799@www.yeagolfclub.com.au
SUMMARY:Romsey Bowl
DESCRIPTION:
URL:https://www.yeagolfclub.com.au/event/romsey-bowl-4/
LOCATION:Romsey GC
CATEGORIES:Ladies
END:VEVENT
BEGIN:VEVENT
DTSTART;VALUE=DATE:20250402
DTEND;VALUE=DATE:20250403
DTSTAMP:20260423T190153
CREATED:20250209T223234Z
LAST-MODIFIED:20250209T223234Z
UID:8394-1743552000-1743638399@www.yeagolfclub.com.au
SUMMARY:Kath Homewood - 36 Hole Aggregate - Rnd #1 / Stableford
DESCRIPTION:Ladies First of two 18 hole stroke events
URL:https://www.yeagolfclub.com.au/event/kath-homewood-36-hole-aggregate-rnd-1-stableford/
LOCATION:Yea GC
CATEGORIES:Ladies,Mens
END:VEVENT
BEGIN:VEVENT
DTSTART;VALUE=DATE:20250401
DTEND;VALUE=DATE:20250402
DTSTAMP:20260423T190153
CREATED:20250209T223143Z
LAST-MODIFIED:20250209T223143Z
UID:8359-1743465600-1743551999@www.yeagolfclub.com.au
SUMMARY:Autumn Tournament - Shepparton
DESCRIPTION:
URL:https://www.yeagolfclub.com.au/event/autumn-tournament-shepparton-2/
CATEGORIES:Mens
END:VEVENT
BEGIN:VEVENT
DTSTART;VALUE=DATE:20250331
DTEND;VALUE=DATE:20250401
DTSTAMP:20260423T190153
CREATED:20250209T223143Z
LAST-MODIFIED:20250209T223143Z
UID:8358-1743379200-1743465599@www.yeagolfclub.com.au
SUMMARY:Autumn Tournament - Shepparton
DESCRIPTION:
URL:https://www.yeagolfclub.com.au/event/autumn-tournament-shepparton/
CATEGORIES:Mens
END:VEVENT
BEGIN:VEVENT
DTSTART;VALUE=DATE:20250330
DTEND;VALUE=DATE:20250331
DTSTAMP:20260423T190153
CREATED:20250209T223057Z
LAST-MODIFIED:20250209T223057Z
UID:8341-1743292800-1743379199@www.yeagolfclub.com.au
SUMMARY:Sunday Pennant -  Round 2
DESCRIPTION:Stroke
URL:https://www.yeagolfclub.com.au/event/sunday-pennant-round-2/
CATEGORIES:Mens
END:VEVENT
BEGIN:VEVENT
DTSTART;VALUE=DATE:20250329
DTEND;VALUE=DATE:20250330
DTSTAMP:20260423T190153
CREATED:20250209T223234Z
LAST-MODIFIED:20250209T223234Z
UID:8393-1743206400-1743292799@www.yeagolfclub.com.au
SUMMARY:Stableford - Mixed
DESCRIPTION:
URL:https://www.yeagolfclub.com.au/event/stableford-mixed-2/
LOCATION:Yea GC
CATEGORIES:Mixed
END:VEVENT
BEGIN:VEVENT
DTSTART;VALUE=DATE:20250327
DTEND;VALUE=DATE:20250328
DTSTAMP:20260423T190153
CREATED:20250209T230716Z
LAST-MODIFIED:20260318T122013Z
UID:8504-1743033600-1743119999@www.yeagolfclub.com.au
SUMMARY:Marysville - Sandy Wilson Bowl @ Vets (Strathbogie)
DESCRIPTION:
URL:https://www.yeagolfclub.com.au/event/marysville-sandy-wilson-bowl-vets-strathbogie/
LOCATION:Marysville GC
CATEGORIES:Ladies,Veterans
END:VEVENT
BEGIN:VEVENT
DTSTART;VALUE=DATE:20250326
DTEND;VALUE=DATE:20250327
DTSTAMP:20260423T190153
CREATED:20250209T223234Z
LAST-MODIFIED:20250209T223234Z
UID:8392-1742947200-1743033599@www.yeagolfclub.com.au
SUMMARY:Stableford
DESCRIPTION:
URL:https://www.yeagolfclub.com.au/event/stableford-118/
LOCATION:Yea GC
CATEGORIES:Ladies,Mens
END:VEVENT
BEGIN:VEVENT
DTSTART;VALUE=DATE:20250324
DTEND;VALUE=DATE:20250325
DTSTAMP:20260423T190153
CREATED:20250209T231157Z
LAST-MODIFIED:20250209T231157Z
UID:8532-1742774400-1742860799@www.yeagolfclub.com.au
SUMMARY:Yarrawonga Golf Trip - 3 Stableford Rounds over 4 days
DESCRIPTION:
URL:https://www.yeagolfclub.com.au/event/yarrawonga-golf-trip-3-stableford-rounds-over-4-days/
CATEGORIES:Ladies,Mens
END:VEVENT
BEGIN:VEVENT
DTSTART;VALUE=DATE:20250323
DTEND;VALUE=DATE:20250324
DTSTAMP:20260423T190153
CREATED:20250209T223057Z
LAST-MODIFIED:20250209T223057Z
UID:8340-1742688000-1742774399@www.yeagolfclub.com.au
SUMMARY:Sunday Pennant - Round 1 (Strathbogie)
DESCRIPTION:
URL:https://www.yeagolfclub.com.au/event/sunday-pennant-round-1-strathbogie-2/
LOCATION:Strathbogie GC
CATEGORIES:Mens
END:VEVENT
BEGIN:VEVENT
DTSTART;VALUE=DATE:20250322
DTEND;VALUE=DATE:20250323
DTSTAMP:20260423T190153
CREATED:20250209T223234Z
LAST-MODIFIED:20250209T223234Z
UID:8391-1742601600-1742687999@www.yeagolfclub.com.au
SUMMARY:Men Monthly Medal\, Sichlau Trophy Rnd 1  BH 16th @ Ladies Stfd
DESCRIPTION:Stroke & Putting / Rnd 1  Sichlau Trophy (Birdie Hole 10th) Men 6 round event  Four best nett rounds to count. If a tie there will be an 18 hole play off.If  scores are reman tied a count back   Handicap is as at date of play
URL:https://www.yeagolfclub.com.au/event/men-monthly-medal-sichlau-trophy-rnd-1-bh-16th-ladies-stfd/
LOCATION:Yea GC
CATEGORIES:Ladies,Mens
END:VEVENT
BEGIN:VEVENT
DTSTART;VALUE=DATE:20250320
DTEND;VALUE=DATE:20250321
DTSTAMP:20260423T190153
CREATED:20250209T223147Z
LAST-MODIFIED:20250209T223147Z
UID:8367-1742428800-1742515199@www.yeagolfclub.com.au
SUMMARY:Seymour GC - Phyllis Williams Bowl
DESCRIPTION:
URL:https://www.yeagolfclub.com.au/event/seymour-gc-phyllis-williams-bowl/
LOCATION:Seymour GC
CATEGORIES:Ladies
END:VEVENT
BEGIN:VEVENT
DTSTART;VALUE=DATE:20250319
DTEND;VALUE=DATE:20250320
DTSTAMP:20260423T190153
CREATED:20250209T223234Z
LAST-MODIFIED:20250209T223234Z
UID:8390-1742342400-1742428799@www.yeagolfclub.com.au
SUMMARY:Ladies Monthly Medal #2 / Stableford
DESCRIPTION:Stroke & Putting / Stableford
URL:https://www.yeagolfclub.com.au/event/ladies-monthly-medal-2-stableford/
LOCATION:Yea GC
CATEGORIES:Ladies,Mens
END:VEVENT
BEGIN:VEVENT
DTSTART;VALUE=DATE:20250318
DTEND;VALUE=DATE:20250319
DTSTAMP:20260423T190153
CREATED:20250209T230715Z
LAST-MODIFIED:20260318T122013Z
UID:8500-1742256000-1742342399@www.yeagolfclub.com.au
SUMMARY:Vets (4BBB State Champs @ Lakes Entrance)
DESCRIPTION:
URL:https://www.yeagolfclub.com.au/event/vets-4bbb-state-champs-lakes-entrance-2/
LOCATION:Lakes Entrance GC
CATEGORIES:Veterans
END:VEVENT
BEGIN:VEVENT
DTSTART;VALUE=DATE:20250317
DTEND;VALUE=DATE:20250318
DTSTAMP:20260423T190153
CREATED:20250209T230715Z
LAST-MODIFIED:20260318T122013Z
UID:8499-1742169600-1742255999@www.yeagolfclub.com.au
SUMMARY:Vets (4BBB State Champs @ Lakes Entrance)
DESCRIPTION:
URL:https://www.yeagolfclub.com.au/event/vets-4bbb-state-champs-lakes-entrance/
LOCATION:Lakes Entrance GC
CATEGORIES:Veterans
END:VEVENT
BEGIN:VEVENT
DTSTART;VALUE=DATE:20250316
DTEND;VALUE=DATE:20250317
DTSTAMP:20260423T190153
CREATED:20250209T223057Z
LAST-MODIFIED:20250209T223057Z
UID:8339-1742083200-1742169599@www.yeagolfclub.com.au
SUMMARY:Euroa - Country Teams Ambrose
DESCRIPTION:
URL:https://www.yeagolfclub.com.au/event/euroa-country-teams-ambrose/
CATEGORIES:Mens
END:VEVENT
BEGIN:VEVENT
DTSTART;VALUE=DATE:20250315
DTEND;VALUE=DATE:20250316
DTSTAMP:20260423T190153
CREATED:20250209T223219Z
LAST-MODIFIED:20250209T223219Z
UID:8387-1741996800-1742083199@www.yeagolfclub.com.au
SUMMARY:Barry Moore Trophy - Stableford - 1st Rnd-  BH 14th  @ Ladies Stableford
DESCRIPTION:Played over two 18 hole Rounds  – B/Hole 14th
URL:https://www.yeagolfclub.com.au/event/barry-moore-trophy-stableford-1st-rnd-bh-14th-ladies-stableford/
LOCATION:Yea GC
CATEGORIES:Ladies,Mens
END:VEVENT
BEGIN:VEVENT
DTSTART;VALUE=DATE:20250313
DTEND;VALUE=DATE:20250314
DTSTAMP:20260423T190153
CREATED:20250209T223219Z
LAST-MODIFIED:20250209T223219Z
UID:8383-1741824000-1741910399@www.yeagolfclub.com.au
SUMMARY:Ruby McKenzie Salver - Woodend @ Vets (Eildon)
DESCRIPTION:
URL:https://www.yeagolfclub.com.au/event/ruby-mckenzie-salver-woodend-vets-eildon/
LOCATION:Woodend GC
CATEGORIES:Ladies,Mixed
END:VEVENT
BEGIN:VEVENT
DTSTART;TZID=Australia/Melbourne:20250312T000000
DTEND;TZID=Australia/Melbourne:20250312T000000
DTSTAMP:20260423T190153
CREATED:20250209T223219Z
LAST-MODIFIED:20250209T223219Z
UID:8386-1741737600-1741737600@www.yeagolfclub.com.au
SUMMARY:Silver Spoon Round 1 / Men - Four Stick Stford
DESCRIPTION:Men  choose a max of 4 Clubs for the round
URL:https://www.yeagolfclub.com.au/event/silver-spoon-round-1-men-four-stick-stford/
LOCATION:Yea GC
CATEGORIES:Ladies,Mens
END:VEVENT
BEGIN:VEVENT
DTSTART;VALUE=DATE:20250308
DTEND;VALUE=DATE:20250309
DTSTAMP:20260423T190153
CREATED:20250209T223336Z
LAST-MODIFIED:20250209T223336Z
UID:8444-1741392000-1741478399@www.yeagolfclub.com.au
SUMMARY:Season Opening- Mixed 3 Person Ambrose
DESCRIPTION:
URL:https://www.yeagolfclub.com.au/event/season-opening-mixed-3-person-ambrose-2/
LOCATION:Yea GC
CATEGORIES:Mixed
END:VEVENT
BEGIN:VEVENT
DTSTART;TZID=Australia/Melbourne:20250305T000000
DTEND;TZID=Australia/Melbourne:20250305T000000
DTSTAMP:20260423T190153
CREATED:20250209T223219Z
LAST-MODIFIED:20250209T223219Z
UID:8385-1741132800-1741132800@www.yeagolfclub.com.au
SUMMARY:Ladies Opening Day 2025 - 9 Hole Ambrose @ Men Two Person Irish Stableford
DESCRIPTION:Ladies: 9-Hole Ambrose and Lunch Invite and bring a friend; Members bring a plate to share -Welcome to the Ladies 2024 Golf SeasonMen: Take the best score on 1st nine holes then both on 2nd nine
URL:https://www.yeagolfclub.com.au/event/ladies-opening-day-2025-9-hole-ambrose-men-two-person-irish-stableford/
LOCATION:Yea GC
CATEGORIES:Ladies,Mens
END:VEVENT
BEGIN:VEVENT
DTSTART;VALUE=DATE:20250301
DTEND;VALUE=DATE:20250302
DTSTAMP:20260423T190153
CREATED:20240228T044201Z
LAST-MODIFIED:20250209T030319Z
UID:7763-1740787200-1740873599@www.yeagolfclub.com.au
SUMMARY:Murrindindi Masters #4 (Marysville GC)
DESCRIPTION:
URL:https://www.yeagolfclub.com.au/event/murrindindi-masters-4-to-be-confirmed/
LOCATION:Yea GC
CATEGORIES:Ladies,Mens
END:VEVENT
BEGIN:VEVENT
DTSTART;VALUE=DATE:20250226
DTEND;VALUE=DATE:20250227
DTSTAMP:20260423T190153
CREATED:20240228T044236Z
LAST-MODIFIED:20240228T044236Z
UID:7766-1740528000-1740614399@www.yeagolfclub.com.au
SUMMARY:Stableford
DESCRIPTION:
URL:https://www.yeagolfclub.com.au/event/stableford-117/
LOCATION:Yea GC
CATEGORIES:Ladies,Mens
END:VEVENT
BEGIN:VEVENT
DTSTART;VALUE=DATE:20250226
DTEND;VALUE=DATE:20250227
DTSTAMP:20260423T190153
CREATED:20240228T044202Z
LAST-MODIFIED:20250209T030155Z
UID:7764-1740528000-1740614399@www.yeagolfclub.com.au
SUMMARY:Stableford & followed by Gender Lunch
DESCRIPTION:
URL:https://www.yeagolfclub.com.au/event/stableford-followed-by-gender-lunch-5/
LOCATION:Yea GC
CATEGORIES:Ladies,Mens
END:VEVENT
BEGIN:VEVENT
DTSTART;VALUE=DATE:20250223
DTEND;VALUE=DATE:20250224
DTSTAMP:20260423T190153
CREATED:20240228T044201Z
LAST-MODIFIED:20250209T030101Z
UID:7762-1740268800-1740355199@www.yeagolfclub.com.au
SUMMARY:Yea Races (To be confirmed)
DESCRIPTION:
URL:https://www.yeagolfclub.com.au/event/yea-races-to-be-confirmed-10/
LOCATION:Yea GC
CATEGORIES:Social
END:VEVENT
BEGIN:VEVENT
DTSTART;VALUE=DATE:20250222
DTEND;VALUE=DATE:20250223
DTSTAMP:20260423T190153
CREATED:20240228T044236Z
LAST-MODIFIED:20240228T044236Z
UID:7765-1740182400-1740268799@www.yeagolfclub.com.au
SUMMARY:Stableford
DESCRIPTION:Mens – Birdie Hole 6th
URL:https://www.yeagolfclub.com.au/event/stableford-116/
LOCATION:Yea GC
CATEGORIES:Ladies,Mens
END:VEVENT
END:VCALENDAR