BEGIN:VCALENDAR
VERSION:2.0
PRODID:-//Yea Golf Club - ECPv6.15.17.1//NONSGML v1.0//EN
CALSCALE:GREGORIAN
METHOD:PUBLISH
X-WR-CALNAME:Yea Golf Club
X-ORIGINAL-URL:https://www.yeagolfclub.com.au
X-WR-CALDESC:Events for Yea Golf Club
REFRESH-INTERVAL;VALUE=DURATION:PT1H
X-Robots-Tag:noindex
X-PUBLISHED-TTL:PT1H
BEGIN:VTIMEZONE
TZID:Australia/Melbourne
BEGIN:STANDARD
TZOFFSETFROM:+1100
TZOFFSETTO:+1000
TZNAME:AEST
DTSTART:20250405T160000
END:STANDARD
BEGIN:DAYLIGHT
TZOFFSETFROM:+1000
TZOFFSETTO:+1100
TZNAME:AEDT
DTSTART:20251004T160000
END:DAYLIGHT
BEGIN:STANDARD
TZOFFSETFROM:+1100
TZOFFSETTO:+1000
TZNAME:AEST
DTSTART:20260404T160000
END:STANDARD
BEGIN:DAYLIGHT
TZOFFSETFROM:+1000
TZOFFSETTO:+1100
TZNAME:AEDT
DTSTART:20261003T160000
END:DAYLIGHT
BEGIN:STANDARD
TZOFFSETFROM:+1100
TZOFFSETTO:+1000
TZNAME:AEST
DTSTART:20270403T160000
END:STANDARD
BEGIN:DAYLIGHT
TZOFFSETFROM:+1000
TZOFFSETTO:+1100
TZNAME:AEDT
DTSTART:20271002T160000
END:DAYLIGHT
END:VTIMEZONE
BEGIN:VEVENT
DTSTART;VALUE=DATE:20261016
DTEND;VALUE=DATE:20261017
DTSTAMP:20260421T205542
CREATED:20260318T115336Z
LAST-MODIFIED:20260318T115336Z
UID:9188-1792108800-1792195199@www.yeagolfclub.com.au
SUMMARY:Doris Chambers Final 2 (Yering)
DESCRIPTION:
URL:https://www.yeagolfclub.com.au/event/doris-chambers-final-2-yering-2/
LOCATION:Golf Australia
CATEGORIES:Ladies
END:VEVENT
BEGIN:VEVENT
DTSTART;VALUE=DATE:20261017
DTEND;VALUE=DATE:20261018
DTSTAMP:20260421T205542
CREATED:20260318T115336Z
LAST-MODIFIED:20260318T115336Z
UID:9189-1792195200-1792281599@www.yeagolfclub.com.au
SUMMARY:Stroke & Putting / Mens Club Championship - Round 3 (Final)
DESCRIPTION:Stroke
URL:https://www.yeagolfclub.com.au/event/stroke-putting-mens-club-championship-round-3-final-2/
LOCATION:Yea GC
CATEGORIES:Ladies,Mens
END:VEVENT
BEGIN:VEVENT
DTSTART;VALUE=DATE:20261021
DTEND;VALUE=DATE:20261022
DTSTAMP:20260421T205542
CREATED:20260318T115336Z
LAST-MODIFIED:20260318T115336Z
UID:9190-1792540800-1792627199@www.yeagolfclub.com.au
SUMMARY:Ladies Championship Round 2 / Stableford
DESCRIPTION:Stroke & Putting
URL:https://www.yeagolfclub.com.au/event/ladies-championship-round-2-stableford-2/
LOCATION:Yea GC
CATEGORIES:Ladies,Mens
END:VEVENT
BEGIN:VEVENT
DTSTART;VALUE=DATE:20261022
DTEND;VALUE=DATE:20261023
DTSTAMP:20260421T205542
CREATED:20260318T115336Z
LAST-MODIFIED:20260318T115336Z
UID:9191-1792627200-1792713599@www.yeagolfclub.com.au
SUMMARY:Doris Chambers Final 2 / Trentham Ladies Tournament
DESCRIPTION:
URL:https://www.yeagolfclub.com.au/event/doris-chambers-final-2-trentham-ladies-tournament-2/
LOCATION:Trentham GC
CATEGORIES:Ladies
END:VEVENT
BEGIN:VEVENT
DTSTART;VALUE=DATE:20261024
DTEND;VALUE=DATE:20261025
DTSTAMP:20260421T205542
CREATED:20260318T115336Z
LAST-MODIFIED:20260318T115336Z
UID:9192-1792800000-1792886399@www.yeagolfclub.com.au
SUMMARY:Stableford / AH Smith Trophy Round 1 - 36 Hole Stableford BH 18th
DESCRIPTION:Next round is 2 November – Birdie Hole 18th
URL:https://www.yeagolfclub.com.au/event/stableford-ah-smith-trophy-round-1-36-hole-stableford-bh-18th-2/
LOCATION:Yea GC
CATEGORIES:Ladies,Mens
END:VEVENT
BEGIN:VEVENT
DTSTART;VALUE=DATE:20261026
DTEND;VALUE=DATE:20261027
DTSTAMP:20260421T205542
CREATED:20260318T115537Z
LAST-MODIFIED:20260318T115537Z
UID:9194-1792972800-1793059199@www.yeagolfclub.com.au
SUMMARY:Vets(Broadford) Hume Challenge
DESCRIPTION:
URL:https://www.yeagolfclub.com.au/event/vetsbroadford-hume-challenge/
LOCATION:Broadford GC
CATEGORIES:Ladies,Mens
END:VEVENT
BEGIN:VEVENT
DTSTART;VALUE=DATE:20261028
DTEND;VALUE=DATE:20261029
DTSTAMP:20260421T205542
CREATED:20260318T115537Z
LAST-MODIFIED:20260318T115537Z
UID:9195-1793145600-1793231999@www.yeagolfclub.com.au
SUMMARY:Ladies Championship Rnd 3 / Alternate shots - Foursomes
DESCRIPTION:
URL:https://www.yeagolfclub.com.au/event/ladies-championship-rnd-3-alternate-shots-foursomes-2/
LOCATION:Yea GC
CATEGORIES:Ladies,Mens
END:VEVENT
BEGIN:VEVENT
DTSTART;VALUE=DATE:20261029
DTEND;VALUE=DATE:20261030
DTSTAMP:20260421T205542
CREATED:20260318T115537Z
LAST-MODIFIED:20260318T121945Z
UID:9196-1793232000-1793318399@www.yeagolfclub.com.au
SUMMARY:Mt William Cup\, Lancefield
DESCRIPTION:
URL:https://www.yeagolfclub.com.au/event/mt-william-cup-lancefield-3/
LOCATION:Lancefield GC
CATEGORIES:Ladies,Veterans
END:VEVENT
BEGIN:VEVENT
DTSTART;VALUE=DATE:20261030
DTEND;VALUE=DATE:20261031
DTSTAMP:20260421T205542
CREATED:20260318T115537Z
LAST-MODIFIED:20260318T115537Z
UID:9197-1793318400-1793404799@www.yeagolfclub.com.au
SUMMARY:AH Smith Trophy Round 2 of 36 Hole Stableford - BH 4th / Stableford
DESCRIPTION:Birdie Hole 4th
URL:https://www.yeagolfclub.com.au/event/ah-smith-trophy-round-2-of-36-hole-stableford-bh-4th-stableford-2/
LOCATION:Yea GC
CATEGORIES:Ladies,Mens
END:VEVENT
BEGIN:VEVENT
DTSTART;VALUE=DATE:20261103
DTEND;VALUE=DATE:20261104
DTSTAMP:20260421T205542
CREATED:20260318T115537Z
LAST-MODIFIED:20260318T115537Z
UID:9198-1793664000-1793750399@www.yeagolfclub.com.au
SUMMARY:Melbourne Cup Day Event - 4 person Stableford
DESCRIPTION:
URL:https://www.yeagolfclub.com.au/event/melbourne-cup-day-event-4-person-stableford-3/
LOCATION:Yea GC
CATEGORIES:Mixed
END:VEVENT
BEGIN:VEVENT
DTSTART;VALUE=DATE:20261104
DTEND;VALUE=DATE:20261105
DTSTAMP:20260421T205542
CREATED:20260318T115738Z
LAST-MODIFIED:20260318T115738Z
UID:9199-1793750400-1793836799@www.yeagolfclub.com.au
SUMMARY:Stableford  - 22 Pairs
DESCRIPTION:Two players playing individual stableford with their points on each hole earning a combined number determining their result   If either player earns 0 or 1 then that means the team can only receive a low outcome: ie. 01-02-03-04-05     11-12-13-14-15If both score 2 then they receive a Pair 22 result    If they score better than 22 they receive a high outcome: ie.32-33   42-43-etc
URL:https://www.yeagolfclub.com.au/event/stableford-22-pairs-17/
LOCATION:Yea GC
CATEGORIES:Ladies,Mens
END:VEVENT
BEGIN:VEVENT
DTSTART;VALUE=DATE:20261107
DTEND;VALUE=DATE:20261108
DTSTAMP:20260421T205542
CREATED:20260318T115738Z
LAST-MODIFIED:20260318T115738Z
UID:9200-1794009600-1794095999@www.yeagolfclub.com.au
SUMMARY:Yea Races  (TBC)
DESCRIPTION:
URL:https://www.yeagolfclub.com.au/event/yea-races-tbc/
END:VEVENT
BEGIN:VEVENT
DTSTART;VALUE=DATE:20261108
DTEND;VALUE=DATE:20261109
DTSTAMP:20260421T205542
CREATED:20260318T115738Z
LAST-MODIFIED:20260318T115738Z
UID:9201-1794096000-1794182399@www.yeagolfclub.com.au
SUMMARY:Marysville Tournament
DESCRIPTION:
URL:https://www.yeagolfclub.com.au/event/marysville-tournament-7/
LOCATION:Marysville GC
CATEGORIES:Ladies
END:VEVENT
BEGIN:VEVENT
DTSTART;VALUE=DATE:20261109
DTEND;VALUE=DATE:20261110
DTSTAMP:20260421T205542
CREATED:20260318T115738Z
LAST-MODIFIED:20260318T115738Z
UID:9202-1794182400-1794268799@www.yeagolfclub.com.au
SUMMARY:Vets State Championships - Horsham
DESCRIPTION:
URL:https://www.yeagolfclub.com.au/event/vets-state-championships-horsham/
LOCATION:Horsham GC
CATEGORIES:Mens
END:VEVENT
BEGIN:VEVENT
DTSTART;VALUE=DATE:20261110
DTEND;VALUE=DATE:20261111
DTSTAMP:20260421T205542
CREATED:20260318T115738Z
LAST-MODIFIED:20260318T121945Z
UID:9203-1794268800-1794355199@www.yeagolfclub.com.au
SUMMARY:Vets State Championships - Horsham
DESCRIPTION:
URL:https://www.yeagolfclub.com.au/event/vets-state-championships-horsham-2/
LOCATION:Horsham GC
CATEGORIES:Veterans
END:VEVENT
BEGIN:VEVENT
DTSTART;VALUE=DATE:20261111
DTEND;VALUE=DATE:20261112
DTSTAMP:20260421T205542
CREATED:20260318T115939Z
LAST-MODIFIED:20260318T115939Z
UID:9204-1794355200-1794441599@www.yeagolfclub.com.au
SUMMARY:Stroke  & Putting
DESCRIPTION:
URL:https://www.yeagolfclub.com.au/event/stroke-putting-29/
LOCATION:Yea GC
CATEGORIES:Ladies,Mens
END:VEVENT
BEGIN:VEVENT
DTSTART;VALUE=DATE:20261112
DTEND;VALUE=DATE:20261113
DTSTAMP:20260421T205542
CREATED:20260318T115939Z
LAST-MODIFIED:20260318T115939Z
UID:9205-1794441600-1794527999@www.yeagolfclub.com.au
SUMMARY:Gwen Stammers Tournament / Vets (Strathbogie)
DESCRIPTION:
URL:https://www.yeagolfclub.com.au/event/gwen-stammers-tournament-vets-strathbogie/
CATEGORIES:Ladies
END:VEVENT
BEGIN:VEVENT
DTSTART;VALUE=DATE:20261114
DTEND;VALUE=DATE:20261115
DTSTAMP:20260421T205542
CREATED:20260318T115939Z
LAST-MODIFIED:20260318T115939Z
UID:9206-1794614400-1794700799@www.yeagolfclub.com.au
SUMMARY:Murrindindi  Masters #1 (Yea)??
DESCRIPTION:Stableford
URL:https://www.yeagolfclub.com.au/event/murrindindi-masters-1-yea/
LOCATION:Yea GC
CATEGORIES:Ladies,Mens
END:VEVENT
BEGIN:VEVENT
DTSTART;VALUE=DATE:20261115
DTEND;VALUE=DATE:20261116
DTSTAMP:20260421T205542
CREATED:20260318T115939Z
LAST-MODIFIED:20260318T121539Z
UID:9207-1794700800-1794787199@www.yeagolfclub.com.au
SUMMARY:Romsey Tournament / Woodend Junior
DESCRIPTION:
URL:https://www.yeagolfclub.com.au/event/romsey-tournament-woodend-junior-2/
LOCATION:Romsey GC
CATEGORIES:Juniors,Ladies
END:VEVENT
BEGIN:VEVENT
DTSTART;VALUE=DATE:20261116
DTEND;VALUE=DATE:20261117
DTSTAMP:20260421T205542
CREATED:20260318T115939Z
LAST-MODIFIED:20260318T115939Z
UID:9208-1794787200-1794873599@www.yeagolfclub.com.au
SUMMARY:Silver Spoon Final )
DESCRIPTION:
URL:https://www.yeagolfclub.com.au/event/silver-spoon-final-3/
LOCATION:Golf Australia
CATEGORIES:Ladies
END:VEVENT
BEGIN:VEVENT
DTSTART;VALUE=DATE:20261118
DTEND;VALUE=DATE:20261119
DTSTAMP:20260421T205542
CREATED:20260318T115955Z
LAST-MODIFIED:20260318T115955Z
UID:9209-1794960000-1795046399@www.yeagolfclub.com.au
SUMMARY:Ladies Championship Round 4 / Par
DESCRIPTION:Stroke
URL:https://www.yeagolfclub.com.au/event/ladies-championship-round-4-par-2/
LOCATION:Yea GC
CATEGORIES:Ladies,Mens
END:VEVENT
BEGIN:VEVENT
DTSTART;VALUE=DATE:20261119
DTEND;VALUE=DATE:20261120
DTSTAMP:20260421T205542
CREATED:20260318T115955Z
LAST-MODIFIED:20260318T115955Z
UID:9210-1795046400-1795132799@www.yeagolfclub.com.au
SUMMARY:Kilmore Bowl
DESCRIPTION:
URL:https://www.yeagolfclub.com.au/event/kilmore-bowl-6/
LOCATION:Kilmore GC
CATEGORIES:Ladies
END:VEVENT
BEGIN:VEVENT
DTSTART;VALUE=DATE:20261121
DTEND;VALUE=DATE:20261122
DTSTAMP:20260421T205542
CREATED:20260318T115955Z
LAST-MODIFIED:20260318T115955Z
UID:9211-1795219200-1795305599@www.yeagolfclub.com.au
SUMMARY:Mens Monthly Medal & Sichlau Trophy Round 6  -BH 5th  / Stroke
DESCRIPTION:Round 6 Sichlau Trophy – Stroke & Putting – Birdie Hole 5thThis is the final stroke round of 6 for the trophy\, with 4 best nett rounds to count. In the event of a tie there will be a play off over 18 holes and if the scores are tied a count back on the play off round In the event of a round being abandoned the number of rounds to count may be reduced. Handicap as at date of play
URL:https://www.yeagolfclub.com.au/event/mens-monthly-medal-sichlau-trophy-round-6-bh-5th-stroke-2/
LOCATION:Yea GC
CATEGORIES:Ladies,Mens
END:VEVENT
BEGIN:VEVENT
DTSTART;VALUE=DATE:20261122
DTEND;VALUE=DATE:20261123
DTSTAMP:20260421T205542
CREATED:20260318T115955Z
LAST-MODIFIED:20260318T115955Z
UID:9212-1795305600-1795391999@www.yeagolfclub.com.au
SUMMARY:Eildon Tournament
DESCRIPTION:
URL:https://www.yeagolfclub.com.au/event/eildon-tournament-6/
LOCATION:Eildon GC
CATEGORIES:Ladies,Mens
END:VEVENT
BEGIN:VEVENT
DTSTART;VALUE=DATE:20261125
DTEND;VALUE=DATE:20261126
DTSTAMP:20260421T205542
CREATED:20260318T115955Z
LAST-MODIFIED:20260318T115955Z
UID:9213-1795564800-1795651199@www.yeagolfclub.com.au
SUMMARY:Gender Challenge #1 - Stableford
DESCRIPTION:
URL:https://www.yeagolfclub.com.au/event/gender-challenge-1-stableford-6/
LOCATION:Yea GC
CATEGORIES:Ladies,Mens
END:VEVENT
BEGIN:VEVENT
DTSTART;VALUE=DATE:20261126
DTEND;VALUE=DATE:20261127
DTSTAMP:20260421T205542
CREATED:20260318T120149Z
LAST-MODIFIED:20260318T121945Z
UID:9215-1795651200-1795737599@www.yeagolfclub.com.au
SUMMARY:Vets (Yea) & AGM
DESCRIPTION:
URL:https://www.yeagolfclub.com.au/event/vets-yea-agm-2/
LOCATION:Yea GC
CATEGORIES:Veterans
END:VEVENT
BEGIN:VEVENT
DTSTART;VALUE=DATE:20261127
DTEND;VALUE=DATE:20261128
DTSTAMP:20260421T205542
CREATED:20260318T120149Z
LAST-MODIFIED:20260318T120149Z
UID:9216-1795737600-1795823999@www.yeagolfclub.com.au
SUMMARY:Yea Tradies & Corporate Golf Day (TBC)
DESCRIPTION:
URL:https://www.yeagolfclub.com.au/event/yea-tradies-corporate-golf-day-tbc-3/
LOCATION:Yea GC
CATEGORIES:Mixed
END:VEVENT
BEGIN:VEVENT
DTSTART;VALUE=DATE:20261128
DTEND;VALUE=DATE:20261129
DTSTAMP:20260421T205542
CREATED:20260318T120149Z
LAST-MODIFIED:20260318T120149Z
UID:9217-1795824000-1795910399@www.yeagolfclub.com.au
SUMMARY:Stroke / Mens Gold Medal Playoff - BH 9th
DESCRIPTION:Stroke & Putting – Birdie Hole 9thWinners of Monthly Medals in previous 12 months\, January to November play for Gold Medal\nBest nett score. Count back system to apply. Handicap as at day of play
URL:https://www.yeagolfclub.com.au/event/stroke-mens-gold-medal-playoff-bh-9th-2/
LOCATION:Yea GC
CATEGORIES:Ladies,Mens
END:VEVENT
BEGIN:VEVENT
DTSTART;VALUE=DATE:20261129
DTEND;VALUE=DATE:20261130
DTSTAMP:20260421T205542
CREATED:20260318T120149Z
LAST-MODIFIED:20260318T120149Z
UID:9218-1795910400-1795996799@www.yeagolfclub.com.au
SUMMARY:District Championships @ Yea??
DESCRIPTION:
URL:https://www.yeagolfclub.com.au/event/district-championships-yea/
LOCATION:Yea GC
CATEGORIES:Mens
END:VEVENT
BEGIN:VEVENT
DTSTART;VALUE=DATE:20261201
DTEND;VALUE=DATE:20261202
DTSTAMP:20260421T205542
CREATED:20260318T120150Z
LAST-MODIFIED:20260318T120150Z
UID:9219-1796083200-1796169599@www.yeagolfclub.com.au
SUMMARY:Mens Christmas Outing
DESCRIPTION:
URL:https://www.yeagolfclub.com.au/event/mens-christmas-outing-2/
CATEGORIES:Mens
END:VEVENT
END:VCALENDAR