BEGIN:VCALENDAR
VERSION:2.0
PRODID:-//Yea Golf Club - ECPv6.15.17.1//NONSGML v1.0//EN
CALSCALE:GREGORIAN
METHOD:PUBLISH
X-WR-CALNAME:Yea Golf Club
X-ORIGINAL-URL:https://www.yeagolfclub.com.au
X-WR-CALDESC:Events for Yea Golf Club
REFRESH-INTERVAL;VALUE=DURATION:PT1H
X-Robots-Tag:noindex
X-PUBLISHED-TTL:PT1H
BEGIN:VTIMEZONE
TZID:Australia/Melbourne
BEGIN:STANDARD
TZOFFSETFROM:+1100
TZOFFSETTO:+1000
TZNAME:AEST
DTSTART:20240406T160000
END:STANDARD
BEGIN:DAYLIGHT
TZOFFSETFROM:+1000
TZOFFSETTO:+1100
TZNAME:AEDT
DTSTART:20241005T160000
END:DAYLIGHT
BEGIN:STANDARD
TZOFFSETFROM:+1100
TZOFFSETTO:+1000
TZNAME:AEST
DTSTART:20250405T160000
END:STANDARD
BEGIN:DAYLIGHT
TZOFFSETFROM:+1000
TZOFFSETTO:+1100
TZNAME:AEDT
DTSTART:20251004T160000
END:DAYLIGHT
BEGIN:STANDARD
TZOFFSETFROM:+1100
TZOFFSETTO:+1000
TZNAME:AEST
DTSTART:20260404T160000
END:STANDARD
BEGIN:DAYLIGHT
TZOFFSETFROM:+1000
TZOFFSETTO:+1100
TZNAME:AEDT
DTSTART:20261003T160000
END:DAYLIGHT
END:VTIMEZONE
BEGIN:VEVENT
DTSTART;VALUE=DATE:20250625
DTEND;VALUE=DATE:20250626
DTSTAMP:20260421T180756
CREATED:20250209T223504Z
LAST-MODIFIED:20250209T223504Z
UID:8450-1750809600-1750895999@www.yeagolfclub.com.au
SUMMARY:Silver Spoon Round 3 / Stableford
DESCRIPTION:Stableford
URL:https://www.yeagolfclub.com.au/event/silver-spoon-round-3-stableford/
LOCATION:Yea GC
CATEGORIES:Ladies,Mens
END:VEVENT
BEGIN:VEVENT
DTSTART;VALUE=DATE:20250621
DTEND;VALUE=DATE:20250622
DTSTAMP:20260421T180756
CREATED:20250209T230956Z
LAST-MODIFIED:20250209T230956Z
UID:8528-1750464000-1750550399@www.yeagolfclub.com.au
SUMMARY:4BBB
DESCRIPTION:Men – Birdie Hole 13th
URL:https://www.yeagolfclub.com.au/event/4bbb/
LOCATION:Yea GC
CATEGORIES:Mixed
END:VEVENT
BEGIN:VEVENT
DTSTART;VALUE=DATE:20250620
DTEND;VALUE=DATE:20250621
DTSTAMP:20260421T180756
CREATED:20250209T230956Z
LAST-MODIFIED:20250209T230956Z
UID:8527-1750377600-1750463999@www.yeagolfclub.com.au
SUMMARY:Mens  Knockout - 2nd round to be completed by now
DESCRIPTION:Second round to be completed by now
URL:https://www.yeagolfclub.com.au/event/mens-knockout-2nd-round-to-be-completed-by-now-4/
LOCATION:Yea GC
CATEGORIES:Mens
END:VEVENT
BEGIN:VEVENT
DTSTART;VALUE=DATE:20250618
DTEND;VALUE=DATE:20250619
DTSTAMP:20260421T180756
CREATED:20250209T230956Z
LAST-MODIFIED:20250209T230956Z
UID:8526-1750204800-1750291199@www.yeagolfclub.com.au
SUMMARY:Par / Bisque Par
DESCRIPTION:Played against Par but with the allowable strokes taken wherever the player wishes-not as set on the card   Strokes taken must be decided upon when marking the card hole by hole- not at the conclusion of the round
URL:https://www.yeagolfclub.com.au/event/par-bisque-par-2/
LOCATION:Yea GC
CATEGORIES:Ladies,Mens
END:VEVENT
BEGIN:VEVENT
DTSTART;VALUE=DATE:20250614
DTEND;VALUE=DATE:20250615
DTSTAMP:20260421T180756
CREATED:20250209T230956Z
LAST-MODIFIED:20250209T230956Z
UID:8525-1749859200-1749945599@www.yeagolfclub.com.au
SUMMARY:Stableford
DESCRIPTION:Men  – Birdie Hole 18th
URL:https://www.yeagolfclub.com.au/event/stableford-124/
LOCATION:Yea GC
CATEGORIES:Ladies,Mens
END:VEVENT
BEGIN:VEVENT
DTSTART;VALUE=DATE:20250612
DTEND;VALUE=DATE:20250613
DTSTAMP:20260421T180756
CREATED:20250209T223055Z
LAST-MODIFIED:20260318T122001Z
UID:8333-1749686400-1749772799@www.yeagolfclub.com.au
SUMMARY:Mabel Vearing Silver Salver / Vets (Broadford)
DESCRIPTION:
URL:https://www.yeagolfclub.com.au/event/mabel-vearing-silver-salver-vets-broadford/
LOCATION:Avenel GC
CATEGORIES:Ladies,Veterans
END:VEVENT
BEGIN:VEVENT
DTSTART;VALUE=DATE:20250611
DTEND;VALUE=DATE:20250612
DTSTAMP:20260421T180756
CREATED:20250209T230956Z
LAST-MODIFIED:20250209T230956Z
UID:8524-1749600000-1749686399@www.yeagolfclub.com.au
SUMMARY:Stableford / Mona Clark Round 2
DESCRIPTION:Stableford
URL:https://www.yeagolfclub.com.au/event/stableford-mona-clark-round-2/
LOCATION:Yea GC
CATEGORIES:Ladies,Mens
END:VEVENT
BEGIN:VEVENT
DTSTART;VALUE=DATE:20250607
DTEND;VALUE=DATE:20250608
DTSTAMP:20260421T180756
CREATED:20250209T223352Z
LAST-MODIFIED:20250209T223352Z
UID:8448-1749254400-1749340799@www.yeagolfclub.com.au
SUMMARY:Prideaux Cup - Final Round - BH 9th / Stableford  / Kyabram Par 3 - Men
DESCRIPTION:Final round of Prideaux Cup – Birdie Hole 9th
URL:https://www.yeagolfclub.com.au/event/prideaux-cup-final-round-bh-9th-stableford-kyabram-par-3-men/
LOCATION:Yea GC
CATEGORIES:Ladies,Mens
END:VEVENT
BEGIN:VEVENT
DTSTART;VALUE=DATE:20250604
DTEND;VALUE=DATE:20250605
DTSTAMP:20260421T180756
CREATED:20250209T230755Z
LAST-MODIFIED:20250209T230755Z
UID:8523-1748995200-1749081599@www.yeagolfclub.com.au
SUMMARY:Stroke  & Putting / Ladies Monthly Medal #5
DESCRIPTION:Stroke & Putting
URL:https://www.yeagolfclub.com.au/event/stroke-putting-ladies-monthly-medal-5/
LOCATION:Yea GC
CATEGORIES:Ladies,Mens
END:VEVENT
BEGIN:VEVENT
DTSTART;VALUE=DATE:20250601
DTEND;VALUE=DATE:20250602
DTSTAMP:20260421T180756
CREATED:20250209T223143Z
LAST-MODIFIED:20250209T223143Z
UID:8360-1748736000-1748822399@www.yeagolfclub.com.au
SUMMARY:Kyabram Par 3 - Ladies
DESCRIPTION:
URL:https://www.yeagolfclub.com.au/event/kyabram-par-3-ladies-2/
CATEGORIES:Ladies
END:VEVENT
BEGIN:VEVENT
DTSTART;VALUE=DATE:20250531
DTEND;VALUE=DATE:20250601
DTSTAMP:20260421T180756
CREATED:20250209T223352Z
LAST-MODIFIED:20250209T223352Z
UID:8447-1748649600-1748735999@www.yeagolfclub.com.au
SUMMARY:Mens Monthly Medal / Kyabram Par 3 - Ladies
DESCRIPTION:Stroke and Putting
URL:https://www.yeagolfclub.com.au/event/mens-monthly-medal-kyabram-par-3-ladies/
LOCATION:Yea GC
CATEGORIES:Ladies,Mens
END:VEVENT
BEGIN:VEVENT
DTSTART;VALUE=DATE:20250529
DTEND;VALUE=DATE:20250530
DTSTAMP:20260421T180756
CREATED:20250209T223056Z
LAST-MODIFIED:20260318T122001Z
UID:8336-1748476800-1748563199@www.yeagolfclub.com.au
SUMMARY:Vets (Kilmore 2 Pers Ambrose)
DESCRIPTION:
URL:https://www.yeagolfclub.com.au/event/vets-kilmore-2-pers-ambrose/
LOCATION:Broadford GC
CATEGORIES:Veterans
END:VEVENT
BEGIN:VEVENT
DTSTART;VALUE=DATE:20250528
DTEND;VALUE=DATE:20250529
DTSTAMP:20260421T180756
CREATED:20250209T230755Z
LAST-MODIFIED:20250209T230755Z
UID:8522-1748390400-1748476799@www.yeagolfclub.com.au
SUMMARY:Stableford / Silver Spoon Round 2
DESCRIPTION:Stableford
URL:https://www.yeagolfclub.com.au/event/stableford-silver-spoon-round-2/
LOCATION:Yea GC
CATEGORIES:Ladies,Mens
END:VEVENT
BEGIN:VEVENT
DTSTART;VALUE=DATE:20250524
DTEND;VALUE=DATE:20250525
DTSTAMP:20260421T180756
CREATED:20250209T230755Z
LAST-MODIFIED:20250209T230755Z
UID:8521-1748044800-1748131199@www.yeagolfclub.com.au
SUMMARY:Prideaux  Cup - 36 Hole Stableford  - Round 1  BH 7th @ Stableford
DESCRIPTION:Round 1 of 2 for Prideaux  Cup – Birdie Hole 7th
URL:https://www.yeagolfclub.com.au/event/prideaux-cup-36-hole-stableford-round-1-bh-7th-stableford/
LOCATION:Yea GC
CATEGORIES:Ladies,Mens
END:VEVENT
BEGIN:VEVENT
DTSTART;VALUE=DATE:20250521
DTEND;VALUE=DATE:20250522
DTSTAMP:20260421T180756
CREATED:20250209T230755Z
LAST-MODIFIED:20250209T230755Z
UID:8520-1747785600-1747871999@www.yeagolfclub.com.au
SUMMARY:Stableford  - 4 Stick Event / Margaret Samblebe Brooch
DESCRIPTION:Play with 4 clubs (only) of your chosing / Stableford
URL:https://www.yeagolfclub.com.au/event/stableford-4-stick-event-margaret-samblebe-brooch/
LOCATION:Yea GC
CATEGORIES:Ladies,Mens
END:VEVENT
BEGIN:VEVENT
DTSTART;VALUE=DATE:20250519
DTEND;VALUE=DATE:20250520
DTSTAMP:20260421T180756
CREATED:20250209T223113Z
LAST-MODIFIED:20260318T122001Z
UID:8349-1747612800-1747699199@www.yeagolfclub.com.au
SUMMARY:Weekday Pennant Final / Vets (Broadford) Interzone
DESCRIPTION:
URL:https://www.yeagolfclub.com.au/event/weekday-pennant-final-vets-broadford-interzone/
LOCATION:Broadford GC
CATEGORIES:Mixed,Veterans
END:VEVENT
BEGIN:VEVENT
DTSTART;VALUE=DATE:20250517
DTEND;VALUE=DATE:20250518
DTSTAMP:20260421T180756
CREATED:20250209T223352Z
LAST-MODIFIED:20250209T223352Z
UID:8446-1747440000-1747526399@www.yeagolfclub.com.au
SUMMARY:NJ Murray Final - Stfd / Broadford 100 Yrs - 4 x Ambr / Mens Cntry Champs @ Cobram-Barooga
DESCRIPTION:
URL:https://www.yeagolfclub.com.au/event/nj-murray-final-stfd-broadford-100-yrs-4-x-ambr-mens-cntry-champs-cobram-barooga/
LOCATION:Yea GC
CATEGORIES:Mens
END:VEVENT
BEGIN:VEVENT
DTSTART;VALUE=DATE:20250515
DTEND;VALUE=DATE:20250516
DTSTAMP:20260421T180756
CREATED:20250209T223055Z
LAST-MODIFIED:20260318T122013Z
UID:8331-1747267200-1747353599@www.yeagolfclub.com.au
SUMMARY:Alexandra Tournament / Vets (Euroa)
DESCRIPTION:
URL:https://www.yeagolfclub.com.au/event/alexandra-tournament-vets-euroa/
LOCATION:Alexandra GC
CATEGORIES:Ladies,Veterans
END:VEVENT
BEGIN:VEVENT
DTSTART;VALUE=DATE:20250514
DTEND;VALUE=DATE:20250515
DTSTAMP:20260421T180756
CREATED:20250209T230755Z
LAST-MODIFIED:20250209T230755Z
UID:8519-1747180800-1747267199@www.yeagolfclub.com.au
SUMMARY:Irish 3 Person - Stableford / Mona Clark Trophy Round 1
DESCRIPTION:Best Score on first 9 holes then both scores on second 9 / Stableford
URL:https://www.yeagolfclub.com.au/event/irish-3-person-stableford-mona-clark-trophy-round-1/
LOCATION:Yea GC
CATEGORIES:Ladies,Mens
END:VEVENT
BEGIN:VEVENT
DTSTART;VALUE=DATE:20250512
DTEND;VALUE=DATE:20250513
DTSTAMP:20260421T180756
CREATED:20250209T223113Z
LAST-MODIFIED:20260318T122013Z
UID:8348-1747008000-1747094399@www.yeagolfclub.com.au
SUMMARY:Weekday Pennant - Round 5
DESCRIPTION:
URL:https://www.yeagolfclub.com.au/event/weekday-pennant-round-5-2/
CATEGORIES:Mixed,Veterans
END:VEVENT
BEGIN:VEVENT
DTSTART;VALUE=DATE:20250510
DTEND;VALUE=DATE:20250511
DTSTAMP:20260421T180756
CREATED:20250209T230740Z
LAST-MODIFIED:20250209T230740Z
UID:8518-1746835200-1746921599@www.yeagolfclub.com.au
SUMMARY:NJ Murray Trophy  - 1st Round - Stableford  BH 1st / Stableford
DESCRIPTION:As for AH Smith Trophy – A 36 hole Event played over two rounds – Birdie Hole on 1st
URL:https://www.yeagolfclub.com.au/event/nj-murray-trophy-1st-round-stableford-bh-1st-stableford/
LOCATION:Yea GC
CATEGORIES:Ladies,Mens
END:VEVENT
BEGIN:VEVENT
DTSTART;VALUE=DATE:20250508
DTEND;VALUE=DATE:20250509
DTSTAMP:20260421T180756
CREATED:20250209T223219Z
LAST-MODIFIED:20250209T223219Z
UID:8384-1746662400-1746748799@www.yeagolfclub.com.au
SUMMARY:Yea Bowl
DESCRIPTION:
URL:https://www.yeagolfclub.com.au/event/yea-bowl-3/
LOCATION:Yea GC
CATEGORIES:Ladies
END:VEVENT
BEGIN:VEVENT
DTSTART;VALUE=DATE:20250507
DTEND;VALUE=DATE:20250508
DTSTAMP:20260421T180756
CREATED:20250209T230739Z
LAST-MODIFIED:20250209T230739Z
UID:8517-1746576000-1746662399@www.yeagolfclub.com.au
SUMMARY:Stableford / Stableford  - 22 Pairs
DESCRIPTION:Two players playing Individual Stableford with their points on each hole earning a combined number determining their result   If either player earns 0 or 1 then that means the team can only receive a low outcome: ie. 01-02-03-04-05 & 11-12-13-14-15 If both score 2 then they receive a Pair 22 result    If they score better than 22 they receive a high outcome: ie.32-33  & 42-43-etc
URL:https://www.yeagolfclub.com.au/event/stableford-stableford-22-pairs/
LOCATION:Yea GC
CATEGORIES:Ladies,Mens
END:VEVENT
BEGIN:VEVENT
DTSTART;VALUE=DATE:20250506
DTEND;VALUE=DATE:20250507
DTSTAMP:20260421T180756
CREATED:20250209T223057Z
LAST-MODIFIED:20260318T122013Z
UID:8338-1746489600-1746575999@www.yeagolfclub.com.au
SUMMARY:Vets (Country Champ) Colac
DESCRIPTION:
URL:https://www.yeagolfclub.com.au/event/vets-country-champ-colac/
CATEGORIES:Veterans
END:VEVENT
BEGIN:VEVENT
DTSTART;VALUE=DATE:20250505
DTEND;VALUE=DATE:20250506
DTSTAMP:20260421T180756
CREATED:20250209T223056Z
LAST-MODIFIED:20260318T122013Z
UID:8337-1746403200-1746489599@www.yeagolfclub.com.au
SUMMARY:Weekday Pennant - Round 4 / Vets (Cntry Champ) Colac
DESCRIPTION:
URL:https://www.yeagolfclub.com.au/event/weekday-pennant-round-4-vets-cntry-champ-colac/
CATEGORIES:Mixed,Veterans
END:VEVENT
BEGIN:VEVENT
DTSTART;VALUE=DATE:20250503
DTEND;VALUE=DATE:20250504
DTSTAMP:20260421T180756
CREATED:20250209T230739Z
LAST-MODIFIED:20250209T230739Z
UID:8516-1746230400-1746316799@www.yeagolfclub.com.au
SUMMARY:Monthly Medal\, Sichlau Trophy- 3rd Rnd   BH 2nd @ Ladies Monthly Medal #4
DESCRIPTION:Stroke & Putting / Round 3 of Sichlau Trophy – Birdie Hole 2nd
URL:https://www.yeagolfclub.com.au/event/monthly-medal-sichlau-trophy-3rd-rnd-bh-2nd-ladies-monthly-medal-4/
LOCATION:Yea GC
CATEGORIES:Ladies,Mens
END:VEVENT
BEGIN:VEVENT
DTSTART;VALUE=DATE:20250501
DTEND;VALUE=DATE:20250502
DTSTAMP:20260421T180756
CREATED:20250209T230715Z
LAST-MODIFIED:20250209T230715Z
UID:8502-1746057600-1746143999@www.yeagolfclub.com.au
SUMMARY:Lancefield Ladies Bowl
DESCRIPTION:
URL:https://www.yeagolfclub.com.au/event/lancefield-ladies-bowl/
LOCATION:Lancefield GC
CATEGORIES:Ladies
END:VEVENT
BEGIN:VEVENT
DTSTART;VALUE=DATE:20250430
DTEND;VALUE=DATE:20250501
DTSTAMP:20260421T180756
CREATED:20250209T230739Z
LAST-MODIFIED:20250209T230739Z
UID:8515-1745971200-1746057599@www.yeagolfclub.com.au
SUMMARY:Kath Homewood Round 2 @ Mens Golf Trip
DESCRIPTION:Ladies final of of two 18 hole stroke events @ Stableford
URL:https://www.yeagolfclub.com.au/event/kath-homewood-round-2-mens-golf-trip/
LOCATION:Yea GC
CATEGORIES:Ladies,Mens
END:VEVENT
BEGIN:VEVENT
DTSTART;VALUE=DATE:20250428
DTEND;VALUE=DATE:20250429
DTSTAMP:20260421T180756
CREATED:20250209T223113Z
LAST-MODIFIED:20250209T223113Z
UID:8347-1745798400-1745884799@www.yeagolfclub.com.au
SUMMARY:Weekday Pennant - Round 3
DESCRIPTION:Stroke
URL:https://www.yeagolfclub.com.au/event/weekday-pennant-round-3-2/
CATEGORIES:Mixed
END:VEVENT
BEGIN:VEVENT
DTSTART;VALUE=DATE:20250427
DTEND;VALUE=DATE:20250428
DTSTAMP:20260421T180756
CREATED:20250209T223113Z
LAST-MODIFIED:20250209T223113Z
UID:8346-1745712000-1745798399@www.yeagolfclub.com.au
SUMMARY:Sunday Pennant - Round 5
DESCRIPTION:Stroke
URL:https://www.yeagolfclub.com.au/event/sunday-pennant-round-5/
CATEGORIES:Mens
END:VEVENT
END:VCALENDAR