BEGIN:VCALENDAR
VERSION:2.0
PRODID:-//Yea Golf Club - ECPv6.15.17.1//NONSGML v1.0//EN
CALSCALE:GREGORIAN
METHOD:PUBLISH
X-WR-CALNAME:Yea Golf Club
X-ORIGINAL-URL:https://www.yeagolfclub.com.au
X-WR-CALDESC:Events for Yea Golf Club
REFRESH-INTERVAL;VALUE=DURATION:PT1H
X-Robots-Tag:noindex
X-PUBLISHED-TTL:PT1H
BEGIN:VTIMEZONE
TZID:Australia/Melbourne
BEGIN:STANDARD
TZOFFSETFROM:+1100
TZOFFSETTO:+1000
TZNAME:AEST
DTSTART:20220402T160000
END:STANDARD
BEGIN:DAYLIGHT
TZOFFSETFROM:+1000
TZOFFSETTO:+1100
TZNAME:AEDT
DTSTART:20221001T160000
END:DAYLIGHT
BEGIN:STANDARD
TZOFFSETFROM:+1100
TZOFFSETTO:+1000
TZNAME:AEST
DTSTART:20230401T160000
END:STANDARD
BEGIN:DAYLIGHT
TZOFFSETFROM:+1000
TZOFFSETTO:+1100
TZNAME:AEDT
DTSTART:20230930T160000
END:DAYLIGHT
BEGIN:STANDARD
TZOFFSETFROM:+1100
TZOFFSETTO:+1000
TZNAME:AEST
DTSTART:20240406T160000
END:STANDARD
BEGIN:DAYLIGHT
TZOFFSETFROM:+1000
TZOFFSETTO:+1100
TZNAME:AEDT
DTSTART:20241005T160000
END:DAYLIGHT
END:VTIMEZONE
BEGIN:VEVENT
DTSTART;VALUE=DATE:20231213
DTEND;VALUE=DATE:20231214
DTSTAMP:20260422T171637
CREATED:20230214T054722Z
LAST-MODIFIED:20230214T054722Z
UID:6728-1702425600-1702511999@www.yeagolfclub.com.au
SUMMARY:Xmas Break Up - 3 Person Ambrose
DESCRIPTION:Come and celebrate with  Xmas Lunch
URL:https://www.yeagolfclub.com.au/event/xmas-break-up-3-person-ambrose-3/
LOCATION:Yea GC
CATEGORIES:Ladies,Mens,Mixed,Social
ORGANIZER;CN="Yea GC":MAILTO:secretary@yeagolfclub.com.au
END:VEVENT
BEGIN:VEVENT
DTSTART;VALUE=DATE:20231210
DTEND;VALUE=DATE:20231211
DTSTAMP:20260422T171637
CREATED:20230214T054722Z
LAST-MODIFIED:20230214T054722Z
UID:6727-1702166400-1702252799@www.yeagolfclub.com.au
SUMMARY:Yea Races
DESCRIPTION:To be confrmed possibly Golf at Strathbogie .
URL:https://www.yeagolfclub.com.au/event/yea-races-5/
CATEGORIES:Ladies,Mens
END:VEVENT
BEGIN:VEVENT
DTSTART;VALUE=DATE:20231210
DTEND;VALUE=DATE:20231211
DTSTAMP:20260422T171637
CREATED:20230214T054721Z
LAST-MODIFIED:20230214T054721Z
UID:6726-1702166400-1702252799@www.yeagolfclub.com.au
SUMMARY:DDGA Junior Event
DESCRIPTION:
URL:https://www.yeagolfclub.com.au/event/ddga-junior-event-3/
CATEGORIES:Juniors
END:VEVENT
BEGIN:VEVENT
DTSTART;VALUE=DATE:20231207
DTEND;VALUE=DATE:20231208
DTSTAMP:20260422T171637
CREATED:20230214T054721Z
LAST-MODIFIED:20230214T054721Z
UID:6725-1701907200-1701993599@www.yeagolfclub.com.au
SUMMARY:Vets - with Xmas Lunch
DESCRIPTION:Vets Membership – Men & Lady Members over 55  Cost – $20
URL:https://www.yeagolfclub.com.au/event/vets-with-xmas-lunch/
LOCATION:Kilmore GC
CATEGORIES:Veterans
END:VEVENT
BEGIN:VEVENT
DTSTART;VALUE=DATE:20231206
DTEND;VALUE=DATE:20231207
DTSTAMP:20260422T171637
CREATED:20230214T054708Z
LAST-MODIFIED:20230214T054708Z
UID:6724-1701820800-1701907199@www.yeagolfclub.com.au
SUMMARY:End of year golf trip
DESCRIPTION:Pelly’s Budget & Jan’s Junket Golf Tours to advise further details
URL:https://www.yeagolfclub.com.au/event/end-of-year-golf-trip/
CATEGORIES:Ladies,Mens
END:VEVENT
BEGIN:VEVENT
DTSTART;VALUE=DATE:20231203
DTEND;VALUE=DATE:20231204
DTSTAMP:20260422T171637
CREATED:20230214T054708Z
LAST-MODIFIED:20230214T054708Z
UID:6723-1701561600-1701647999@www.yeagolfclub.com.au
SUMMARY:Alexandra Tournament
DESCRIPTION:
URL:https://www.yeagolfclub.com.au/event/alexandra-tournament-6/
LOCATION:Alexandra GC
CATEGORIES:Mens
ORGANIZER;CN="Alexandra GC":MAILTO:alexandragolfclub@outlook.com
END:VEVENT
BEGIN:VEVENT
DTSTART;VALUE=DATE:20231202
DTEND;VALUE=DATE:20231203
DTSTAMP:20260422T171637
CREATED:20230214T054708Z
LAST-MODIFIED:20230214T054708Z
UID:6722-1701475200-1701561599@www.yeagolfclub.com.au
SUMMARY:Stableford
DESCRIPTION:
URL:https://www.yeagolfclub.com.au/event/stableford-96/
LOCATION:Yea GC
CATEGORIES:Ladies
END:VEVENT
BEGIN:VEVENT
DTSTART;VALUE=DATE:20231202
DTEND;VALUE=DATE:20231203
DTSTAMP:20260422T171637
CREATED:20230214T054707Z
LAST-MODIFIED:20230214T054707Z
UID:6721-1701475200-1701561599@www.yeagolfclub.com.au
SUMMARY:Gold Medal Play Off
DESCRIPTION:Stroke & Putting – Birdie Hole 9th.Winners of Monthly Medals in previous 12 months\, January to November play for Gold Medal.\nBest nett score. Count back system to apply. Handicap as at day of play.
URL:https://www.yeagolfclub.com.au/event/gold-medal-play-off-4/
LOCATION:Yea GC
CATEGORIES:Mens
ORGANIZER;CN="Yea GC":MAILTO:secretary@yeagolfclub.com.au
END:VEVENT
BEGIN:VEVENT
DTSTART;VALUE=DATE:20231129
DTEND;VALUE=DATE:20231130
DTSTAMP:20260422T171637
CREATED:20230214T054707Z
LAST-MODIFIED:20230214T054707Z
UID:6720-1701216000-1701302399@www.yeagolfclub.com.au
SUMMARY:Gender Challenge #1 - Stableford
DESCRIPTION:
URL:https://www.yeagolfclub.com.au/event/gender-challenge-1-stableford-3/
LOCATION:Yea GC
CATEGORIES:Mixed
ORGANIZER;CN="Yea GC":MAILTO:secretary@yeagolfclub.com.au
END:VEVENT
BEGIN:VEVENT
DTSTART;VALUE=DATE:20231126
DTEND;VALUE=DATE:20231127
DTSTAMP:20260422T171637
CREATED:20230214T054652Z
LAST-MODIFIED:20230214T054652Z
UID:6719-1700956800-1701043199@www.yeagolfclub.com.au
SUMMARY:Eildon Tournament
DESCRIPTION:
URL:https://www.yeagolfclub.com.au/event/eildon-tournament-3/
LOCATION:Eildon GC
CATEGORIES:Mens
END:VEVENT
BEGIN:VEVENT
DTSTART;VALUE=DATE:20231125
DTEND;VALUE=DATE:20231126
DTSTAMP:20260422T171637
CREATED:20230214T054652Z
LAST-MODIFIED:20230214T054652Z
UID:6718-1700870400-1700956799@www.yeagolfclub.com.au
SUMMARY:Stableford
DESCRIPTION:
URL:https://www.yeagolfclub.com.au/event/stableford-95/
LOCATION:Yea GC
CATEGORIES:Ladies
ORGANIZER;CN="Yea GC":MAILTO:secretary@yeagolfclub.com.au
END:VEVENT
BEGIN:VEVENT
DTSTART;VALUE=DATE:20231125
DTEND;VALUE=DATE:20231126
DTSTAMP:20260422T171637
CREATED:20230214T054651Z
LAST-MODIFIED:20230214T054651Z
UID:6717-1700870400-1700956799@www.yeagolfclub.com.au
SUMMARY:Monthly Medal / Sichlau Trophy Round 6
DESCRIPTION:Round 6 Sichlau Trophy – Stroke & Putting – Birdie Hole 5th.\nThis is the final stroke round of 6 for the trophy\, with 4 best nett rounds to count. In the event of a tie there will be a play off over 18 holes and if the scores are tied a count back on the play off round. In the event of a round being abandoned the number of rounds to count may be reduced. Handicap as at date of play.
URL:https://www.yeagolfclub.com.au/event/monthly-medal-sichlau-trophy-round-6/
LOCATION:Yea GC
CATEGORIES:Mens
ORGANIZER;CN="Yea GC":MAILTO:secretary@yeagolfclub.com.au
END:VEVENT
BEGIN:VEVENT
DTSTART;VALUE=DATE:20231123
DTEND;VALUE=DATE:20231124
DTSTAMP:20260422T171637
CREATED:20230214T054651Z
LAST-MODIFIED:20230214T054651Z
UID:6715-1700697600-1700783999@www.yeagolfclub.com.au
SUMMARY:Vets at Broadford
DESCRIPTION:Vets Membership – Men & Lady Members over 55  Cost – $20
URL:https://www.yeagolfclub.com.au/event/vets-at-broadford-2/
LOCATION:Broadford GC
CATEGORIES:Veterans
ORGANIZER;CN="Broadford GC":MAILTO:broadfordgolfclub@bigpond.com
END:VEVENT
BEGIN:VEVENT
DTSTART;VALUE=DATE:20231123
DTEND;VALUE=DATE:20231124
DTSTAMP:20260422T171637
CREATED:20230214T054651Z
LAST-MODIFIED:20230214T054651Z
UID:6716-1700697600-1700783999@www.yeagolfclub.com.au
SUMMARY:Yea Tournament
DESCRIPTION:
URL:https://www.yeagolfclub.com.au/event/yea-tournament/
LOCATION:Yea GC
CATEGORIES:Ladies
END:VEVENT
BEGIN:VEVENT
DTSTART;VALUE=DATE:20231122
DTEND;VALUE=DATE:20231123
DTSTAMP:20260422T171637
CREATED:20230214T054637Z
LAST-MODIFIED:20230214T054637Z
UID:6714-1700611200-1700697599@www.yeagolfclub.com.au
SUMMARY:Par
DESCRIPTION:
URL:https://www.yeagolfclub.com.au/event/par-19/
LOCATION:Yea GC
CATEGORIES:Mens
ORGANIZER;CN="Yea GC":MAILTO:secretary@yeagolfclub.com.au
END:VEVENT
BEGIN:VEVENT
DTSTART;VALUE=DATE:20231122
DTEND;VALUE=DATE:20231123
DTSTAMP:20260422T171637
CREATED:20230214T054637Z
LAST-MODIFIED:20230214T054637Z
UID:6713-1700611200-1700697599@www.yeagolfclub.com.au
SUMMARY:Ladies Clean Up Day For Yea Tournament
DESCRIPTION:
URL:https://www.yeagolfclub.com.au/event/ladies-clean-up-day-for-yea-tournament/
LOCATION:Yea GC
CATEGORIES:Ladies
ORGANIZER;CN="Yea GC":MAILTO:secretary@yeagolfclub.com.au
END:VEVENT
BEGIN:VEVENT
DTSTART;VALUE=DATE:20231120
DTEND;VALUE=DATE:20231121
DTSTAMP:20260422T171637
CREATED:20230214T054637Z
LAST-MODIFIED:20230214T054637Z
UID:6712-1700438400-1700524799@www.yeagolfclub.com.au
SUMMARY:GA Silver Spoon Final
DESCRIPTION:
URL:https://www.yeagolfclub.com.au/event/ga-silver-spoon-final/
CATEGORIES:Ladies
END:VEVENT
BEGIN:VEVENT
DTSTART;VALUE=DATE:20231119
DTEND;VALUE=DATE:20231120
DTSTAMP:20260422T171637
CREATED:20230214T054636Z
LAST-MODIFIED:20230214T054636Z
UID:6711-1700352000-1700438399@www.yeagolfclub.com.au
SUMMARY:Romsey Tournament
DESCRIPTION:
URL:https://www.yeagolfclub.com.au/event/romsey-tournament-5/
LOCATION:Romsey GC
CATEGORIES:Mens
ORGANIZER;CN="Hidden Valley GC":MAILTO:sportshub@hiddenvalleygolf.com.au
END:VEVENT
BEGIN:VEVENT
DTSTART;VALUE=DATE:20231118
DTEND;VALUE=DATE:20231119
DTSTAMP:20260422T171637
CREATED:20230214T054636Z
LAST-MODIFIED:20230214T054636Z
UID:6710-1700265600-1700351999@www.yeagolfclub.com.au
SUMMARY:Murrindindi Masters
DESCRIPTION:
URL:https://www.yeagolfclub.com.au/event/murrindindi-masters/
CATEGORIES:Ladies,Mens
END:VEVENT
BEGIN:VEVENT
DTSTART;VALUE=DATE:20231116
DTEND;VALUE=DATE:20231117
DTSTAMP:20260422T171637
CREATED:20230214T054622Z
LAST-MODIFIED:20230214T054622Z
UID:6709-1700092800-1700179199@www.yeagolfclub.com.au
SUMMARY:Romsey Tournament
DESCRIPTION:
URL:https://www.yeagolfclub.com.au/event/romsey-tournament-4/
LOCATION:Romsey GC
CATEGORIES:Ladies
ORGANIZER;CN="Romsey GC":MAILTO:secretary@romseygolfclub.net
END:VEVENT
BEGIN:VEVENT
DTSTART;VALUE=DATE:20231115
DTEND;VALUE=DATE:20231116
DTSTAMP:20260422T171637
CREATED:20230214T054622Z
LAST-MODIFIED:20230214T054622Z
UID:6708-1700006400-1700092799@www.yeagolfclub.com.au
SUMMARY:Stroke & Putting
DESCRIPTION:
URL:https://www.yeagolfclub.com.au/event/stroke-putting-20/
LOCATION:Yea GC
CATEGORIES:Mens
ORGANIZER;CN="Yea GC":MAILTO:secretary@yeagolfclub.com.au
END:VEVENT
BEGIN:VEVENT
DTSTART;VALUE=DATE:20231115
DTEND;VALUE=DATE:20231116
DTSTAMP:20260422T171637
CREATED:20230214T054621Z
LAST-MODIFIED:20230214T054621Z
UID:6707-1700006400-1700092799@www.yeagolfclub.com.au
SUMMARY:Gold Medal Play Off
DESCRIPTION:Monthly Medal Winners play off for Gold Medal.Stroke & Putting
URL:https://www.yeagolfclub.com.au/event/gold-medal-play-off-3/
LOCATION:Yea GC
CATEGORIES:Ladies
ORGANIZER;CN="Yea GC":MAILTO:secretary@yeagolfclub.com.au
END:VEVENT
BEGIN:VEVENT
DTSTART;VALUE=DATE:20231111
DTEND;VALUE=DATE:20231112
DTSTAMP:20260422T171637
CREATED:20230214T054621Z
LAST-MODIFIED:20230214T054621Z
UID:6706-1699660800-1699747199@www.yeagolfclub.com.au
SUMMARY:Yea Races (To be confirmed)
DESCRIPTION:Possibly Golf at Broadford.
URL:https://www.yeagolfclub.com.au/event/yea-races-to-be-confirmed-5/
CATEGORIES:Mens
END:VEVENT
BEGIN:VEVENT
DTSTART;VALUE=DATE:20231109
DTEND;VALUE=DATE:20231110
DTSTAMP:20260422T171637
CREATED:20230214T054621Z
LAST-MODIFIED:20230214T054621Z
UID:6705-1699488000-1699574399@www.yeagolfclub.com.au
SUMMARY:Woodend Tournament
DESCRIPTION:
URL:https://www.yeagolfclub.com.au/event/woodend-tournament-5/
LOCATION:Woodend GC
CATEGORIES:Ladies
END:VEVENT
BEGIN:VEVENT
DTSTART;VALUE=DATE:20231109
DTEND;VALUE=DATE:20231110
DTSTAMP:20260422T171637
CREATED:20230214T054607Z
LAST-MODIFIED:20230214T054607Z
UID:6704-1699488000-1699574399@www.yeagolfclub.com.au
SUMMARY:Vets - Lancefield
DESCRIPTION:Vets Membership – Men & Lady Members over 55  Cost – $20
URL:https://www.yeagolfclub.com.au/event/vets-lancefield-4/
LOCATION:Lancefield GC
CATEGORIES:Veterans
ORGANIZER;CN="Lancefield GC":MAILTO:lgclub@bigpond.net.au
END:VEVENT
BEGIN:VEVENT
DTSTART;VALUE=DATE:20231108
DTEND;VALUE=DATE:20231109
DTSTAMP:20260422T171637
CREATED:20230214T054607Z
LAST-MODIFIED:20230214T054607Z
UID:6702-1699401600-1699487999@www.yeagolfclub.com.au
SUMMARY:2 Person Ambrose
DESCRIPTION:
URL:https://www.yeagolfclub.com.au/event/2-person-ambrose-10/
LOCATION:Yea GC
CATEGORIES:Ladies
ORGANIZER;CN="Yea GC":MAILTO:secretary@yeagolfclub.com.au
END:VEVENT
BEGIN:VEVENT
DTSTART;VALUE=DATE:20231108
DTEND;VALUE=DATE:20231109
DTSTAMP:20260422T171637
CREATED:20230214T054607Z
LAST-MODIFIED:20230214T055331Z
UID:6703-1699401600-1699487999@www.yeagolfclub.com.au
SUMMARY:Stableford - 22 Pairs
DESCRIPTION:Two players playing Individual Stableford with their points on each hole earning a combined number determining their result. If either player earns 0 or 1 then that means the team can only receive a low outcome: ie. O1\,02\,03\,04\,05\, 11\,12\,13\,14\,15. If both score 2 then they receive a Pair 22 result. If they score better than 22 they receive a high outcome: ie.32\,33\,42\,43\,44\,52\,53\,54\,55
URL:https://www.yeagolfclub.com.au/event/stableford-22-pairs-11/
LOCATION:Yea GC
CATEGORIES:Mens
ORGANIZER;CN="Yea GC":MAILTO:secretary@yeagolfclub.com.au
END:VEVENT
BEGIN:VEVENT
DTSTART;TZID=Australia/Melbourne:20231107T083000
DTEND;TZID=Australia/Melbourne:20231107T160000
DTSTAMP:20260422T171637
CREATED:20231006T081043Z
LAST-MODIFIED:20231006T081043Z
UID:7280-1699345800-1699372800@www.yeagolfclub.com.au
SUMMARY:Centenary Celebration - Melbourne Cup Day
DESCRIPTION:So you’re looking for something to do on Cup Day? Then look no further and lock in a fun-filled day of Golf at Yea Golf Club as its’ Members and community celebrate 100 years as a Club.  \nThis event\, a 4-Person Ambrose is ideal for golfers and non-golfers to relax\, have fun\, socialise and celebrate the Club’s Centenary …. all while still having an element of friendly competition.  \nLunch is included in the low cost of $25 – please register or book in before Sat 4th Nov though for catering purposes. Drinks will be available at Bar Prices.  \nWe expect tough competition on the course – not just for the golf but for ‘Fashions on the course’
URL:https://www.yeagolfclub.com.au/event/centenary-celebration-melbourne-cup-day/
END:VEVENT
BEGIN:VEVENT
DTSTART;VALUE=DATE:20231107
DTEND;VALUE=DATE:20231108
DTSTAMP:20260422T171637
CREATED:20230214T054606Z
LAST-MODIFIED:20230214T054606Z
UID:6701-1699315200-1699401599@www.yeagolfclub.com.au
SUMMARY:100 Years - Cup Day 4 person Ambrose
DESCRIPTION:Celebration of 100 years of Golf at Royal Yea
URL:https://www.yeagolfclub.com.au/event/100-years-cup-day-4-person-ambrose/
LOCATION:Yea GC
CATEGORIES:Ladies,Mens,Mixed
END:VEVENT
BEGIN:VEVENT
DTSTART;VALUE=DATE:20231105
DTEND;VALUE=DATE:20231106
DTSTAMP:20260422T171637
CREATED:20230214T054606Z
LAST-MODIFIED:20230214T054606Z
UID:6700-1699142400-1699228799@www.yeagolfclub.com.au
SUMMARY:Mt Macedon Tournament
DESCRIPTION:
URL:https://www.yeagolfclub.com.au/event/mt-macedon-tournament-3/
LOCATION:Mt Macedon GC
CATEGORIES:Mens
END:VEVENT
END:VCALENDAR