BEGIN:VCALENDAR
VERSION:2.0
PRODID:-//Yea Golf Club - ECPv6.15.17.1//NONSGML v1.0//EN
CALSCALE:GREGORIAN
METHOD:PUBLISH
X-WR-CALNAME:Yea Golf Club
X-ORIGINAL-URL:https://www.yeagolfclub.com.au
X-WR-CALDESC:Events for Yea Golf Club
REFRESH-INTERVAL;VALUE=DURATION:PT1H
X-Robots-Tag:noindex
X-PUBLISHED-TTL:PT1H
BEGIN:VTIMEZONE
TZID:Australia/Melbourne
BEGIN:STANDARD
TZOFFSETFROM:+1100
TZOFFSETTO:+1000
TZNAME:AEST
DTSTART:20230401T160000
END:STANDARD
BEGIN:DAYLIGHT
TZOFFSETFROM:+1000
TZOFFSETTO:+1100
TZNAME:AEDT
DTSTART:20230930T160000
END:DAYLIGHT
BEGIN:STANDARD
TZOFFSETFROM:+1100
TZOFFSETTO:+1000
TZNAME:AEST
DTSTART:20240406T160000
END:STANDARD
BEGIN:DAYLIGHT
TZOFFSETFROM:+1000
TZOFFSETTO:+1100
TZNAME:AEDT
DTSTART:20241005T160000
END:DAYLIGHT
BEGIN:STANDARD
TZOFFSETFROM:+1100
TZOFFSETTO:+1000
TZNAME:AEST
DTSTART:20250405T160000
END:STANDARD
BEGIN:DAYLIGHT
TZOFFSETFROM:+1000
TZOFFSETTO:+1100
TZNAME:AEDT
DTSTART:20251004T160000
END:DAYLIGHT
END:VTIMEZONE
BEGIN:VEVENT
DTSTART;VALUE=DATE:20240810
DTEND;VALUE=DATE:20240811
DTSTAMP:20260422T071557
CREATED:20240228T010228Z
LAST-MODIFIED:20240228T010228Z
UID:7651-1723248000-1723334399@www.yeagolfclub.com.au
SUMMARY:54 Holes Points Event - Rnd 3 - Mens Monthly Medal
DESCRIPTION:Also Mens Monthly Medal – Stroke & Putting – Birdie Hole 17th
URL:https://www.yeagolfclub.com.au/event/54-holes-points-event-rnd-3-mens-monthly-medal/
LOCATION:Yea GC
CATEGORIES:Mens
END:VEVENT
BEGIN:VEVENT
DTSTART;VALUE=DATE:20240807
DTEND;VALUE=DATE:20240808
DTSTAMP:20260422T071557
CREATED:20240228T010227Z
LAST-MODIFIED:20240228T010227Z
UID:7649-1722988800-1723075199@www.yeagolfclub.com.au
SUMMARY:Stroke & Putting
DESCRIPTION:
URL:https://www.yeagolfclub.com.au/event/stroke-putting-22/
LOCATION:Yea GC
CATEGORIES:Ladies,Mens
END:VEVENT
BEGIN:VEVENT
DTSTART;VALUE=DATE:20240803
DTEND;VALUE=DATE:20240804
DTSTAMP:20260422T071557
CREATED:20240228T010227Z
LAST-MODIFIED:20240228T010227Z
UID:7648-1722643200-1722729599@www.yeagolfclub.com.au
SUMMARY:54 Holes Points Event - Round 2 - Par
DESCRIPTION:Birdie Hole 8th
URL:https://www.yeagolfclub.com.au/event/54-holes-points-event-round-2-par-4/
LOCATION:Yea GC
CATEGORIES:Mens
END:VEVENT
BEGIN:VEVENT
DTSTART;VALUE=DATE:20240803
DTEND;VALUE=DATE:20240804
DTSTAMP:20260422T071557
CREATED:20240228T010212Z
LAST-MODIFIED:20240228T010212Z
UID:7647-1722643200-1722729599@www.yeagolfclub.com.au
SUMMARY:Ladies Par
DESCRIPTION:
URL:https://www.yeagolfclub.com.au/event/ladies-par/
LOCATION:Yea GC
CATEGORIES:Ladies
END:VEVENT
BEGIN:VEVENT
DTSTART;VALUE=DATE:20240731
DTEND;VALUE=DATE:20240801
DTSTAMP:20260422T071557
CREATED:20240228T010212Z
LAST-MODIFIED:20240228T010212Z
UID:7646-1722384000-1722470399@www.yeagolfclub.com.au
SUMMARY:2 Person Ambrose
DESCRIPTION:Everyone welcome –  Please bring a plate and a friend!
URL:https://www.yeagolfclub.com.au/event/2-person-ambrose-11/
LOCATION:Yea GC
CATEGORIES:Ladies,Mens
END:VEVENT
BEGIN:VEVENT
DTSTART;VALUE=DATE:20240727
DTEND;VALUE=DATE:20240728
DTSTAMP:20260422T071557
CREATED:20240228T010212Z
LAST-MODIFIED:20240228T010212Z
UID:7644-1722038400-1722124799@www.yeagolfclub.com.au
SUMMARY:Ladies Stableford
DESCRIPTION:
URL:https://www.yeagolfclub.com.au/event/ladies-stableford-6/
LOCATION:Yea GC
CATEGORIES:Ladies
END:VEVENT
BEGIN:VEVENT
DTSTART;VALUE=DATE:20240727
DTEND;VALUE=DATE:20240728
DTSTAMP:20260422T071557
CREATED:20240228T010212Z
LAST-MODIFIED:20240228T010212Z
UID:7645-1722038400-1722124799@www.yeagolfclub.com.au
SUMMARY:54 Holes Points Event - Round 1 Stableford
DESCRIPTION:Men – Birdie Hole 13th
URL:https://www.yeagolfclub.com.au/event/54-holes-points-event-round-1-stableford-4/
LOCATION:Yea GC
CATEGORIES:Mens
END:VEVENT
BEGIN:VEVENT
DTSTART;VALUE=DATE:20240724
DTEND;VALUE=DATE:20240725
DTSTAMP:20260422T071557
CREATED:20240228T010212Z
LAST-MODIFIED:20240228T010212Z
UID:7643-1721779200-1721865599@www.yeagolfclub.com.au
SUMMARY:Stableford - 22 Pairs
DESCRIPTION:Two players playing Individual Stableford with their points on each hole earning a combined number determining their result   If either player earns 0 or 1 then that means the team can only receive a low outcome: ie. 01-02-03-04-05…. 11-12-13-14-15. If both score 2 then they receive a Pair 22 result    If they score better than 22 they receive a high outcome: ie.32-33…42-43-etc
URL:https://www.yeagolfclub.com.au/event/stableford-22-pairs-13/
LOCATION:Yea GC
CATEGORIES:Ladies,Mens
END:VEVENT
BEGIN:VEVENT
DTSTART;VALUE=DATE:20240720
DTEND;VALUE=DATE:20240721
DTSTAMP:20260422T071557
CREATED:20240228T010157Z
LAST-MODIFIED:20240228T010157Z
UID:7642-1721433600-1721519999@www.yeagolfclub.com.au
SUMMARY:3 Person Ambrose
DESCRIPTION:Arrive 11-30am for 12-00 Shotgun start   Pls bring a plate  – All new players welcome
URL:https://www.yeagolfclub.com.au/event/3-person-ambrose-4/
LOCATION:Yea GC
CATEGORIES:Ladies,Mens
END:VEVENT
BEGIN:VEVENT
DTSTART;VALUE=DATE:20240718
DTEND;VALUE=DATE:20240719
DTSTAMP:20260422T071557
CREATED:20240228T010157Z
LAST-MODIFIED:20240228T010157Z
UID:7641-1721260800-1721347199@www.yeagolfclub.com.au
SUMMARY:Vets (Avenel)
DESCRIPTION:
URL:https://www.yeagolfclub.com.au/event/vets-avenel/
LOCATION:Avenel GC
CATEGORIES:Veterans
END:VEVENT
BEGIN:VEVENT
DTSTART;VALUE=DATE:20240717
DTEND;VALUE=DATE:20240718
DTSTAMP:20260422T071557
CREATED:20240228T010157Z
LAST-MODIFIED:20240228T010157Z
UID:7640-1721174400-1721260799@www.yeagolfclub.com.au
SUMMARY:4BBB Stableford
DESCRIPTION:Draw for playing partner
URL:https://www.yeagolfclub.com.au/event/4bbb-stableford-7/
LOCATION:Yea GC
CATEGORIES:Ladies,Mens
END:VEVENT
BEGIN:VEVENT
DTSTART;VALUE=DATE:20240713
DTEND;VALUE=DATE:20240714
DTSTAMP:20260422T071557
CREATED:20240228T010157Z
LAST-MODIFIED:20240228T010157Z
UID:7639-1720828800-1720915199@www.yeagolfclub.com.au
SUMMARY:Men Monthly Medal
DESCRIPTION:Stroke  & Putting  / Birdie Hole 1st
URL:https://www.yeagolfclub.com.au/event/men-monthly-medal/
LOCATION:Yea GC
CATEGORIES:Mens
END:VEVENT
BEGIN:VEVENT
DTSTART;VALUE=DATE:20240713
DTEND;VALUE=DATE:20240714
DTSTAMP:20260422T071557
CREATED:20240228T010157Z
LAST-MODIFIED:20240228T010157Z
UID:7638-1720828800-1720915199@www.yeagolfclub.com.au
SUMMARY:Ladies Stroke  & Putting
DESCRIPTION:Stroke  & Putting  / Birdie Hole 1st
URL:https://www.yeagolfclub.com.au/event/ladies-stroke-putting/
LOCATION:Yea GC
CATEGORIES:Ladies
END:VEVENT
BEGIN:VEVENT
DTSTART;VALUE=DATE:20240710
DTEND;VALUE=DATE:20240711
DTSTAMP:20260422T071557
CREATED:20240228T010143Z
LAST-MODIFIED:20240228T010143Z
UID:7637-1720569600-1720655999@www.yeagolfclub.com.au
SUMMARY:Men Stroke & Putting
DESCRIPTION:Stroke & Putting
URL:https://www.yeagolfclub.com.au/event/men-stroke-putting-3/
LOCATION:Yea GC
CATEGORIES:Mens
END:VEVENT
BEGIN:VEVENT
DTSTART;VALUE=DATE:20240710
DTEND;VALUE=DATE:20240711
DTSTAMP:20260422T071557
CREATED:20240228T010142Z
LAST-MODIFIED:20240228T010142Z
UID:7636-1720569600-1720655999@www.yeagolfclub.com.au
SUMMARY:Ladies Monthly Medal #6
DESCRIPTION:Stroke & Putting
URL:https://www.yeagolfclub.com.au/event/ladies-monthly-medal-6-2/
LOCATION:Yea GC
CATEGORIES:Ladies
END:VEVENT
BEGIN:VEVENT
DTSTART;VALUE=DATE:20240706
DTEND;VALUE=DATE:20240707
DTSTAMP:20260422T071557
CREATED:20240228T010142Z
LAST-MODIFIED:20240228T010142Z
UID:7635-1720224000-1720310399@www.yeagolfclub.com.au
SUMMARY:Stableford
DESCRIPTION:
URL:https://www.yeagolfclub.com.au/event/stableford-107/
LOCATION:Yea GC
CATEGORIES:Ladies,Mens
END:VEVENT
BEGIN:VEVENT
DTSTART;VALUE=DATE:20240703
DTEND;VALUE=DATE:20240704
DTSTAMP:20260422T071557
CREATED:20240228T010142Z
LAST-MODIFIED:20240228T010142Z
UID:7634-1719964800-1720051199@www.yeagolfclub.com.au
SUMMARY:Par
DESCRIPTION:Par
URL:https://www.yeagolfclub.com.au/event/par-20/
LOCATION:Yea GC
CATEGORIES:Ladies,Mens
END:VEVENT
BEGIN:VEVENT
DTSTART;VALUE=DATE:20240629
DTEND;VALUE=DATE:20240630
DTSTAMP:20260422T071557
CREATED:20240228T010142Z
LAST-MODIFIED:20240228T010142Z
UID:7633-1719619200-1719705599@www.yeagolfclub.com.au
SUMMARY:Stableford
DESCRIPTION:Men – Birdie Hole 15th
URL:https://www.yeagolfclub.com.au/event/stableford-106/
LOCATION:Yea GC
CATEGORIES:Ladies,Mens
END:VEVENT
BEGIN:VEVENT
DTSTART;VALUE=DATE:20240626
DTEND;VALUE=DATE:20240627
DTSTAMP:20260422T071557
CREATED:20240228T010127Z
LAST-MODIFIED:20240228T010127Z
UID:7631-1719360000-1719446399@www.yeagolfclub.com.au
SUMMARY:Royal Womens Hospital 4BBB
DESCRIPTION:Stableford
URL:https://www.yeagolfclub.com.au/event/royal-womens-hospital-4bbb/
LOCATION:Yea GC
CATEGORIES:Ladies
END:VEVENT
BEGIN:VEVENT
DTSTART;VALUE=DATE:20240626
DTEND;VALUE=DATE:20240627
DTSTAMP:20260422T071557
CREATED:20240228T010127Z
LAST-MODIFIED:20240228T010127Z
UID:7632-1719360000-1719446399@www.yeagolfclub.com.au
SUMMARY:Men Stableford
DESCRIPTION:Stableford
URL:https://www.yeagolfclub.com.au/event/men-stableford-3/
LOCATION:Yea GC
CATEGORIES:Mens
END:VEVENT
BEGIN:VEVENT
DTSTART;VALUE=DATE:20240622
DTEND;VALUE=DATE:20240623
DTSTAMP:20260422T071557
CREATED:20240228T010127Z
LAST-MODIFIED:20240228T010127Z
UID:7630-1719014400-1719100799@www.yeagolfclub.com.au
SUMMARY:Four Ball Better Ball
DESCRIPTION:
URL:https://www.yeagolfclub.com.au/event/four-ball-better-ball/
LOCATION:Yea GC
CATEGORIES:Ladies,Mens
END:VEVENT
BEGIN:VEVENT
DTSTART;VALUE=DATE:20240621
DTEND;VALUE=DATE:20240623
DTSTAMP:20260422T071557
CREATED:20240228T010127Z
LAST-MODIFIED:20240228T010127Z
UID:7629-1718928000-1719100799@www.yeagolfclub.com.au
SUMMARY:Mens  Knockout - 2nd round to be completed by now
DESCRIPTION:Second round to be completed by now
URL:https://www.yeagolfclub.com.au/event/mens-knockout-2nd-round-to-be-completed-by-now-3/
LOCATION:Yea GC
CATEGORIES:Ladies,Mens
END:VEVENT
BEGIN:VEVENT
DTSTART;VALUE=DATE:20240619
DTEND;VALUE=DATE:20240620
DTSTAMP:20260422T071557
CREATED:20240228T010127Z
LAST-MODIFIED:20240228T010127Z
UID:7628-1718755200-1718841599@www.yeagolfclub.com.au
SUMMARY:Bisque Par
DESCRIPTION:
URL:https://www.yeagolfclub.com.au/event/bisque-par-4/
LOCATION:Yea GC
CATEGORIES:Mens
END:VEVENT
BEGIN:VEVENT
DTSTART;VALUE=DATE:20240619
DTEND;VALUE=DATE:20240620
DTSTAMP:20260422T071557
CREATED:20240228T010114Z
LAST-MODIFIED:20240228T010114Z
UID:7627-1718755200-1718841599@www.yeagolfclub.com.au
SUMMARY:Par / Bisque Par
DESCRIPTION:Played against Par but with the allowable strokes taken wherever the player wishes-not as set on the card   Strokes taken must be decided upon when marking the card hole by hole- not at the conclusion of the round
URL:https://www.yeagolfclub.com.au/event/par-bisque-par/
LOCATION:Yea GC
CATEGORIES:Ladies
END:VEVENT
BEGIN:VEVENT
DTSTART;VALUE=DATE:20240615
DTEND;VALUE=DATE:20240616
DTSTAMP:20260422T071557
CREATED:20240228T010114Z
LAST-MODIFIED:20240228T010114Z
UID:7626-1718409600-1718495999@www.yeagolfclub.com.au
SUMMARY:Stableford
DESCRIPTION:Men  – Birdie Hole 18th
URL:https://www.yeagolfclub.com.au/event/stableford-105/
LOCATION:Yea GC
CATEGORIES:Ladies,Mens
END:VEVENT
BEGIN:VEVENT
DTSTART;VALUE=DATE:20240613
DTEND;VALUE=DATE:20240614
DTSTAMP:20260422T071557
CREATED:20240228T010114Z
LAST-MODIFIED:20240228T010114Z
UID:7624-1718236800-1718323199@www.yeagolfclub.com.au
SUMMARY:Mabel Vearing Silver Salver
DESCRIPTION:
URL:https://www.yeagolfclub.com.au/event/mabel-vearing-silver-salver/
LOCATION:Avenel GC
CATEGORIES:Ladies
END:VEVENT
BEGIN:VEVENT
DTSTART;VALUE=DATE:20240613
DTEND;VALUE=DATE:20240614
DTSTAMP:20260422T071557
CREATED:20240228T010114Z
LAST-MODIFIED:20240228T010114Z
UID:7625-1718236800-1718323199@www.yeagolfclub.com.au
SUMMARY:Vets (Nagambie)
DESCRIPTION:
URL:https://www.yeagolfclub.com.au/event/vets-nagambie-2/
LOCATION:Nagambie GC
CATEGORIES:Veterans
END:VEVENT
BEGIN:VEVENT
DTSTART;VALUE=DATE:20240612
DTEND;VALUE=DATE:20240613
DTSTAMP:20260422T071557
CREATED:20240228T010113Z
LAST-MODIFIED:20240228T010113Z
UID:7623-1718150400-1718236799@www.yeagolfclub.com.au
SUMMARY:Men Stableford
DESCRIPTION:Stableford
URL:https://www.yeagolfclub.com.au/event/men-stableford-2/
LOCATION:Yea GC
CATEGORIES:Mens
END:VEVENT
BEGIN:VEVENT
DTSTART;VALUE=DATE:20240612
DTEND;VALUE=DATE:20240613
DTSTAMP:20260422T071557
CREATED:20240228T010110Z
LAST-MODIFIED:20240228T010110Z
UID:7622-1718150400-1718236799@www.yeagolfclub.com.au
SUMMARY:Silver Spoon Round 3
DESCRIPTION:Stableford
URL:https://www.yeagolfclub.com.au/event/silver-spoon-round-3/
LOCATION:Yea GC
CATEGORIES:Ladies
END:VEVENT
BEGIN:VEVENT
DTSTART;VALUE=DATE:20240610
DTEND;VALUE=DATE:20240611
DTSTAMP:20260422T071557
CREATED:20240228T010110Z
LAST-MODIFIED:20240228T010110Z
UID:7621-1717977600-1718063999@www.yeagolfclub.com.au
SUMMARY:F & L Edwards Mixed Foursomes
DESCRIPTION:
URL:https://www.yeagolfclub.com.au/event/f-l-edwards-mixed-foursomes/
LOCATION:Euroa GC
CATEGORIES:Ladies,Mens
END:VEVENT
END:VCALENDAR