BEGIN:VCALENDAR
VERSION:2.0
PRODID:-//Yea Golf Club - ECPv6.15.17.1//NONSGML v1.0//EN
CALSCALE:GREGORIAN
METHOD:PUBLISH
X-WR-CALNAME:Yea Golf Club
X-ORIGINAL-URL:https://www.yeagolfclub.com.au
X-WR-CALDESC:Events for Yea Golf Club
REFRESH-INTERVAL;VALUE=DURATION:PT1H
X-Robots-Tag:noindex
X-PUBLISHED-TTL:PT1H
BEGIN:VTIMEZONE
TZID:Australia/Melbourne
BEGIN:STANDARD
TZOFFSETFROM:+1100
TZOFFSETTO:+1000
TZNAME:AEST
DTSTART:20230401T160000
END:STANDARD
BEGIN:DAYLIGHT
TZOFFSETFROM:+1000
TZOFFSETTO:+1100
TZNAME:AEDT
DTSTART:20230930T160000
END:DAYLIGHT
BEGIN:STANDARD
TZOFFSETFROM:+1100
TZOFFSETTO:+1000
TZNAME:AEST
DTSTART:20240406T160000
END:STANDARD
BEGIN:DAYLIGHT
TZOFFSETFROM:+1000
TZOFFSETTO:+1100
TZNAME:AEDT
DTSTART:20241005T160000
END:DAYLIGHT
BEGIN:STANDARD
TZOFFSETFROM:+1100
TZOFFSETTO:+1000
TZNAME:AEST
DTSTART:20250405T160000
END:STANDARD
BEGIN:DAYLIGHT
TZOFFSETFROM:+1000
TZOFFSETTO:+1100
TZNAME:AEDT
DTSTART:20251004T160000
END:DAYLIGHT
END:VTIMEZONE
BEGIN:VEVENT
DTSTART;VALUE=DATE:20241102
DTEND;VALUE=DATE:20241103
DTSTAMP:20260423T082633
CREATED:20240228T011529Z
LAST-MODIFIED:20240228T011529Z
UID:7715-1730505600-1730591999@www.yeagolfclub.com.au
SUMMARY:AH Smith Trophy Round 2 of 36 Hole Stableford
DESCRIPTION:
URL:https://www.yeagolfclub.com.au/event/ah-smith-trophy-round-2-of-36-hole-stableford/
LOCATION:Yea GC
CATEGORIES:Mens
END:VEVENT
BEGIN:VEVENT
DTSTART;VALUE=DATE:20241030
DTEND;VALUE=DATE:20241031
DTSTAMP:20260423T082633
CREATED:20240228T011327Z
LAST-MODIFIED:20240228T011327Z
UID:7712-1730246400-1730332799@www.yeagolfclub.com.au
SUMMARY:Men Alternate shots - Foursomes
DESCRIPTION:
URL:https://www.yeagolfclub.com.au/event/men-alternate-shots-foursomes/
LOCATION:Yea GC
CATEGORIES:Mens
END:VEVENT
BEGIN:VEVENT
DTSTART;VALUE=DATE:20241026
DTEND;VALUE=DATE:20241027
DTSTAMP:20260423T082633
CREATED:20240228T011327Z
LAST-MODIFIED:20240228T011327Z
UID:7708-1729900800-1729987199@www.yeagolfclub.com.au
SUMMARY:AH Smith Trophy Round 1 - 36 Hole Stableford
DESCRIPTION:Next round is 2 November – Birdie Hole 18th
URL:https://www.yeagolfclub.com.au/event/ah-smith-trophy-round-1-36-hole-stableford/
LOCATION:Yea GC
CATEGORIES:Mens
END:VEVENT
BEGIN:VEVENT
DTSTART;VALUE=DATE:20241023
DTEND;VALUE=DATE:20241024
DTSTAMP:20260423T082633
CREATED:20240228T011126Z
LAST-MODIFIED:20240228T011126Z
UID:7704-1729641600-1729727999@www.yeagolfclub.com.au
SUMMARY:Stableford with Broadford GC
DESCRIPTION:Stableford
URL:https://www.yeagolfclub.com.au/event/stableford-with-broadford-gc-3/
LOCATION:Yea GC
CATEGORIES:Mens
END:VEVENT
BEGIN:VEVENT
DTSTART;VALUE=DATE:20241020
DTEND;VALUE=DATE:20241021
DTSTAMP:20260423T082633
CREATED:20240228T011111Z
LAST-MODIFIED:20240228T011111Z
UID:7702-1729382400-1729468799@www.yeagolfclub.com.au
SUMMARY:Strathbogie Tournament
DESCRIPTION:
URL:https://www.yeagolfclub.com.au/event/strathbogie-tournament-4/
LOCATION:Strathbogie GC
CATEGORIES:Ladies,Mens
END:VEVENT
BEGIN:VEVENT
DTSTART;VALUE=DATE:20241019
DTEND;VALUE=DATE:20241020
DTSTAMP:20260423T082633
CREATED:20240228T011111Z
LAST-MODIFIED:20240228T011111Z
UID:7700-1729296000-1729382399@www.yeagolfclub.com.au
SUMMARY:Mens Club Championship - Round 3 (Final)
DESCRIPTION:
URL:https://www.yeagolfclub.com.au/event/mens-club-championship-round-3-final-4/
LOCATION:Yea GC
CATEGORIES:Mens
END:VEVENT
BEGIN:VEVENT
DTSTART;VALUE=DATE:20241016
DTEND;VALUE=DATE:20241017
DTSTAMP:20260423T082633
CREATED:20240228T011011Z
LAST-MODIFIED:20240228T011011Z
UID:7696-1729036800-1729123199@www.yeagolfclub.com.au
SUMMARY:Stroke & Putting
DESCRIPTION:Stroke & Putting
URL:https://www.yeagolfclub.com.au/event/stroke-putting-23/
LOCATION:Yea GC
CATEGORIES:Ladies,Mens
END:VEVENT
BEGIN:VEVENT
DTSTART;VALUE=DATE:20241013
DTEND;VALUE=DATE:20241014
DTSTAMP:20260423T082633
CREATED:20240228T011011Z
LAST-MODIFIED:20240228T011011Z
UID:7694-1728777600-1728863999@www.yeagolfclub.com.au
SUMMARY:Woodend Tournamant
DESCRIPTION:
URL:https://www.yeagolfclub.com.au/event/woodend-tournamant/
LOCATION:Woodend GC
CATEGORIES:Mens
END:VEVENT
BEGIN:VEVENT
DTSTART;VALUE=DATE:20241012
DTEND;VALUE=DATE:20241013
DTSTAMP:20260423T082633
CREATED:20240228T011009Z
LAST-MODIFIED:20240228T011009Z
UID:7693-1728691200-1728777599@www.yeagolfclub.com.au
SUMMARY:Mens Club Championship - Round 2
DESCRIPTION:
URL:https://www.yeagolfclub.com.au/event/mens-club-championship-round-2-3/
LOCATION:Yea GC
CATEGORIES:Mens
END:VEVENT
BEGIN:VEVENT
DTSTART;VALUE=DATE:20241009
DTEND;VALUE=DATE:20241010
DTSTAMP:20260423T082633
CREATED:20240228T010809Z
LAST-MODIFIED:20240228T010809Z
UID:7690-1728432000-1728518399@www.yeagolfclub.com.au
SUMMARY:Stableford
DESCRIPTION:Stableford
URL:https://www.yeagolfclub.com.au/event/stableford-111/
LOCATION:Yea GC
CATEGORIES:Mens
END:VEVENT
BEGIN:VEVENT
DTSTART;VALUE=DATE:20241006
DTEND;VALUE=DATE:20241007
DTSTAMP:20260423T082633
CREATED:20240228T010808Z
LAST-MODIFIED:20240228T010808Z
UID:7688-1728172800-1728259199@www.yeagolfclub.com.au
SUMMARY:Euroa Tournament (27 Hole)
DESCRIPTION:
URL:https://www.yeagolfclub.com.au/event/euroa-tournament-27-hole/
LOCATION:Euroa GC
CATEGORIES:Ladies,Mens
END:VEVENT
BEGIN:VEVENT
DTSTART;VALUE=DATE:20241005
DTEND;VALUE=DATE:20241006
DTSTAMP:20260423T082633
CREATED:20240228T010609Z
LAST-MODIFIED:20240228T010609Z
UID:7687-1728086400-1728172799@www.yeagolfclub.com.au
SUMMARY:Mens Club Championship - Round 1  / Sichlau Trophy #5
DESCRIPTION:Stroke & Putting – Round 5 of the Sichlau Trophy – Birdie Hole 4th.Stroke & Putting. Round 5 of the Sichlau Trophy – Birdie Hole 4th\nRound 2 of the Mens Championships in A B and C grades. Winners are determined over the aggregated scores over three Stroke rounds. The Club Champion being the player with the lowest scratch score.\nGrade cut offs are to be decided by the Match Committee. Players will remain in the Grade in which they commenced the Championship.\nIn the event of a tie in any grade there will be a sudden death play off. Play off holes will be 10\, 18\, 10\, 18 etc. Handicap Championship will run concurrent with this event.
URL:https://www.yeagolfclub.com.au/event/mens-club-championship-round-1-sichlau-trophy-5-2/
LOCATION:Yea GC
CATEGORIES:Mens
END:VEVENT
BEGIN:VEVENT
DTSTART;VALUE=DATE:20241002
DTEND;VALUE=DATE:20241003
DTSTAMP:20260423T082633
CREATED:20240228T010609Z
LAST-MODIFIED:20240228T010609Z
UID:7684-1727827200-1727913599@www.yeagolfclub.com.au
SUMMARY:4BBB Stableford - Draw for Partner
DESCRIPTION:
URL:https://www.yeagolfclub.com.au/event/4bbb-stableford-draw-for-partner-4/
LOCATION:Yea GC
CATEGORIES:Ladies,Mens
END:VEVENT
BEGIN:VEVENT
DTSTART;VALUE=DATE:20240928
DTEND;VALUE=DATE:20240929
DTSTAMP:20260423T082633
CREATED:20240228T010608Z
LAST-MODIFIED:20240228T010608Z
UID:7683-1727481600-1727567999@www.yeagolfclub.com.au
SUMMARY:Grand Final 2024 - Stableford
DESCRIPTION:Players with or without Handicap    8-30 for 9am Shotgun start
URL:https://www.yeagolfclub.com.au/event/grand-final-2024-stableford/
LOCATION:Yea GC
CATEGORIES:Ladies,Mens
END:VEVENT
BEGIN:VEVENT
DTSTART;VALUE=DATE:20240927
DTEND;VALUE=DATE:20240928
DTSTAMP:20260423T082633
CREATED:20240228T010555Z
LAST-MODIFIED:20240228T010555Z
UID:7682-1727395200-1727481599@www.yeagolfclub.com.au
SUMMARY:Bruce Kindred Cup
DESCRIPTION:8-30 for 9am start   Please bring a plate
URL:https://www.yeagolfclub.com.au/event/bruce-kindred-cup/
LOCATION:Yea GC
CATEGORIES:Ladies,Mens
END:VEVENT
BEGIN:VEVENT
DTSTART;VALUE=DATE:20240925
DTEND;VALUE=DATE:20240926
DTSTAMP:20260423T082633
CREATED:20240228T010555Z
LAST-MODIFIED:20240228T010555Z
UID:7680-1727222400-1727308799@www.yeagolfclub.com.au
SUMMARY:Stableford
DESCRIPTION:
URL:https://www.yeagolfclub.com.au/event/stableford-110/
LOCATION:Yea GC
CATEGORIES:Ladies,Mens
END:VEVENT
BEGIN:VEVENT
DTSTART;VALUE=DATE:20240921
DTEND;VALUE=DATE:20240922
DTSTAMP:20260423T082633
CREATED:20240228T010555Z
LAST-MODIFIED:20240228T010555Z
UID:7679-1726876800-1726963199@www.yeagolfclub.com.au
SUMMARY:Stableford
DESCRIPTION:
URL:https://www.yeagolfclub.com.au/event/stableford-109/
LOCATION:Yea GC
CATEGORIES:Ladies,Mens
END:VEVENT
BEGIN:VEVENT
DTSTART;VALUE=DATE:20240918
DTEND;VALUE=DATE:20240919
DTSTAMP:20260423T082633
CREATED:20240228T010514Z
LAST-MODIFIED:20240228T010514Z
UID:7677-1726617600-1726703999@www.yeagolfclub.com.au
SUMMARY:2 Person Ambrose
DESCRIPTION:Ambrose
URL:https://www.yeagolfclub.com.au/event/2-person-ambrose-12/
LOCATION:Yea GC
CATEGORIES:Mens
END:VEVENT
BEGIN:VEVENT
DTSTART;VALUE=DATE:20240915
DTEND;VALUE=DATE:20240916
DTSTAMP:20260423T082633
CREATED:20240228T010513Z
LAST-MODIFIED:20240228T010513Z
UID:7675-1726358400-1726444799@www.yeagolfclub.com.au
SUMMARY:Broadford Tournament
DESCRIPTION:
URL:https://www.yeagolfclub.com.au/event/broadford-tournament-7/
LOCATION:Broadford GC
CATEGORIES:Mens
END:VEVENT
BEGIN:VEVENT
DTSTART;VALUE=DATE:20240914
DTEND;VALUE=DATE:20240915
DTSTAMP:20260423T082633
CREATED:20240228T010513Z
LAST-MODIFIED:20240228T010513Z
UID:7674-1726272000-1726358399@www.yeagolfclub.com.au
SUMMARY:Mary Walker Memorial Day
DESCRIPTION:Canadian Foursomes    Arrange partner – Pls bring a plate to share     Arrive 11-30 for 1-00 Shotgun start   All welcome / Birdie Hole 6th
URL:https://www.yeagolfclub.com.au/event/mary-walker-memorial-day-3/
LOCATION:Yea GC
CATEGORIES:Ladies,Mens
END:VEVENT
BEGIN:VEVENT
DTSTART;VALUE=DATE:20240913
DTEND;VALUE=DATE:20240914
DTSTAMP:20260423T082633
CREATED:20240228T010513Z
LAST-MODIFIED:20240228T010513Z
UID:7673-1726185600-1726271999@www.yeagolfclub.com.au
SUMMARY:Mens  Knockout - Final Knockout to be played
DESCRIPTION:
URL:https://www.yeagolfclub.com.au/event/mens-knockout-final-knockout-to-be-played-4/
LOCATION:Yea GC
CATEGORIES:Mens
END:VEVENT
BEGIN:VEVENT
DTSTART;VALUE=DATE:20240911
DTEND;VALUE=DATE:20240912
DTSTAMP:20260423T082633
CREATED:20240228T010313Z
LAST-MODIFIED:20240228T010313Z
UID:7670-1726012800-1726099199@www.yeagolfclub.com.au
SUMMARY:Men Stableford
DESCRIPTION:18 hole foursomes stableford
URL:https://www.yeagolfclub.com.au/event/men-stableford-5/
LOCATION:Yea GC
CATEGORIES:Mens
END:VEVENT
BEGIN:VEVENT
DTSTART;VALUE=DATE:20240907
DTEND;VALUE=DATE:20240908
DTSTAMP:20260423T082633
CREATED:20240228T010313Z
LAST-MODIFIED:20240228T010313Z
UID:7668-1725667200-1725753599@www.yeagolfclub.com.au
SUMMARY:Round 4 Sichlau trophy
DESCRIPTION:Stroke & Putting. Also Round 4 of Sichlau Trophy –  Birdie Hole 12th
URL:https://www.yeagolfclub.com.au/event/round-4-sichlau-trophy/
LOCATION:Yea GC
CATEGORIES:Mens
END:VEVENT
BEGIN:VEVENT
DTSTART;VALUE=DATE:20240907
DTEND;VALUE=DATE:20240908
DTSTAMP:20260423T082633
CREATED:20240228T010259Z
LAST-MODIFIED:20240228T010259Z
UID:7667-1725667200-1725753599@www.yeagolfclub.com.au
SUMMARY:Ladies & Mens Monthly Medal
DESCRIPTION:Stroke & Putting.
URL:https://www.yeagolfclub.com.au/event/ladies-mens-monthly-medal/
LOCATION:Yea GC
CATEGORIES:Ladies,Mens
END:VEVENT
BEGIN:VEVENT
DTSTART;VALUE=DATE:20240904
DTEND;VALUE=DATE:20240905
DTSTAMP:20260423T082633
CREATED:20240228T010259Z
LAST-MODIFIED:20240228T010259Z
UID:7665-1725408000-1725494399@www.yeagolfclub.com.au
SUMMARY:Par 3 Day at Yea - Stableford
DESCRIPTION:
URL:https://www.yeagolfclub.com.au/event/par-3-day-at-yea-stableford-4/
LOCATION:Yea GC
CATEGORIES:Ladies,Mens
END:VEVENT
BEGIN:VEVENT
DTSTART;VALUE=DATE:20240831
DTEND;VALUE=DATE:20240901
DTSTAMP:20260423T082633
CREATED:20240228T010259Z
LAST-MODIFIED:20240228T010259Z
UID:7664-1725062400-1725148799@www.yeagolfclub.com.au
SUMMARY:Stableford
DESCRIPTION:Birdie Hole – 2nd
URL:https://www.yeagolfclub.com.au/event/stableford-108/
LOCATION:Yea GC
CATEGORIES:Ladies,Mens
END:VEVENT
BEGIN:VEVENT
DTSTART;VALUE=DATE:20240828
DTEND;VALUE=DATE:20240829
DTSTAMP:20260423T082633
CREATED:20240228T010258Z
LAST-MODIFIED:20240228T010258Z
UID:7663-1724803200-1724889599@www.yeagolfclub.com.au
SUMMARY:Men Stableford
DESCRIPTION:
URL:https://www.yeagolfclub.com.au/event/men-stableford-4/
LOCATION:Yea GC
CATEGORIES:Mens
END:VEVENT
BEGIN:VEVENT
DTSTART;VALUE=DATE:20240824
DTEND;VALUE=DATE:20240825
DTSTAMP:20260423T082633
CREATED:20240228T010255Z
LAST-MODIFIED:20240228T010255Z
UID:7661-1724457600-1724543999@www.yeagolfclub.com.au
SUMMARY:Captain v President Challenge - Stableford
DESCRIPTION:Birdie Hole 5th
URL:https://www.yeagolfclub.com.au/event/captain-v-president-challenge-stableford/
LOCATION:Yea GC
CATEGORIES:Ladies,Mens
END:VEVENT
BEGIN:VEVENT
DTSTART;VALUE=DATE:20240823
DTEND;VALUE=DATE:20240824
DTSTAMP:20260423T082633
CREATED:20240228T010255Z
LAST-MODIFIED:20240228T010255Z
UID:7660-1724371200-1724457599@www.yeagolfclub.com.au
SUMMARY:Mens  Knockout - Semi-finals to be completed
DESCRIPTION:
URL:https://www.yeagolfclub.com.au/event/mens-knockout-semi-finals-to-be-completed-4/
LOCATION:Yea GC
CATEGORIES:Mens
END:VEVENT
BEGIN:VEVENT
DTSTART;VALUE=DATE:20240821
DTEND;VALUE=DATE:20240822
DTSTAMP:20260423T082633
CREATED:20240228T010254Z
LAST-MODIFIED:20240228T010254Z
UID:7658-1724198400-1724284799@www.yeagolfclub.com.au
SUMMARY:Men Stoke & Putting
DESCRIPTION:Stroke & Putting
URL:https://www.yeagolfclub.com.au/event/men-stoke-putting/
LOCATION:Yea GC
CATEGORIES:Mens
END:VEVENT
END:VCALENDAR