BEGIN:VCALENDAR
VERSION:2.0
PRODID:-//Yea Golf Club - ECPv6.15.17.1//NONSGML v1.0//EN
CALSCALE:GREGORIAN
METHOD:PUBLISH
X-WR-CALNAME:Yea Golf Club
X-ORIGINAL-URL:https://www.yeagolfclub.com.au
X-WR-CALDESC:Events for Yea Golf Club
REFRESH-INTERVAL;VALUE=DURATION:PT1H
X-Robots-Tag:noindex
X-PUBLISHED-TTL:PT1H
BEGIN:VTIMEZONE
TZID:Australia/Melbourne
BEGIN:STANDARD
TZOFFSETFROM:+1100
TZOFFSETTO:+1000
TZNAME:AEST
DTSTART:20250405T160000
END:STANDARD
BEGIN:DAYLIGHT
TZOFFSETFROM:+1000
TZOFFSETTO:+1100
TZNAME:AEDT
DTSTART:20251004T160000
END:DAYLIGHT
BEGIN:STANDARD
TZOFFSETFROM:+1100
TZOFFSETTO:+1000
TZNAME:AEST
DTSTART:20260404T160000
END:STANDARD
BEGIN:DAYLIGHT
TZOFFSETFROM:+1000
TZOFFSETTO:+1100
TZNAME:AEDT
DTSTART:20261003T160000
END:DAYLIGHT
BEGIN:STANDARD
TZOFFSETFROM:+1100
TZOFFSETTO:+1000
TZNAME:AEST
DTSTART:20270403T160000
END:STANDARD
BEGIN:DAYLIGHT
TZOFFSETFROM:+1000
TZOFFSETTO:+1100
TZNAME:AEDT
DTSTART:20271002T160000
END:DAYLIGHT
BEGIN:STANDARD
TZOFFSETFROM:+1100
TZOFFSETTO:+1000
TZNAME:AEST
DTSTART:20280401T160000
END:STANDARD
BEGIN:DAYLIGHT
TZOFFSETFROM:+1000
TZOFFSETTO:+1100
TZNAME:AEDT
DTSTART:20280930T160000
END:DAYLIGHT
END:VTIMEZONE
BEGIN:VEVENT
DTSTART;VALUE=DATE:20261122
DTEND;VALUE=DATE:20261123
DTSTAMP:20260423T023720
CREATED:20260318T115955Z
LAST-MODIFIED:20260318T115955Z
UID:9212-1795305600-1795391999@www.yeagolfclub.com.au
SUMMARY:Eildon Tournament
DESCRIPTION:
URL:https://www.yeagolfclub.com.au/event/eildon-tournament-6/
LOCATION:Eildon GC
CATEGORIES:Ladies,Mens
END:VEVENT
BEGIN:VEVENT
DTSTART;VALUE=DATE:20261125
DTEND;VALUE=DATE:20261126
DTSTAMP:20260423T023720
CREATED:20260318T115955Z
LAST-MODIFIED:20260318T115955Z
UID:9213-1795564800-1795651199@www.yeagolfclub.com.au
SUMMARY:Gender Challenge #1 - Stableford
DESCRIPTION:
URL:https://www.yeagolfclub.com.au/event/gender-challenge-1-stableford-6/
LOCATION:Yea GC
CATEGORIES:Ladies,Mens
END:VEVENT
BEGIN:VEVENT
DTSTART;VALUE=DATE:20261128
DTEND;VALUE=DATE:20261129
DTSTAMP:20260423T023720
CREATED:20260318T120149Z
LAST-MODIFIED:20260318T120149Z
UID:9217-1795824000-1795910399@www.yeagolfclub.com.au
SUMMARY:Stroke / Mens Gold Medal Playoff - BH 9th
DESCRIPTION:Stroke & Putting – Birdie Hole 9thWinners of Monthly Medals in previous 12 months\, January to November play for Gold Medal\nBest nett score. Count back system to apply. Handicap as at day of play
URL:https://www.yeagolfclub.com.au/event/stroke-mens-gold-medal-playoff-bh-9th-2/
LOCATION:Yea GC
CATEGORIES:Ladies,Mens
END:VEVENT
BEGIN:VEVENT
DTSTART;VALUE=DATE:20261129
DTEND;VALUE=DATE:20261130
DTSTAMP:20260423T023720
CREATED:20260318T120149Z
LAST-MODIFIED:20260318T120149Z
UID:9218-1795910400-1795996799@www.yeagolfclub.com.au
SUMMARY:District Championships @ Yea??
DESCRIPTION:
URL:https://www.yeagolfclub.com.au/event/district-championships-yea/
LOCATION:Yea GC
CATEGORIES:Mens
END:VEVENT
BEGIN:VEVENT
DTSTART;VALUE=DATE:20261201
DTEND;VALUE=DATE:20261202
DTSTAMP:20260423T023720
CREATED:20260318T120150Z
LAST-MODIFIED:20260318T120150Z
UID:9219-1796083200-1796169599@www.yeagolfclub.com.au
SUMMARY:Mens Christmas Outing
DESCRIPTION:
URL:https://www.yeagolfclub.com.au/event/mens-christmas-outing-2/
CATEGORIES:Mens
END:VEVENT
BEGIN:VEVENT
DTSTART;VALUE=DATE:20261209
DTEND;VALUE=DATE:20261210
DTSTAMP:20260423T023720
CREATED:20260318T120205Z
LAST-MODIFIED:20260318T120205Z
UID:9222-1796774400-1796860799@www.yeagolfclub.com.au
SUMMARY:Gender Challenge #2- Stroke & Putting
DESCRIPTION:To be Advised
URL:https://www.yeagolfclub.com.au/event/gender-challenge-2-stroke-putting-6/
LOCATION:Yea GC
CATEGORIES:Ladies,Mens
END:VEVENT
BEGIN:VEVENT
DTSTART;VALUE=DATE:20261212
DTEND;VALUE=DATE:20261213
DTSTAMP:20260423T023720
CREATED:20260318T120205Z
LAST-MODIFIED:20260318T120205Z
UID:9224-1797033600-1797119999@www.yeagolfclub.com.au
SUMMARY:Stableford -BH 4th
DESCRIPTION:Men – Birdie Hole 4th
URL:https://www.yeagolfclub.com.au/event/stableford-bh-4th-2/
LOCATION:Yea GC
CATEGORIES:Ladies,Mens
END:VEVENT
BEGIN:VEVENT
DTSTART;VALUE=DATE:20261216
DTEND;VALUE=DATE:20261217
DTSTAMP:20260423T023720
CREATED:20260318T120406Z
LAST-MODIFIED:20260318T120406Z
UID:9226-1797379200-1797465599@www.yeagolfclub.com.au
SUMMARY:Stableford & Lunch
DESCRIPTION:Come and celebrate with  Xmas Lunch
URL:https://www.yeagolfclub.com.au/event/stableford-lunch-2/
LOCATION:Yea GC
CATEGORIES:Ladies,Mens
END:VEVENT
BEGIN:VEVENT
DTSTART;VALUE=DATE:20261219
DTEND;VALUE=DATE:20261220
DTSTAMP:20260423T023720
CREATED:20260318T120406Z
LAST-MODIFIED:20260318T120406Z
UID:9227-1797638400-1797724799@www.yeagolfclub.com.au
SUMMARY:Stableford - BH 2nd
DESCRIPTION:Men – Birdie Hole 2nd
URL:https://www.yeagolfclub.com.au/event/stableford-bh-2nd-2/
LOCATION:Yea GC
CATEGORIES:Ladies,Mens
END:VEVENT
BEGIN:VEVENT
DTSTART;VALUE=DATE:20261223
DTEND;VALUE=DATE:20261224
DTSTAMP:20260423T023720
CREATED:20260318T120406Z
LAST-MODIFIED:20260318T120406Z
UID:9228-1797984000-1798070399@www.yeagolfclub.com.au
SUMMARY:Mixed Stableford
DESCRIPTION:
URL:https://www.yeagolfclub.com.au/event/mixed-stableford-3/
LOCATION:Yea GC
CATEGORIES:Ladies,Mens
END:VEVENT
BEGIN:VEVENT
DTSTART;VALUE=DATE:20270102
DTEND;VALUE=DATE:20270103
DTSTAMP:20260423T023720
CREATED:20260318T120607Z
LAST-MODIFIED:20260318T120607Z
UID:9233-1798848000-1798934399@www.yeagolfclub.com.au
SUMMARY:Stableford - BH 11th
DESCRIPTION:Birdie Hole 11th
URL:https://www.yeagolfclub.com.au/event/stableford-bh-11th-3/
LOCATION:Yea GC
CATEGORIES:Ladies,Mens
END:VEVENT
BEGIN:VEVENT
DTSTART;VALUE=DATE:20270106
DTEND;VALUE=DATE:20270107
DTSTAMP:20260423T023720
CREATED:20260318T120607Z
LAST-MODIFIED:20260318T120607Z
UID:9234-1799193600-1799279999@www.yeagolfclub.com.au
SUMMARY:Gender Challenge #3- Stableford
DESCRIPTION:
URL:https://www.yeagolfclub.com.au/event/gender-challenge-3-stableford-5/
LOCATION:Yea GC
CATEGORIES:Ladies,Mens
END:VEVENT
BEGIN:VEVENT
DTSTART;VALUE=DATE:20270109
DTEND;VALUE=DATE:20270110
DTSTAMP:20260423T023720
CREATED:20260318T120607Z
LAST-MODIFIED:20260318T120607Z
UID:9235-1799452800-1799539199@www.yeagolfclub.com.au
SUMMARY:Murrindindi  Masters #2 (TBC)
DESCRIPTION:
URL:https://www.yeagolfclub.com.au/event/murrindindi-masters-2-tbc-3/
CATEGORIES:Ladies,Mens
END:VEVENT
BEGIN:VEVENT
DTSTART;VALUE=DATE:20270113
DTEND;VALUE=DATE:20270114
DTSTAMP:20260423T023720
CREATED:20260318T120607Z
LAST-MODIFIED:20260318T120607Z
UID:9236-1799798400-1799884799@www.yeagolfclub.com.au
SUMMARY:Gender Challenge #4 - Par
DESCRIPTION:
URL:https://www.yeagolfclub.com.au/event/gender-challenge-4-par-6/
LOCATION:Yea GC
CATEGORIES:Ladies,Mens
END:VEVENT
BEGIN:VEVENT
DTSTART;VALUE=DATE:20270120
DTEND;VALUE=DATE:20270121
DTSTAMP:20260423T023720
CREATED:20260318T120808Z
LAST-MODIFIED:20260318T120808Z
UID:9241-1800403200-1800489599@www.yeagolfclub.com.au
SUMMARY:Gender Challenge #5 - Red Tees / Stableford
DESCRIPTION:
URL:https://www.yeagolfclub.com.au/event/gender-challenge-5-red-tees-stableford-6/
LOCATION:Yea GC
CATEGORIES:Ladies,Mens
END:VEVENT
BEGIN:VEVENT
DTSTART;VALUE=DATE:20270123
DTEND;VALUE=DATE:20270124
DTSTAMP:20260423T023720
CREATED:20260318T120808Z
LAST-MODIFIED:20260318T120808Z
UID:9242-1800662400-1800748799@www.yeagolfclub.com.au
SUMMARY:4BBB Stableford - BH 3rd
DESCRIPTION:Find your own partner / Birdie Hole 3rd
URL:https://www.yeagolfclub.com.au/event/4bbb-stableford-bh-3rd-2/
LOCATION:Yea GC
CATEGORIES:Ladies,Mens
END:VEVENT
BEGIN:VEVENT
DTSTART;VALUE=DATE:20270127
DTEND;VALUE=DATE:20270128
DTSTAMP:20260423T023720
CREATED:20260318T120808Z
LAST-MODIFIED:20260318T120808Z
UID:9243-1801008000-1801094399@www.yeagolfclub.com.au
SUMMARY:Gender Challenge  #6 - Blue Tees / Stableford
DESCRIPTION:
URL:https://www.yeagolfclub.com.au/event/gender-challenge-6-blue-tees-stableford/
LOCATION:Yea GC
CATEGORIES:Ladies,Mens
END:VEVENT
BEGIN:VEVENT
DTSTART;VALUE=DATE:20270130
DTEND;VALUE=DATE:20270131
DTSTAMP:20260423T023720
CREATED:20260318T120922Z
LAST-MODIFIED:20260318T120922Z
UID:9246-1801267200-1801353599@www.yeagolfclub.com.au
SUMMARY:Murrindindi  Masters #3 - (TBC)
DESCRIPTION:
URL:https://www.yeagolfclub.com.au/event/murrindindi-masters-3-tbc-3/
CATEGORIES:Ladies,Mens
END:VEVENT
BEGIN:VEVENT
DTSTART;VALUE=DATE:20270203
DTEND;VALUE=DATE:20270204
DTSTAMP:20260423T023720
CREATED:20260318T120922Z
LAST-MODIFIED:20260318T120922Z
UID:9247-1801612800-1801699199@www.yeagolfclub.com.au
SUMMARY:Gender Challenge #7 - 4BBB
DESCRIPTION:
URL:https://www.yeagolfclub.com.au/event/gender-challenge-7-4bbb-2/
LOCATION:Yea GC
CATEGORIES:Ladies,Mens
END:VEVENT
BEGIN:VEVENT
DTSTART;VALUE=DATE:20270206
DTEND;VALUE=DATE:20270207
DTSTAMP:20260423T023720
CREATED:20260318T120922Z
LAST-MODIFIED:20260318T120922Z
UID:9248-1801872000-1801958399@www.yeagolfclub.com.au
SUMMARY:Mens & Ladies Monthly Medal - BH 17th
DESCRIPTION:Stroke & Putting  / Birdie Hole 17th
URL:https://www.yeagolfclub.com.au/event/mens-ladies-monthly-medal-bh-17th-2/
LOCATION:Yea GC
CATEGORIES:Ladies,Mens
END:VEVENT
BEGIN:VEVENT
DTSTART;VALUE=DATE:20270210
DTEND;VALUE=DATE:20270211
DTSTAMP:20260423T023720
CREATED:20260318T120922Z
LAST-MODIFIED:20260318T120922Z
UID:9249-1802217600-1802303999@www.yeagolfclub.com.au
SUMMARY:Gender Challenge  #8- Stroke & Putting
DESCRIPTION:
URL:https://www.yeagolfclub.com.au/event/gender-challenge-8-stroke-putting/
LOCATION:Yea GC
CATEGORIES:Ladies,Mens
END:VEVENT
BEGIN:VEVENT
DTSTART;VALUE=DATE:20270217
DTEND;VALUE=DATE:20270218
DTSTAMP:20260423T023720
CREATED:20260318T120937Z
LAST-MODIFIED:20260318T120937Z
UID:9252-1802822400-1802908799@www.yeagolfclub.com.au
SUMMARY:Gender Challenge #9 Final Round - Mary Walker Memorial Shield
DESCRIPTION:
URL:https://www.yeagolfclub.com.au/event/gender-challenge-9-final-round-mary-walker-memorial-shield-2/
LOCATION:Yea GC
CATEGORIES:Ladies,Mens
END:VEVENT
BEGIN:VEVENT
DTSTART;VALUE=DATE:20270220
DTEND;VALUE=DATE:20270221
DTSTAMP:20260423T023720
CREATED:20260318T120937Z
LAST-MODIFIED:20260318T120937Z
UID:9253-1803081600-1803167999@www.yeagolfclub.com.au
SUMMARY:Stableford -BH 6th
DESCRIPTION:Mens – Birdie Hole 6th
URL:https://www.yeagolfclub.com.au/event/stableford-bh-6th-2/
LOCATION:Yea GC
CATEGORIES:Ladies,Mens
END:VEVENT
BEGIN:VEVENT
DTSTART;VALUE=DATE:20270224
DTEND;VALUE=DATE:20270225
DTSTAMP:20260423T023720
CREATED:20260318T120937Z
LAST-MODIFIED:20260318T120937Z
UID:9254-1803427200-1803513599@www.yeagolfclub.com.au
SUMMARY:Stableford & followed by Gender Lunch
DESCRIPTION:
URL:https://www.yeagolfclub.com.au/event/stableford-followed-by-gender-lunch-7/
LOCATION:Yea GC
CATEGORIES:Ladies,Mens
END:VEVENT
BEGIN:VEVENT
DTSTART;VALUE=DATE:20270302
DTEND;VALUE=DATE:20270303
DTSTAMP:20260423T023720
CREATED:20260318T121138Z
LAST-MODIFIED:20260318T121138Z
UID:9258-1803945600-1804031999@www.yeagolfclub.com.au
SUMMARY:Ladies Opening Day 2027 9 Hole Ambrose/ Men 2P Irish Stablefor
DESCRIPTION:
URL:https://www.yeagolfclub.com.au/event/ladies-opening-day-2027-9-hole-ambrose-men-2p-irish-stablefor/
LOCATION:Yea GC
CATEGORIES:Ladies,Mens
END:VEVENT
BEGIN:VEVENT
DTSTART;VALUE=DATE:20270306
DTEND;VALUE=DATE:20270307
DTSTAMP:20260423T023720
CREATED:20260318T121138Z
LAST-MODIFIED:20260318T121138Z
UID:9259-1804291200-1804377599@www.yeagolfclub.com.au
SUMMARY:Season Opening Day. Mixed 3P stableford (6BBB)
DESCRIPTION:Teams of 3\, best stableford score on each hole recorded for team total.
URL:https://www.yeagolfclub.com.au/event/season-opening-day-mixed-3p-stableford-6bbb/
LOCATION:Yea GC
CATEGORIES:Ladies,Mens
END:VEVENT
END:VCALENDAR