BEGIN:VCALENDAR
VERSION:2.0
PRODID:-//Yea Golf Club - ECPv6.15.17.1//NONSGML v1.0//EN
CALSCALE:GREGORIAN
METHOD:PUBLISH
X-ORIGINAL-URL:https://www.yeagolfclub.com.au
X-WR-CALDESC:Events for Yea Golf Club
REFRESH-INTERVAL;VALUE=DURATION:PT1H
X-Robots-Tag:noindex
X-PUBLISHED-TTL:PT1H
BEGIN:VTIMEZONE
TZID:Australia/Melbourne
BEGIN:STANDARD
TZOFFSETFROM:+1100
TZOFFSETTO:+1000
TZNAME:AEST
DTSTART:20240406T160000
END:STANDARD
BEGIN:DAYLIGHT
TZOFFSETFROM:+1000
TZOFFSETTO:+1100
TZNAME:AEDT
DTSTART:20241005T160000
END:DAYLIGHT
BEGIN:STANDARD
TZOFFSETFROM:+1100
TZOFFSETTO:+1000
TZNAME:AEST
DTSTART:20250405T160000
END:STANDARD
BEGIN:DAYLIGHT
TZOFFSETFROM:+1000
TZOFFSETTO:+1100
TZNAME:AEDT
DTSTART:20251004T160000
END:DAYLIGHT
BEGIN:STANDARD
TZOFFSETFROM:+1100
TZOFFSETTO:+1000
TZNAME:AEST
DTSTART:20260404T160000
END:STANDARD
BEGIN:DAYLIGHT
TZOFFSETFROM:+1000
TZOFFSETTO:+1100
TZNAME:AEDT
DTSTART:20261003T160000
END:DAYLIGHT
END:VTIMEZONE
BEGIN:VEVENT
DTSTART;VALUE=DATE:20251008
DTEND;VALUE=DATE:20251009
DTSTAMP:20260423T005607
CREATED:20250209T223919Z
LAST-MODIFIED:20250209T223919Z
UID:8485-1759881600-1759967999@www.yeagolfclub.com.au
SUMMARY:Ladies Gold Medal Play Off / Stableford
DESCRIPTION:Stroke & Putting / Stableford
URL:https://www.yeagolfclub.com.au/event/ladies-gold-medal-play-off-stableford/
LOCATION:Yea GC
CATEGORIES:Ladies,Mens
END:VEVENT
BEGIN:VEVENT
DTSTART;VALUE=DATE:20251007
DTEND;VALUE=DATE:20251008
DTSTAMP:20260423T005607
CREATED:20250209T223143Z
LAST-MODIFIED:20250209T223143Z
UID:8362-1759795200-1759881599@www.yeagolfclub.com.au
SUMMARY:Spring Tournament @ Flinders / Vets State Champs @ TBA
DESCRIPTION:
URL:https://www.yeagolfclub.com.au/event/spring-tournament-flinders-vets-state-champs-tba-2/
CATEGORIES:Ladies,Mens
END:VEVENT
BEGIN:VEVENT
DTSTART;VALUE=DATE:20251006
DTEND;VALUE=DATE:20251007
DTSTAMP:20260423T005607
CREATED:20250209T223143Z
LAST-MODIFIED:20250209T223143Z
UID:8361-1759708800-1759795199@www.yeagolfclub.com.au
SUMMARY:Spring Tournament @ Flinders / Vets State Champs @ TBA
DESCRIPTION:
URL:https://www.yeagolfclub.com.au/event/spring-tournament-flinders-vets-state-champs-tba/
CATEGORIES:Ladies,Mens
END:VEVENT
BEGIN:VEVENT
DTSTART;VALUE=DATE:20251004
DTEND;VALUE=DATE:20251005
DTSTAMP:20260423T005607
CREATED:20250209T223919Z
LAST-MODIFIED:20250209T223919Z
UID:8484-1759536000-1759622399@www.yeagolfclub.com.au
SUMMARY:Stroke & Putting / Mens Club Championship - Round 1  / Sichlau Trophy #5 - BH 4th
DESCRIPTION:Stroke & Putting – Round 5 of the Sichlau Trophy\,.Stroke & Putting.  Birdie Hole 4thRound 1 of the Mens Championships in A B and C grades. Winners are determined over the aggregated scores over three Stroke rounds   The Club Champion being the player with the lowest scratch score\nGrade cut offs are to be decided by the Match Committee. Players will remain in the Grade in which they commenced the Championship\nIn the event of a tie in any grade there will be a sudden death play off   Play off holes will be 10\, 18\, 10\, 18 etc. Handicap Championship will run concurrent with this event
URL:https://www.yeagolfclub.com.au/event/stroke-putting-mens-club-championship-round-1-sichlau-trophy-5-bh-4th/
LOCATION:Yea GC
CATEGORIES:Ladies,Mens
END:VEVENT
BEGIN:VEVENT
DTSTART;VALUE=DATE:20250926
DTEND;VALUE=DATE:20250927
DTSTAMP:20260423T005607
CREATED:20250209T223919Z
LAST-MODIFIED:20250209T223919Z
UID:8482-1758844800-1758931199@www.yeagolfclub.com.au
SUMMARY:Bruce Kindred Cup
DESCRIPTION:8-30 for 9am start   Please bring a plate
URL:https://www.yeagolfclub.com.au/event/bruce-kindred-cup-2/
LOCATION:Yea GC
CATEGORIES:Ladies,Mens
END:VEVENT
BEGIN:VEVENT
DTSTART;VALUE=DATE:20250924
DTEND;VALUE=DATE:20250925
DTSTAMP:20260423T005607
CREATED:20250209T223858Z
LAST-MODIFIED:20250209T223858Z
UID:8481-1758672000-1758758399@www.yeagolfclub.com.au
SUMMARY:Stableford
DESCRIPTION:
URL:https://www.yeagolfclub.com.au/event/stableford-121/
LOCATION:Yea GC
CATEGORIES:Ladies,Mens
END:VEVENT
BEGIN:VEVENT
DTSTART;VALUE=DATE:20250917
DTEND;VALUE=DATE:20250918
DTSTAMP:20260423T005607
CREATED:20250209T223858Z
LAST-MODIFIED:20250209T223858Z
UID:8479-1758067200-1758153599@www.yeagolfclub.com.au
SUMMARY:Silver Spoon Final / 2 Person Ambrose
DESCRIPTION:Stableford / Ambrose
URL:https://www.yeagolfclub.com.au/event/silver-spoon-final-2-person-ambrose/
LOCATION:Yea GC
CATEGORIES:Ladies,Mens
END:VEVENT
BEGIN:VEVENT
DTSTART;VALUE=DATE:20250912
DTEND;VALUE=DATE:20250913
DTSTAMP:20260423T005607
CREATED:20250209T231157Z
LAST-MODIFIED:20250209T231157Z
UID:8530-1757635200-1757721599@www.yeagolfclub.com.au
SUMMARY:Mens  Knockout - Final Knockout to be played
DESCRIPTION:
URL:https://www.yeagolfclub.com.au/event/mens-knockout-final-knockout-to-be-played-5/
LOCATION:Yea GC
CATEGORIES:Mens
END:VEVENT
BEGIN:VEVENT
DTSTART;VALUE=DATE:20250910
DTEND;VALUE=DATE:20250911
DTSTAMP:20260423T005607
CREATED:20250209T223858Z
LAST-MODIFIED:20250209T223858Z
UID:8477-1757462400-1757548799@www.yeagolfclub.com.au
SUMMARY:Doris Chambers Cup / Stableford
DESCRIPTION:18 hole foursomes stableford
URL:https://www.yeagolfclub.com.au/event/doris-chambers-cup-stableford/
LOCATION:Yea GC
CATEGORIES:Ladies,Mens
END:VEVENT
BEGIN:VEVENT
DTSTART;VALUE=DATE:20250906
DTEND;VALUE=DATE:20250907
DTSTAMP:20260423T005607
CREATED:20250209T223843Z
LAST-MODIFIED:20250209T223843Z
UID:8476-1757116800-1757203199@www.yeagolfclub.com.au
SUMMARY:Ladies (#8) Monthly Medal & Mens Monthly Medal / Rnd 4 Sichlau trophy
DESCRIPTION:Stroke & Putting – Also Round 4 of Sichlau Trophy –  Birdie Hole 12th
URL:https://www.yeagolfclub.com.au/event/ladies-8-monthly-medal-mens-monthly-medal-rnd-4-sichlau-trophy/
LOCATION:Yea GC
CATEGORIES:Ladies,Mens
END:VEVENT
BEGIN:VEVENT
DTSTART;VALUE=DATE:20250903
DTEND;VALUE=DATE:20250904
DTSTAMP:20260423T005607
CREATED:20250209T223843Z
LAST-MODIFIED:20250209T223843Z
UID:8475-1756857600-1756943999@www.yeagolfclub.com.au
SUMMARY:Par 3 Day at Yea - Stableford
DESCRIPTION:
URL:https://www.yeagolfclub.com.au/event/par-3-day-at-yea-stableford-5/
LOCATION:Yea GC
CATEGORIES:Ladies,Mens
END:VEVENT
BEGIN:VEVENT
DTSTART;VALUE=DATE:20250830
DTEND;VALUE=DATE:20250831
DTSTAMP:20260423T005607
CREATED:20250209T223843Z
LAST-MODIFIED:20250209T223843Z
UID:8474-1756512000-1756598399@www.yeagolfclub.com.au
SUMMARY:Stableford  - Birdie Hole 12th
DESCRIPTION:Birdie Hole – 2nd
URL:https://www.yeagolfclub.com.au/event/stableford-birdie-hole-12th/
LOCATION:Yea GC
CATEGORIES:Ladies,Mens
END:VEVENT
BEGIN:VEVENT
DTSTART;VALUE=DATE:20250827
DTEND;VALUE=DATE:20250828
DTSTAMP:20260423T005607
CREATED:20250209T223843Z
LAST-MODIFIED:20250209T223843Z
UID:8473-1756252800-1756339199@www.yeagolfclub.com.au
SUMMARY:Stableford / Silver Spoon Round 4
DESCRIPTION:Stablefford
URL:https://www.yeagolfclub.com.au/event/stableford-silver-spoon-round-4-2/
LOCATION:Yea GC
CATEGORIES:Ladies,Mens
END:VEVENT
BEGIN:VEVENT
DTSTART;VALUE=DATE:20250823
DTEND;VALUE=DATE:20250824
DTSTAMP:20260423T005607
CREATED:20250209T231157Z
LAST-MODIFIED:20250209T231157Z
UID:8529-1755907200-1755993599@www.yeagolfclub.com.au
SUMMARY:Capt v Pres Challenge - Stblfd / Sandgreen Champ @ Dimboola
DESCRIPTION:Birdie Hole 5th
URL:https://www.yeagolfclub.com.au/event/capt-v-pres-challenge-stblfd-sandgreen-champ-dimboola/
LOCATION:Yea GC
CATEGORIES:Ladies,Mens
END:VEVENT
BEGIN:VEVENT
DTSTART;VALUE=DATE:20250822
DTEND;VALUE=DATE:20250823
DTSTAMP:20260423T005607
CREATED:20250209T223537Z
LAST-MODIFIED:20250209T223843Z
UID:8470-1755820800-1755907199@www.yeagolfclub.com.au
SUMMARY:Mens  Knockout - Semi-finals to be completed
DESCRIPTION:
URL:https://www.yeagolfclub.com.au/event/mens-knockout-semi-finals-to-be-completed-5/
LOCATION:Yea GC
CATEGORIES:Mens
END:VEVENT
BEGIN:VEVENT
DTSTART;VALUE=DATE:20250820
DTEND;VALUE=DATE:20250821
DTSTAMP:20260423T005607
CREATED:20250209T223523Z
LAST-MODIFIED:20250209T223523Z
UID:8469-1755648000-1755734399@www.yeagolfclub.com.au
SUMMARY:Ladies Monthly Medal #7 / Stroke & Putting
DESCRIPTION:Stroke & Putting
URL:https://www.yeagolfclub.com.au/event/ladies-monthly-medal-7-stroke-putting/
LOCATION:Yea GC
CATEGORIES:Ladies,Mens
END:VEVENT
BEGIN:VEVENT
DTSTART;VALUE=DATE:20250816
DTEND;VALUE=DATE:20250817
DTSTAMP:20260423T005607
CREATED:20250209T223522Z
LAST-MODIFIED:20250209T223522Z
UID:8468-1755302400-1755388799@www.yeagolfclub.com.au
SUMMARY:Stableford - Men Play off Red Tees
DESCRIPTION:Birdie Hole 9th
URL:https://www.yeagolfclub.com.au/event/stableford-men-play-off-red-tees-2/
LOCATION:Yea GC
CATEGORIES:Ladies,Mens
END:VEVENT
BEGIN:VEVENT
DTSTART;VALUE=DATE:20250809
DTEND;VALUE=DATE:20250810
DTSTAMP:20260423T005607
CREATED:20250209T223522Z
LAST-MODIFIED:20250209T223522Z
UID:8466-1754697600-1754783999@www.yeagolfclub.com.au
SUMMARY:54 Holes Points Event - Rnd 3 - Mens Monthly Medal @ Stroke & Putting
DESCRIPTION:Also Mens Monthly Medal Stroke & Putting – Birdie Hole 17th
URL:https://www.yeagolfclub.com.au/event/54-holes-points-event-rnd-3-mens-monthly-medal-stroke-putting/
LOCATION:Yea GC
CATEGORIES:Ladies,Mens
END:VEVENT
BEGIN:VEVENT
DTSTART;VALUE=DATE:20250804
DTEND;VALUE=DATE:20250805
DTSTAMP:20260423T005607
CREATED:20250209T223113Z
LAST-MODIFIED:20260318T122031Z
UID:8350-1754265600-1754351999@www.yeagolfclub.com.au
SUMMARY:Sunday Pennant Finals / Junior Pennant @ Broadford
DESCRIPTION:Stroke
URL:https://www.yeagolfclub.com.au/event/sunday-pennant-finals-junior-pennant-broadford/
LOCATION:Broadford GC
CATEGORIES:Juniors,Mens
END:VEVENT
BEGIN:VEVENT
DTSTART;VALUE=DATE:20250802
DTEND;VALUE=DATE:20250803
DTSTAMP:20260423T005607
CREATED:20250209T223508Z
LAST-MODIFIED:20250209T223508Z
UID:8464-1754092800-1754179199@www.yeagolfclub.com.au
SUMMARY:54 Holes Points Event - Round 2 \, Ladies Stableford
DESCRIPTION:Birdie Hole 8th
URL:https://www.yeagolfclub.com.au/event/54-holes-points-event-round-2-ladies-stableford/
LOCATION:Yea GC
CATEGORIES:Ladies,Mens
END:VEVENT
BEGIN:VEVENT
DTSTART;VALUE=DATE:20250726
DTEND;VALUE=DATE:20250727
DTSTAMP:20260423T005607
CREATED:20250209T223507Z
LAST-MODIFIED:20250209T223507Z
UID:8463-1753488000-1753574399@www.yeagolfclub.com.au
SUMMARY:Stableford / 54 Holes Points Event - Round 1 Stableford
DESCRIPTION:Men – Birdie Hole 13th
URL:https://www.yeagolfclub.com.au/event/stableford-54-holes-points-event-round-1-stableford/
LOCATION:Yea GC
CATEGORIES:Ladies,Mens
END:VEVENT
BEGIN:VEVENT
DTSTART;VALUE=DATE:20250723
DTEND;VALUE=DATE:20250724
DTSTAMP:20260423T005607
CREATED:20250209T223507Z
LAST-MODIFIED:20250209T223507Z
UID:8462-1753228800-1753315199@www.yeagolfclub.com.au
SUMMARY:Stableford - 22 Pairs
DESCRIPTION:Two players playing Individual Stableford with their points on each hole earning a combined number determining their result   If either player earns 0 or 1 then that means the team can only receive a low outcome: ie. 01-02-03-04-05    11-12-13-14-15If both score 2 then they receive a Pair 22 result    If they score better than 22 they receive a high outcome: ie.32-33     42-43-etc
URL:https://www.yeagolfclub.com.au/event/stableford-22-pairs-15/
LOCATION:Yea GC
CATEGORIES:Ladies,Mens
END:VEVENT
BEGIN:VEVENT
DTSTART;VALUE=DATE:20250712
DTEND;VALUE=DATE:20250713
DTSTAMP:20260423T005607
CREATED:20250209T223507Z
LAST-MODIFIED:20250209T223507Z
UID:8460-1752278400-1752364799@www.yeagolfclub.com.au
SUMMARY:Men Monthly Medal - BH 1st / Stroke & Putting
DESCRIPTION:Stroke  & Putting  / Birdie Hole 1st
URL:https://www.yeagolfclub.com.au/event/men-monthly-medal-bh-1st-stroke-putting/
LOCATION:Yea GC
CATEGORIES:Ladies,Mens
END:VEVENT
BEGIN:VEVENT
DTSTART;VALUE=DATE:20250707
DTEND;VALUE=DATE:20250708
DTSTAMP:20260423T005607
CREATED:20250209T223504Z
LAST-MODIFIED:20250209T223505Z
UID:8453-1751846400-1751932799@www.yeagolfclub.com.au
SUMMARY:Stableford
DESCRIPTION:
URL:https://www.yeagolfclub.com.au/event/stableford-120/
LOCATION:Yea GC
CATEGORIES:Ladies,Mens
END:VEVENT
BEGIN:VEVENT
DTSTART;VALUE=DATE:20250702
DTEND;VALUE=DATE:20250703
DTSTAMP:20260423T005607
CREATED:20250209T223504Z
LAST-MODIFIED:20250209T223505Z
UID:8452-1751414400-1751500799@www.yeagolfclub.com.au
SUMMARY:Ladies Monthly Medal #6 / Stableford
DESCRIPTION:
URL:https://www.yeagolfclub.com.au/event/ladies-monthly-medal-6-stableford/
LOCATION:Yea GC
CATEGORIES:Ladies,Mens
END:VEVENT
BEGIN:VEVENT
DTSTART;VALUE=DATE:20250628
DTEND;VALUE=DATE:20250629
DTSTAMP:20260423T005607
CREATED:20250209T223504Z
LAST-MODIFIED:20250209T223504Z
UID:8451-1751068800-1751155199@www.yeagolfclub.com.au
SUMMARY:Stableford
DESCRIPTION:Men – Birdie Hole 15th
URL:https://www.yeagolfclub.com.au/event/stableford-119/
LOCATION:Yea GC
CATEGORIES:Ladies,Mens
END:VEVENT
BEGIN:VEVENT
DTSTART;VALUE=DATE:20250625
DTEND;VALUE=DATE:20250626
DTSTAMP:20260423T005607
CREATED:20250209T223504Z
LAST-MODIFIED:20250209T223504Z
UID:8450-1750809600-1750895999@www.yeagolfclub.com.au
SUMMARY:Silver Spoon Round 3 / Stableford
DESCRIPTION:Stableford
URL:https://www.yeagolfclub.com.au/event/silver-spoon-round-3-stableford/
LOCATION:Yea GC
CATEGORIES:Ladies,Mens
END:VEVENT
BEGIN:VEVENT
DTSTART;VALUE=DATE:20250620
DTEND;VALUE=DATE:20250621
DTSTAMP:20260423T005607
CREATED:20250209T230956Z
LAST-MODIFIED:20250209T230956Z
UID:8527-1750377600-1750463999@www.yeagolfclub.com.au
SUMMARY:Mens  Knockout - 2nd round to be completed by now
DESCRIPTION:Second round to be completed by now
URL:https://www.yeagolfclub.com.au/event/mens-knockout-2nd-round-to-be-completed-by-now-4/
LOCATION:Yea GC
CATEGORIES:Mens
END:VEVENT
BEGIN:VEVENT
DTSTART;VALUE=DATE:20250618
DTEND;VALUE=DATE:20250619
DTSTAMP:20260423T005607
CREATED:20250209T230956Z
LAST-MODIFIED:20250209T230956Z
UID:8526-1750204800-1750291199@www.yeagolfclub.com.au
SUMMARY:Par / Bisque Par
DESCRIPTION:Played against Par but with the allowable strokes taken wherever the player wishes-not as set on the card   Strokes taken must be decided upon when marking the card hole by hole- not at the conclusion of the round
URL:https://www.yeagolfclub.com.au/event/par-bisque-par-2/
LOCATION:Yea GC
CATEGORIES:Ladies,Mens
END:VEVENT
BEGIN:VEVENT
DTSTART;VALUE=DATE:20250614
DTEND;VALUE=DATE:20250615
DTSTAMP:20260423T005607
CREATED:20250209T230956Z
LAST-MODIFIED:20250209T230956Z
UID:8525-1749859200-1749945599@www.yeagolfclub.com.au
SUMMARY:Stableford
DESCRIPTION:Men  – Birdie Hole 18th
URL:https://www.yeagolfclub.com.au/event/stableford-124/
LOCATION:Yea GC
CATEGORIES:Ladies,Mens
END:VEVENT
END:VCALENDAR