BEGIN:VCALENDAR
VERSION:2.0
PRODID:-//Yea Golf Club - ECPv6.15.17.1//NONSGML v1.0//EN
CALSCALE:GREGORIAN
METHOD:PUBLISH
X-WR-CALNAME:Yea Golf Club
X-ORIGINAL-URL:https://www.yeagolfclub.com.au
X-WR-CALDESC:Events for Yea Golf Club
REFRESH-INTERVAL;VALUE=DURATION:PT1H
X-Robots-Tag:noindex
X-PUBLISHED-TTL:PT1H
BEGIN:VTIMEZONE
TZID:Australia/Melbourne
BEGIN:STANDARD
TZOFFSETFROM:+1100
TZOFFSETTO:+1000
TZNAME:AEST
DTSTART:20200404T160000
END:STANDARD
BEGIN:DAYLIGHT
TZOFFSETFROM:+1000
TZOFFSETTO:+1100
TZNAME:AEDT
DTSTART:20201003T160000
END:DAYLIGHT
BEGIN:STANDARD
TZOFFSETFROM:+1100
TZOFFSETTO:+1000
TZNAME:AEST
DTSTART:20210403T160000
END:STANDARD
BEGIN:DAYLIGHT
TZOFFSETFROM:+1000
TZOFFSETTO:+1100
TZNAME:AEDT
DTSTART:20211002T160000
END:DAYLIGHT
BEGIN:STANDARD
TZOFFSETFROM:+1100
TZOFFSETTO:+1000
TZNAME:AEST
DTSTART:20220402T160000
END:STANDARD
BEGIN:DAYLIGHT
TZOFFSETFROM:+1000
TZOFFSETTO:+1100
TZNAME:AEDT
DTSTART:20221001T160000
END:DAYLIGHT
END:VTIMEZONE
BEGIN:VEVENT
DTSTART;VALUE=DATE:20210321
DTEND;VALUE=DATE:20210322
DTSTAMP:20260424T210152
CREATED:20210131T015746Z
LAST-MODIFIED:20210131T015746Z
UID:4731-1616284800-1616371199@www.yeagolfclub.com.au
SUMMARY:Men's Pennant - Round 1
DESCRIPTION:
URL:https://www.yeagolfclub.com.au/event/mens-pennant-round-1/
CATEGORIES:Mens
END:VEVENT
BEGIN:VEVENT
DTSTART;VALUE=DATE:20210320
DTEND;VALUE=DATE:20210321
DTSTAMP:20260424T210152
CREATED:20210131T015746Z
LAST-MODIFIED:20210131T015746Z
UID:4729-1616198400-1616284799@www.yeagolfclub.com.au
SUMMARY:Winter Season Opening - 3 Person Ambrose
DESCRIPTION:Men’s Opening of Winter Season
URL:https://www.yeagolfclub.com.au/event/winter-season-opening-3-person-ambrose/
LOCATION:Yea GC
CATEGORIES:Mens
ORGANIZER;CN="Yea GC":MAILTO:secretary@yeagolfclub.com.au
END:VEVENT
BEGIN:VEVENT
DTSTART;VALUE=DATE:20210317
DTEND;VALUE=DATE:20210318
DTSTAMP:20260424T210152
CREATED:20210131T015731Z
LAST-MODIFIED:20210131T015731Z
UID:4726-1615939200-1616025599@www.yeagolfclub.com.au
SUMMARY:4 Stick Stableford
DESCRIPTION:Choose only 3 clubs and putter to play with
URL:https://www.yeagolfclub.com.au/event/4-stick-stableford/
LOCATION:Yea GC
CATEGORIES:Mens
ORGANIZER;CN="Yea GC":MAILTO:secretary@yeagolfclub.com.au
END:VEVENT
BEGIN:VEVENT
DTSTART;VALUE=DATE:20210314
DTEND;VALUE=DATE:20210315
DTSTAMP:20260424T210152
CREATED:20210131T015731Z
LAST-MODIFIED:20210131T015731Z
UID:4725-1615680000-1615766399@www.yeagolfclub.com.au
SUMMARY:DDGA Country Teams Ambrose - Euroa
DESCRIPTION:
URL:https://www.yeagolfclub.com.au/event/ddga-country-teams-ambrose-euroa/
LOCATION:Euroa GC
CATEGORIES:Ladies,Mens
ORGANIZER;CN="Euroa GC":MAILTO:euroagolf@bigpond.com
END:VEVENT
BEGIN:VEVENT
DTSTART;VALUE=DATE:20210313
DTEND;VALUE=DATE:20210314
DTSTAMP:20260424T210152
CREATED:20210131T015731Z
LAST-MODIFIED:20210222T010252Z
UID:4724-1615593600-1615679999@www.yeagolfclub.com.au
SUMMARY:Murrindindi Masters - Third Round Yea
DESCRIPTION:The fthird round of the 20/21 Reddrops Foodworks sponsored event
URL:https://www.yeagolfclub.com.au/event/murrindindi-masters-final-round-yea/
LOCATION:Yea GC
CATEGORIES:Ladies,Mens
ORGANIZER;CN="Yea GC":MAILTO:secretary@yeagolfclub.com.au
END:VEVENT
BEGIN:VEVENT
DTSTART;VALUE=DATE:20210312
DTEND;VALUE=DATE:20210313
DTSTAMP:20260424T210152
CREATED:20210131T015731Z
LAST-MODIFIED:20210131T015731Z
UID:4723-1615507200-1615593599@www.yeagolfclub.com.au
SUMMARY:Vets - Alexandra
DESCRIPTION:Membership Open to all Club Members over age of 55 Cost – $20/yr
URL:https://www.yeagolfclub.com.au/event/vets-alexandra/
LOCATION:Alexandra GC
CATEGORIES:Ladies,Mens,Veterans
ORGANIZER;CN="Alexandra GC":MAILTO:alexandragolfclub@outlook.com
END:VEVENT
BEGIN:VEVENT
DTSTART;VALUE=DATE:20210310
DTEND;VALUE=DATE:20210311
DTSTAMP:20260424T210152
CREATED:20210131T015716Z
LAST-MODIFIED:20210131T015716Z
UID:4720-1615334400-1615420799@www.yeagolfclub.com.au
SUMMARY:Pair Multiplier Stableford
DESCRIPTION:Multipy stableford score of each player
URL:https://www.yeagolfclub.com.au/event/pair-multiplier-stableford/
LOCATION:Yea GC
CATEGORIES:Mens
ORGANIZER;CN="Yea GC":MAILTO:secretary@yeagolfclub.com.au
END:VEVENT
BEGIN:VEVENT
DTSTART;VALUE=DATE:20210307
DTEND;VALUE=DATE:20210308
DTSTAMP:20260424T210152
CREATED:20210131T015716Z
LAST-MODIFIED:20210131T015716Z
UID:4719-1615075200-1615161599@www.yeagolfclub.com.au
SUMMARY:Lancefield Tournament
DESCRIPTION:
URL:https://www.yeagolfclub.com.au/event/lancefield-tournament-2/
LOCATION:Lancefield GC
CATEGORIES:Mens
ORGANIZER;CN="Lancefield GC":MAILTO:lgclub@bigpond.net.au
END:VEVENT
BEGIN:VEVENT
DTSTART;VALUE=DATE:20210306
DTEND;VALUE=DATE:20210307
DTSTAMP:20260424T210152
CREATED:20210131T015716Z
LAST-MODIFIED:20210204T001230Z
UID:4717-1614988800-1615075199@www.yeagolfclub.com.au
SUMMARY:Barry Moore Trophy - Stableford - 1st Round
DESCRIPTION:Played over two 18 hole Rounds – Birdie Hole 14th\nIn the event of a tie there will be  a countback using the AGU system. Handicaps will be as at the day of play.
URL:https://www.yeagolfclub.com.au/event/barry-moore-trophy-stableford-1st-round/
LOCATION:Yea GC
CATEGORIES:Board,Mens
ORGANIZER;CN="Yea GC":MAILTO:secretary@yeagolfclub.com.au
END:VEVENT
BEGIN:VEVENT
DTSTART;VALUE=DATE:20210303
DTEND;VALUE=DATE:20210304
DTSTAMP:20260424T210152
CREATED:20210131T015701Z
LAST-MODIFIED:20210131T015701Z
UID:4714-1614729600-1614815999@www.yeagolfclub.com.au
SUMMARY:2 Person Irish Stableford
DESCRIPTION:Take the best score on 1st nine holes then both scores on 2nd nine
URL:https://www.yeagolfclub.com.au/event/2-person-irish-stableford/
LOCATION:Yea GC
CATEGORIES:Mens
ORGANIZER;CN="Yea GC":MAILTO:secretary@yeagolfclub.com.au
END:VEVENT
BEGIN:VEVENT
DTSTART;VALUE=DATE:20210228
DTEND;VALUE=DATE:20210301
DTSTAMP:20260424T210152
CREATED:20210131T015701Z
LAST-MODIFIED:20210131T015701Z
UID:4713-1614470400-1614556799@www.yeagolfclub.com.au
SUMMARY:Strathbogie Frost 4BBB
DESCRIPTION:11 for 11.30 Shotgun Start
URL:https://www.yeagolfclub.com.au/event/strathbogie-frost-4bbb/
LOCATION:Strathbogie GC
CATEGORIES:Ladies,Mens
END:VEVENT
BEGIN:VEVENT
DTSTART;VALUE=DATE:20210227
DTEND;VALUE=DATE:20210228
DTSTAMP:20260424T210152
CREATED:20210131T015653Z
LAST-MODIFIED:20210131T015653Z
UID:4711-1614384000-1614470399@www.yeagolfclub.com.au
SUMMARY:Men's Monthly Medal #1
DESCRIPTION:Stroke & Putting – Birdie Hole 6th
URL:https://www.yeagolfclub.com.au/event/mens-monthly-medal-1/
LOCATION:Yea GC
CATEGORIES:Mens
ORGANIZER;CN="Yea GC":MAILTO:secretary@yeagolfclub.com.au
END:VEVENT
BEGIN:VEVENT
DTSTART;VALUE=DATE:20210224
DTEND;VALUE=DATE:20210225
DTSTAMP:20260424T210152
CREATED:20210131T015653Z
LAST-MODIFIED:20210131T015653Z
UID:4709-1614124800-1614211199@www.yeagolfclub.com.au
SUMMARY:Stableford - followed by Gender Lunch
DESCRIPTION:
URL:https://www.yeagolfclub.com.au/event/stableford-followed-by-gender-lunch/
LOCATION:Yea GC
CATEGORIES:Ladies,Mens,Social
ORGANIZER;CN="Yea GC":MAILTO:secretary@yeagolfclub.com.au
END:VEVENT
BEGIN:VEVENT
DTSTART;TZID=Australia/Melbourne:20210218T083000
DTEND;TZID=Australia/Melbourne:20210218T120000
DTSTAMP:20260424T210152
CREATED:20210214T083513Z
LAST-MODIFIED:20210217T051140Z
UID:5076-1613637000-1613649600@www.yeagolfclub.com.au
SUMMARY:Gender Challenge (Final Round) - 18 Hole Stableford - Mens & Ladies
DESCRIPTION:In a late announcement – Thursday’s tournament at Hidden Valley has been postponed.\nThe final round of the Gender Challenge/ Anne Baynes Memorial Stableford event will now be played tomorrow.  \nWe will also be playing stableford matchplay. Captain Alan will draw a male and female to play together and the person who has the best stableford score of each pair will win bonus points for their gender. \n*If players decide to go out earlier because of the heat policy please play with an opposite gender (eg. 2 men & 1 woman or 2 woman and 1man).  and choose who you will be playing the stableford matchplay against before the start of your round.  \nAT THIS STAGE PLEASE DO NOT REMOVE THE FLAG POLE DUE TO THE COVID. \nMAXIMUM 20 PEOPLE IN THE CLUBHOUSE. DRINKS CAN BE CONSUMED ON THE VERANDAH IF THE CLUBHOUSE MAXIMUM IS REACHED.
URL:https://www.yeagolfclub.com.au/event/18-hole-stableford-mens-ladies/
LOCATION:Yea GC
CATEGORIES:Ladies,Mens
ORGANIZER;CN="Yea GC":MAILTO:secretary@yeagolfclub.com.au
END:VEVENT
BEGIN:VEVENT
DTSTART;VALUE=DATE:20210217
DTEND;VALUE=DATE:20210218
DTSTAMP:20260424T210152
CREATED:20210131T015653Z
LAST-MODIFIED:20210212T231535Z
UID:4707-1613520000-1613606399@www.yeagolfclub.com.au
SUMMARY:Gender Challenge Final. -  THIS EVENT HAS BEEN DEFERRED or CANCELLED
DESCRIPTION:Individual Stableford matches. Ann Baynes Inc. Trophy for the best Stableford score.
URL:https://www.yeagolfclub.com.au/event/gender-challenge-final/
LOCATION:Yea GC
CATEGORIES:Ladies,Mens
ORGANIZER;CN="Yea GC":MAILTO:secretary@yeagolfclub.com.au
END:VEVENT
BEGIN:VEVENT
DTSTART;VALUE=DATE:20210214
DTEND;VALUE=DATE:20210215
DTSTAMP:20260424T210152
CREATED:20210131T015529Z
LAST-MODIFIED:20210212T231405Z
UID:4703-1613260800-1613347199@www.yeagolfclub.com.au
SUMMARY:DDGA 4BBB Mixed Open at Lancefield -  THIS EVENT HAS BEEN CANCELLED
DESCRIPTION:Arrive 9.30- for 10am start $40/pair
URL:https://www.yeagolfclub.com.au/event/ddga-4bbb-mixed-open-at-lancefield/
LOCATION:Lancefield GC
CATEGORIES:Ladies,Mens,Mixed
ORGANIZER;CN="Lancefield GC":MAILTO:lgclub@bigpond.net.au
END:VEVENT
BEGIN:VEVENT
DTSTART;VALUE=DATE:20210213
DTEND;VALUE=DATE:20210214
DTSTAMP:20260424T210152
CREATED:20210131T015529Z
LAST-MODIFIED:20210212T231258Z
UID:4702-1613174400-1613260799@www.yeagolfclub.com.au
SUMMARY:Murrindindi Masters - Eildon - THIS EVENT HAS BEEN CANCELLED
DESCRIPTION:Stableford Event – 3rd Round – Sponsored by Reddrops Foodworks Supermarkets
URL:https://www.yeagolfclub.com.au/event/murrindindi-masters-eildon/
LOCATION:Eildon GC
CATEGORIES:Ladies,Mens
END:VEVENT
BEGIN:VEVENT
DTSTART;VALUE=DATE:20210210
DTEND;VALUE=DATE:20210211
DTSTAMP:20260424T210152
CREATED:20210131T015529Z
LAST-MODIFIED:20210131T015529Z
UID:4701-1612915200-1613001599@www.yeagolfclub.com.au
SUMMARY:Gender Challenge - Par
DESCRIPTION:
URL:https://www.yeagolfclub.com.au/event/gender-challenge-par/
LOCATION:Yea GC
CATEGORIES:Ladies,Mens
ORGANIZER;CN="Yea GC":MAILTO:secretary@yeagolfclub.com.au
END:VEVENT
BEGIN:VEVENT
DTSTART;VALUE=DATE:20210206
DTEND;VALUE=DATE:20210207
DTSTAMP:20260424T210152
CREATED:20210131T015529Z
LAST-MODIFIED:20210131T015529Z
UID:4700-1612569600-1612655999@www.yeagolfclub.com.au
SUMMARY:Murrindindi Masters - Alexandra
DESCRIPTION:Stableford Event – 2nd Round – Sponsored by Reddrops Foodworks Supermarkets
URL:https://www.yeagolfclub.com.au/event/murrindindi-masters-alexandra/
LOCATION:Alexandra GC
CATEGORIES:Ladies,Mens
ORGANIZER;CN="Alexandra GC":MAILTO:alexandragolfclub@outlook.com
END:VEVENT
BEGIN:VEVENT
DTSTART;VALUE=DATE:20210203
DTEND;VALUE=DATE:20210204
DTSTAMP:20260424T210152
CREATED:20210131T015522Z
LAST-MODIFIED:20210131T020437Z
UID:4698-1612310400-1612396799@www.yeagolfclub.com.au
SUMMARY:Gender Challenge
DESCRIPTION:Stroke & Putting
URL:https://www.yeagolfclub.com.au/event/gender-challenge/
LOCATION:Yea GC
CATEGORIES:Ladies,Mens
ORGANIZER;CN="Yea GC":MAILTO:secretary@yeagolfclub.com.au
END:VEVENT
BEGIN:VEVENT
DTSTART;VALUE=DATE:20210130
DTEND;VALUE=DATE:20210131
DTSTAMP:20260424T210152
CREATED:20210131T015522Z
LAST-MODIFIED:20210131T015522Z
UID:4697-1611964800-1612051199@www.yeagolfclub.com.au
SUMMARY:4BBB Stableford. Own partner.
DESCRIPTION:Men – Birdie Hole 3rd
URL:https://www.yeagolfclub.com.au/event/4bbb-stableford-own-partner/
LOCATION:Yea GC
CATEGORIES:Mens
ORGANIZER;CN="Yea GC":MAILTO:secretary@yeagolfclub.com.au
END:VEVENT
BEGIN:VEVENT
DTSTART;VALUE=DATE:20210127
DTEND;VALUE=DATE:20210128
DTSTAMP:20260424T210152
CREATED:20210131T015522Z
LAST-MODIFIED:20210131T015522Z
UID:4696-1611705600-1611791999@www.yeagolfclub.com.au
SUMMARY:Gender Challenge - Stableford
DESCRIPTION:
URL:https://www.yeagolfclub.com.au/event/gender-challenge-stableford/
LOCATION:Yea GC
CATEGORIES:Mens
ORGANIZER;CN="Yea GC":MAILTO:secretary@yeagolfclub.com.au
END:VEVENT
BEGIN:VEVENT
DTSTART;VALUE=DATE:20210126
DTEND;VALUE=DATE:20210127
DTSTAMP:20260424T210152
CREATED:20210131T015522Z
LAST-MODIFIED:20210131T015522Z
UID:4695-1611619200-1611705599@www.yeagolfclub.com.au
SUMMARY:DDGA Australia Day 4BBB Seymour
DESCRIPTION:
URL:https://www.yeagolfclub.com.au/event/ddga-australia-day-4bbb-seymour/
LOCATION:Seymour GC
CATEGORIES:Ladies,Mens
ORGANIZER;CN="Seymour GC":MAILTO:seygolfclub@bigpond.com
END:VEVENT
END:VCALENDAR