BEGIN:VCALENDAR
VERSION:2.0
PRODID:-//Yea Golf Club - ECPv6.15.17.1//NONSGML v1.0//EN
CALSCALE:GREGORIAN
METHOD:PUBLISH
X-WR-CALNAME:Yea Golf Club
X-ORIGINAL-URL:https://www.yeagolfclub.com.au
X-WR-CALDESC:Events for Yea Golf Club
REFRESH-INTERVAL;VALUE=DURATION:PT1H
X-Robots-Tag:noindex
X-PUBLISHED-TTL:PT1H
BEGIN:VTIMEZONE
TZID:Australia/Melbourne
BEGIN:STANDARD
TZOFFSETFROM:+1100
TZOFFSETTO:+1000
TZNAME:AEST
DTSTART:20200404T160000
END:STANDARD
BEGIN:DAYLIGHT
TZOFFSETFROM:+1000
TZOFFSETTO:+1100
TZNAME:AEDT
DTSTART:20201003T160000
END:DAYLIGHT
BEGIN:STANDARD
TZOFFSETFROM:+1100
TZOFFSETTO:+1000
TZNAME:AEST
DTSTART:20210403T160000
END:STANDARD
BEGIN:DAYLIGHT
TZOFFSETFROM:+1000
TZOFFSETTO:+1100
TZNAME:AEDT
DTSTART:20211002T160000
END:DAYLIGHT
BEGIN:STANDARD
TZOFFSETFROM:+1100
TZOFFSETTO:+1000
TZNAME:AEST
DTSTART:20220402T160000
END:STANDARD
BEGIN:DAYLIGHT
TZOFFSETFROM:+1000
TZOFFSETTO:+1100
TZNAME:AEDT
DTSTART:20221001T160000
END:DAYLIGHT
END:VTIMEZONE
BEGIN:VEVENT
DTSTART;VALUE=DATE:20210503
DTEND;VALUE=DATE:20210505
DTSTAMP:20260424T193635
CREATED:20210131T020329Z
LAST-MODIFIED:20210131T020329Z
UID:4773-1620000000-1620172799@www.yeagolfclub.com.au
SUMMARY:Vets (VVGA) Championships - Midlands\, Ballarat
DESCRIPTION:Membership Open to all Club Members over age of 55 Cost – $20/yr
URL:https://www.yeagolfclub.com.au/event/vets-vvga-championships-midlands-ballarat/
LOCATION:Ballarat GC
CATEGORIES:Ladies,Mens,Veterans
END:VEVENT
BEGIN:VEVENT
DTSTART;VALUE=DATE:20210502
DTEND;VALUE=DATE:20210503
DTSTAMP:20260424T193635
CREATED:20210131T020329Z
LAST-MODIFIED:20210131T020329Z
UID:4772-1619913600-1619999999@www.yeagolfclub.com.au
SUMMARY:Men's Pennant - Round 5
DESCRIPTION:Go Royal Yea guys!
URL:https://www.yeagolfclub.com.au/event/mens-pennant-round-5/
CATEGORIES:Mens
END:VEVENT
BEGIN:VEVENT
DTSTART;VALUE=DATE:20210501
DTEND;VALUE=DATE:20210502
DTSTAMP:20260424T193635
CREATED:20210131T020328Z
LAST-MODIFIED:20210204T003019Z
UID:4771-1619827200-1619913599@www.yeagolfclub.com.au
SUMMARY:Jack Baynes Memorial Day - Canadian Mixed.
DESCRIPTION:11.30 for 12pm start. Pls arrange own partner and bring a plate.\nThe Jack Baynes Memorial Day commenced in 1988.  It is a Canadian Mixed Handicap event. The day is hosted by his family as a loving memorial.  Stableford for those not in foursomes.  Birdie Hole 10th.
URL:https://www.yeagolfclub.com.au/event/jack-baynes-memorial-day-canadian-mixed/
LOCATION:Yea GC
CATEGORIES:Board,Mens,Mixed
ORGANIZER;CN="Yea GC":MAILTO:secretary@yeagolfclub.com.au
END:VEVENT
BEGIN:VEVENT
DTSTART;VALUE=DATE:20210428
DTEND;VALUE=DATE:20210429
DTSTAMP:20260424T193635
CREATED:20210131T020313Z
LAST-MODIFIED:20210131T020313Z
UID:4767-1619568000-1619654399@www.yeagolfclub.com.au
SUMMARY:3 Person Multiplier - Stableford
DESCRIPTION:
URL:https://www.yeagolfclub.com.au/event/3-person-multiplier-stableford/
LOCATION:Yea GC
CATEGORIES:Mens
ORGANIZER;CN="Yea GC":MAILTO:secretary@yeagolfclub.com.au
END:VEVENT
BEGIN:VEVENT
DTSTART;VALUE=DATE:20210424
DTEND;VALUE=DATE:20210425
DTSTAMP:20260424T193635
CREATED:20210131T020313Z
LAST-MODIFIED:20210131T020313Z
UID:4765-1619222400-1619308799@www.yeagolfclub.com.au
SUMMARY:Foursomes Championships
DESCRIPTION:12:30pm start both Mixed & Mens.
URL:https://www.yeagolfclub.com.au/event/foursomes-championships/
LOCATION:Yea GC
CATEGORIES:Board,Mens
ORGANIZER;CN="Yea GC":MAILTO:secretary@yeagolfclub.com.au
END:VEVENT
BEGIN:VEVENT
DTSTART;VALUE=DATE:20210422
DTEND;VALUE=DATE:20210423
DTSTAMP:20260424T193635
CREATED:20210131T020304Z
LAST-MODIFIED:20210131T020304Z
UID:4762-1619049600-1619135999@www.yeagolfclub.com.au
SUMMARY:Vets - Yea
DESCRIPTION:Membership Open to all Club Members over age of 55 Cost – $20/yr
URL:https://www.yeagolfclub.com.au/event/vets-yea/
LOCATION:Yea GC
CATEGORIES:Ladies,Mens,Veterans
ORGANIZER;CN="Yea GC":MAILTO:secretary@yeagolfclub.com.au
END:VEVENT
BEGIN:VEVENT
DTSTART;VALUE=DATE:20210421
DTEND;VALUE=DATE:20210422
DTSTAMP:20260424T193635
CREATED:20210131T020304Z
LAST-MODIFIED:20210131T020304Z
UID:4760-1618963200-1619049599@www.yeagolfclub.com.au
SUMMARY:Stableford
DESCRIPTION:
URL:https://www.yeagolfclub.com.au/event/stableford-7/
LOCATION:Yea GC
CATEGORIES:Ladies,Mens
ORGANIZER;CN="Yea GC":MAILTO:secretary@yeagolfclub.com.au
END:VEVENT
BEGIN:VEVENT
DTSTART;VALUE=DATE:20210418
DTEND;VALUE=DATE:20210419
DTSTAMP:20260424T193635
CREATED:20210131T015921Z
LAST-MODIFIED:20210131T015921Z
UID:4756-1618704000-1618790399@www.yeagolfclub.com.au
SUMMARY:Men's Pennant Round 4
DESCRIPTION:Go Royal Yea guys!
URL:https://www.yeagolfclub.com.au/event/mens-pennant-round-4/
CATEGORIES:Mens
END:VEVENT
BEGIN:VEVENT
DTSTART;VALUE=DATE:20210417
DTEND;VALUE=DATE:20210418
DTSTAMP:20260424T193635
CREATED:20210131T015921Z
LAST-MODIFIED:20210222T010745Z
UID:4754-1618617600-1618703999@www.yeagolfclub.com.au
SUMMARY:Men's Monthly Medal #2
DESCRIPTION:Stroke & Putting / Also Round 1 of Sichlau Trophy – Birdie Hole 15th \n6 stroke rounds\, with 4 best nett rounds to count. In the event of a tie there will be a play off over 18 holes and if the scores are tied a count back on the play off round. In the event of a round being abandoned the number of rounds to count may be reduced. Handicap as at date of play.
URL:https://www.yeagolfclub.com.au/event/mens-monthly-medal-3/
LOCATION:Yea GC
CATEGORIES:Mens
ORGANIZER;CN="Yea GC":MAILTO:secretary@yeagolfclub.com.au
END:VEVENT
BEGIN:VEVENT
DTSTART;VALUE=DATE:20210414
DTEND;VALUE=DATE:20210415
DTSTAMP:20260424T193635
CREATED:20210131T015905Z
LAST-MODIFIED:20210131T015905Z
UID:4751-1618358400-1618444799@www.yeagolfclub.com.au
SUMMARY:Stroke & Putting
DESCRIPTION:
URL:https://www.yeagolfclub.com.au/event/stroke-putting/
LOCATION:Yea GC
CATEGORIES:Mens
ORGANIZER;CN="Yea GC":MAILTO:secretary@yeagolfclub.com.au
END:VEVENT
BEGIN:VEVENT
DTSTART;VALUE=DATE:20210411
DTEND;VALUE=DATE:20210412
DTSTAMP:20260424T193635
CREATED:20210131T015905Z
LAST-MODIFIED:20210131T015905Z
UID:4750-1618099200-1618185599@www.yeagolfclub.com.au
SUMMARY:Men's Pennant - Round 3
DESCRIPTION:Goodluck Guys!!
URL:https://www.yeagolfclub.com.au/event/mens-pennant-round-3/
CATEGORIES:Mens
END:VEVENT
BEGIN:VEVENT
DTSTART;VALUE=DATE:20210408
DTEND;VALUE=DATE:20210409
DTSTAMP:20260424T193635
CREATED:20210131T015905Z
LAST-MODIFIED:20210131T015905Z
UID:4748-1617840000-1617926399@www.yeagolfclub.com.au
SUMMARY:Vets - Strathbogie
DESCRIPTION:Membership Open to all Club Members over age of 55 Cost – $20/yr
URL:https://www.yeagolfclub.com.au/event/vets-strathbogie/
LOCATION:Strathbogie GC
CATEGORIES:Ladies,Mens,Veterans
ORGANIZER;CN="Strathbogie GC":MAILTO: barterken@bigpond.com
END:VEVENT
BEGIN:VEVENT
DTSTART;VALUE=DATE:20210407
DTEND;VALUE=DATE:20210408
DTSTAMP:20260424T193635
CREATED:20210131T015850Z
LAST-MODIFIED:20210131T015850Z
UID:4745-1617753600-1617839999@www.yeagolfclub.com.au
SUMMARY:Stableford .
DESCRIPTION:
URL:https://www.yeagolfclub.com.au/event/stableford-6/
LOCATION:Yea GC
CATEGORIES:Mens
ORGANIZER;CN="Yea GC":MAILTO:secretary@yeagolfclub.com.au
END:VEVENT
BEGIN:VEVENT
DTSTART;VALUE=DATE:20210405
DTEND;VALUE=DATE:20210406
DTSTAMP:20260424T193635
CREATED:20210131T015850Z
LAST-MODIFIED:20210131T015850Z
UID:4744-1617580800-1617667199@www.yeagolfclub.com.au
SUMMARY:Easter Seymour Tournament Mixed
DESCRIPTION:
URL:https://www.yeagolfclub.com.au/event/easter-seymour-tournament-mixed/
LOCATION:Seymour GC
CATEGORIES:Ladies,Mens,Mixed
ORGANIZER;CN="Seymour GC":MAILTO:seygolfclub@bigpond.com
END:VEVENT
BEGIN:VEVENT
DTSTART;VALUE=DATE:20210403
DTEND;VALUE=DATE:20210404
DTSTAMP:20260424T193635
CREATED:20210131T015850Z
LAST-MODIFIED:20210131T015850Z
UID:4742-1617408000-1617494399@www.yeagolfclub.com.au
SUMMARY:Barry Moore Trophy - Stableford - Final Round
DESCRIPTION:Final Round of Barry Moore Trophy – Birdie Hole – 16th.
URL:https://www.yeagolfclub.com.au/event/barry-moore-trophy-stableford-final-round/
LOCATION:Yea GC
CATEGORIES:Board,Mens
ORGANIZER;CN="Yea GC":MAILTO:secretary@yeagolfclub.com.au
END:VEVENT
BEGIN:VEVENT
DTSTART;VALUE=DATE:20210331
DTEND;VALUE=DATE:20210401
DTSTAMP:20260424T193635
CREATED:20210131T015831Z
LAST-MODIFIED:20210131T015831Z
UID:4740-1617148800-1617235199@www.yeagolfclub.com.au
SUMMARY:Stableford
DESCRIPTION:
URL:https://www.yeagolfclub.com.au/event/stableford-5/
LOCATION:Yea GC
CATEGORIES:Mens
ORGANIZER;CN="Yea GC":MAILTO:secretary@yeagolfclub.com.au
END:VEVENT
BEGIN:VEVENT
DTSTART;VALUE=DATE:20210328
DTEND;VALUE=DATE:20210329
DTSTAMP:20260424T193635
CREATED:20210131T015831Z
LAST-MODIFIED:20210131T015831Z
UID:4738-1616889600-1616975999@www.yeagolfclub.com.au
SUMMARY:Men's Pennant - Round 2
DESCRIPTION:Goodluck Guys!!
URL:https://www.yeagolfclub.com.au/event/mens-pennant-round-2/
CATEGORIES:Mens
END:VEVENT
BEGIN:VEVENT
DTSTART;VALUE=DATE:20210327
DTEND;VALUE=DATE:20210328
DTSTAMP:20260424T193635
CREATED:20210131T015815Z
LAST-MODIFIED:20210222T010445Z
UID:4736-1616803200-1616889599@www.yeagolfclub.com.au
SUMMARY:Murrindindi Masters - Eildon GC - Final Round
DESCRIPTION:Book your place by calling Vicky Clements
URL:https://www.yeagolfclub.com.au/event/mens-monthly-medal-2/
LOCATION:Yea GC
CATEGORIES:Mens
ORGANIZER;CN="Yea GC":MAILTO:secretary@yeagolfclub.com.au
END:VEVENT
BEGIN:VEVENT
DTSTART;VALUE=DATE:20210324
DTEND;VALUE=DATE:20210326
DTSTAMP:20260424T193635
CREATED:20210131T015815Z
LAST-MODIFIED:20210131T015815Z
UID:4733-1616544000-1616716799@www.yeagolfclub.com.au
SUMMARY:Stableford
DESCRIPTION:
URL:https://www.yeagolfclub.com.au/event/stableford-3/
LOCATION:Yea GC
CATEGORIES:Mens
ORGANIZER;CN="Yea GC":MAILTO:secretary@yeagolfclub.com.au
END:VEVENT
BEGIN:VEVENT
DTSTART;VALUE=DATE:20210322
DTEND;VALUE=DATE:20210327
DTSTAMP:20260424T193635
CREATED:20210131T015815Z
LAST-MODIFIED:20210131T015815Z
UID:4732-1616371200-1616803199@www.yeagolfclub.com.au
SUMMARY:Golf Week - Lakes Entrance
DESCRIPTION:Details to follow – Contact Alan Pell
URL:https://www.yeagolfclub.com.au/event/golf-week-lakes-entrance/
LOCATION:Lakes Entrance GC
CATEGORIES:Ladies,Mens,Mixed,Social
END:VEVENT
BEGIN:VEVENT
DTSTART;VALUE=DATE:20210321
DTEND;VALUE=DATE:20210322
DTSTAMP:20260424T193635
CREATED:20210131T015746Z
LAST-MODIFIED:20210131T015746Z
UID:4731-1616284800-1616371199@www.yeagolfclub.com.au
SUMMARY:Men's Pennant - Round 1
DESCRIPTION:
URL:https://www.yeagolfclub.com.au/event/mens-pennant-round-1/
CATEGORIES:Mens
END:VEVENT
BEGIN:VEVENT
DTSTART;VALUE=DATE:20210320
DTEND;VALUE=DATE:20210321
DTSTAMP:20260424T193635
CREATED:20210131T015746Z
LAST-MODIFIED:20210131T015746Z
UID:4729-1616198400-1616284799@www.yeagolfclub.com.au
SUMMARY:Winter Season Opening - 3 Person Ambrose
DESCRIPTION:Men’s Opening of Winter Season
URL:https://www.yeagolfclub.com.au/event/winter-season-opening-3-person-ambrose/
LOCATION:Yea GC
CATEGORIES:Mens
ORGANIZER;CN="Yea GC":MAILTO:secretary@yeagolfclub.com.au
END:VEVENT
BEGIN:VEVENT
DTSTART;VALUE=DATE:20210317
DTEND;VALUE=DATE:20210318
DTSTAMP:20260424T193635
CREATED:20210131T015731Z
LAST-MODIFIED:20210131T015731Z
UID:4726-1615939200-1616025599@www.yeagolfclub.com.au
SUMMARY:4 Stick Stableford
DESCRIPTION:Choose only 3 clubs and putter to play with
URL:https://www.yeagolfclub.com.au/event/4-stick-stableford/
LOCATION:Yea GC
CATEGORIES:Mens
ORGANIZER;CN="Yea GC":MAILTO:secretary@yeagolfclub.com.au
END:VEVENT
BEGIN:VEVENT
DTSTART;VALUE=DATE:20210314
DTEND;VALUE=DATE:20210315
DTSTAMP:20260424T193635
CREATED:20210131T015731Z
LAST-MODIFIED:20210131T015731Z
UID:4725-1615680000-1615766399@www.yeagolfclub.com.au
SUMMARY:DDGA Country Teams Ambrose - Euroa
DESCRIPTION:
URL:https://www.yeagolfclub.com.au/event/ddga-country-teams-ambrose-euroa/
LOCATION:Euroa GC
CATEGORIES:Ladies,Mens
ORGANIZER;CN="Euroa GC":MAILTO:euroagolf@bigpond.com
END:VEVENT
BEGIN:VEVENT
DTSTART;VALUE=DATE:20210313
DTEND;VALUE=DATE:20210314
DTSTAMP:20260424T193635
CREATED:20210131T015731Z
LAST-MODIFIED:20210222T010252Z
UID:4724-1615593600-1615679999@www.yeagolfclub.com.au
SUMMARY:Murrindindi Masters - Third Round Yea
DESCRIPTION:The fthird round of the 20/21 Reddrops Foodworks sponsored event
URL:https://www.yeagolfclub.com.au/event/murrindindi-masters-final-round-yea/
LOCATION:Yea GC
CATEGORIES:Ladies,Mens
ORGANIZER;CN="Yea GC":MAILTO:secretary@yeagolfclub.com.au
END:VEVENT
BEGIN:VEVENT
DTSTART;VALUE=DATE:20210312
DTEND;VALUE=DATE:20210313
DTSTAMP:20260424T193635
CREATED:20210131T015731Z
LAST-MODIFIED:20210131T015731Z
UID:4723-1615507200-1615593599@www.yeagolfclub.com.au
SUMMARY:Vets - Alexandra
DESCRIPTION:Membership Open to all Club Members over age of 55 Cost – $20/yr
URL:https://www.yeagolfclub.com.au/event/vets-alexandra/
LOCATION:Alexandra GC
CATEGORIES:Ladies,Mens,Veterans
ORGANIZER;CN="Alexandra GC":MAILTO:alexandragolfclub@outlook.com
END:VEVENT
BEGIN:VEVENT
DTSTART;VALUE=DATE:20210310
DTEND;VALUE=DATE:20210311
DTSTAMP:20260424T193635
CREATED:20210131T015716Z
LAST-MODIFIED:20210131T015716Z
UID:4720-1615334400-1615420799@www.yeagolfclub.com.au
SUMMARY:Pair Multiplier Stableford
DESCRIPTION:Multipy stableford score of each player
URL:https://www.yeagolfclub.com.au/event/pair-multiplier-stableford/
LOCATION:Yea GC
CATEGORIES:Mens
ORGANIZER;CN="Yea GC":MAILTO:secretary@yeagolfclub.com.au
END:VEVENT
BEGIN:VEVENT
DTSTART;VALUE=DATE:20210307
DTEND;VALUE=DATE:20210308
DTSTAMP:20260424T193635
CREATED:20210131T015716Z
LAST-MODIFIED:20210131T015716Z
UID:4719-1615075200-1615161599@www.yeagolfclub.com.au
SUMMARY:Lancefield Tournament
DESCRIPTION:
URL:https://www.yeagolfclub.com.au/event/lancefield-tournament-2/
LOCATION:Lancefield GC
CATEGORIES:Mens
ORGANIZER;CN="Lancefield GC":MAILTO:lgclub@bigpond.net.au
END:VEVENT
BEGIN:VEVENT
DTSTART;VALUE=DATE:20210306
DTEND;VALUE=DATE:20210307
DTSTAMP:20260424T193635
CREATED:20210131T015716Z
LAST-MODIFIED:20210204T001230Z
UID:4717-1614988800-1615075199@www.yeagolfclub.com.au
SUMMARY:Barry Moore Trophy - Stableford - 1st Round
DESCRIPTION:Played over two 18 hole Rounds – Birdie Hole 14th\nIn the event of a tie there will be  a countback using the AGU system. Handicaps will be as at the day of play.
URL:https://www.yeagolfclub.com.au/event/barry-moore-trophy-stableford-1st-round/
LOCATION:Yea GC
CATEGORIES:Board,Mens
ORGANIZER;CN="Yea GC":MAILTO:secretary@yeagolfclub.com.au
END:VEVENT
BEGIN:VEVENT
DTSTART;VALUE=DATE:20210303
DTEND;VALUE=DATE:20210304
DTSTAMP:20260424T193635
CREATED:20210131T015701Z
LAST-MODIFIED:20210131T015701Z
UID:4714-1614729600-1614815999@www.yeagolfclub.com.au
SUMMARY:2 Person Irish Stableford
DESCRIPTION:Take the best score on 1st nine holes then both scores on 2nd nine
URL:https://www.yeagolfclub.com.au/event/2-person-irish-stableford/
LOCATION:Yea GC
CATEGORIES:Mens
ORGANIZER;CN="Yea GC":MAILTO:secretary@yeagolfclub.com.au
END:VEVENT
END:VCALENDAR