BEGIN:VCALENDAR
VERSION:2.0
PRODID:-//Yea Golf Club - ECPv6.15.17.1//NONSGML v1.0//EN
CALSCALE:GREGORIAN
METHOD:PUBLISH
X-ORIGINAL-URL:https://www.yeagolfclub.com.au
X-WR-CALDESC:Events for Yea Golf Club
REFRESH-INTERVAL;VALUE=DURATION:PT1H
X-Robots-Tag:noindex
X-PUBLISHED-TTL:PT1H
BEGIN:VTIMEZONE
TZID:Australia/Melbourne
BEGIN:STANDARD
TZOFFSETFROM:+1100
TZOFFSETTO:+1000
TZNAME:AEST
DTSTART:20200404T160000
END:STANDARD
BEGIN:DAYLIGHT
TZOFFSETFROM:+1000
TZOFFSETTO:+1100
TZNAME:AEDT
DTSTART:20201003T160000
END:DAYLIGHT
BEGIN:STANDARD
TZOFFSETFROM:+1100
TZOFFSETTO:+1000
TZNAME:AEST
DTSTART:20210403T160000
END:STANDARD
BEGIN:DAYLIGHT
TZOFFSETFROM:+1000
TZOFFSETTO:+1100
TZNAME:AEDT
DTSTART:20211002T160000
END:DAYLIGHT
BEGIN:STANDARD
TZOFFSETFROM:+1100
TZOFFSETTO:+1000
TZNAME:AEST
DTSTART:20220402T160000
END:STANDARD
BEGIN:DAYLIGHT
TZOFFSETFROM:+1000
TZOFFSETTO:+1100
TZNAME:AEDT
DTSTART:20221001T160000
END:DAYLIGHT
END:VTIMEZONE
BEGIN:VEVENT
DTSTART;VALUE=DATE:20210617
DTEND;VALUE=DATE:20210618
DTSTAMP:20260424T181028
CREATED:20210131T021010Z
LAST-MODIFIED:20210131T021010Z
UID:4818-1623888000-1623974399@www.yeagolfclub.com.au
SUMMARY:Vets - Avenel Par 3 Day.
DESCRIPTION:Membership Open to all Club Members over age of 55 Cost – $20/yr
URL:https://www.yeagolfclub.com.au/event/vets-avenel-par-3-day/
LOCATION:Avenel GC
CATEGORIES:Ladies,Mens,Veterans
END:VEVENT
BEGIN:VEVENT
DTSTART;VALUE=DATE:20210616
DTEND;VALUE=DATE:20210617
DTSTAMP:20260424T181028
CREATED:20210131T021010Z
LAST-MODIFIED:20210131T021010Z
UID:4817-1623801600-1623887999@www.yeagolfclub.com.au
SUMMARY:Stableford
DESCRIPTION:
URL:https://www.yeagolfclub.com.au/event/stableford-14/
LOCATION:Yea GC
CATEGORIES:Ladies,Mens
ORGANIZER;CN="Yea GC":MAILTO:secretary@yeagolfclub.com.au
END:VEVENT
BEGIN:VEVENT
DTSTART;VALUE=DATE:20210612
DTEND;VALUE=DATE:20210613
DTSTAMP:20260424T181028
CREATED:20210131T020804Z
LAST-MODIFIED:20210519T073751Z
UID:4803-1623456000-1623542399@www.yeagolfclub.com.au
SUMMARY:Prideaux Cup - 36 Hole Stableford - Round 1
DESCRIPTION:Round 1 of 2 for Prideaux Cup – Birdie Hole 7th
URL:https://www.yeagolfclub.com.au/event/prideaux-cup-36-hole-stableford-round-1/
LOCATION:Yea GC
CATEGORIES:Board,Mens
ORGANIZER;CN="Yea GC":MAILTO:secretary@yeagolfclub.com.au
END:VEVENT
BEGIN:VEVENT
DTSTART;VALUE=DATE:20210611
DTEND;VALUE=DATE:20210612
DTSTAMP:20260424T181028
CREATED:20210131T020955Z
LAST-MODIFIED:20210131T020955Z
UID:4814-1623369600-1623455999@www.yeagolfclub.com.au
SUMMARY:Stroke & Putting
DESCRIPTION:
URL:https://www.yeagolfclub.com.au/event/stroke-putting-2/
LOCATION:Yea GC
CATEGORIES:Mens
ORGANIZER;CN="Yea GC":MAILTO:secretary@yeagolfclub.com.au
END:VEVENT
BEGIN:VEVENT
DTSTART;VALUE=DATE:20210605
DTEND;VALUE=DATE:20210606
DTSTAMP:20260424T181028
CREATED:20210131T020829Z
LAST-MODIFIED:20210131T020829Z
UID:4809-1622851200-1622937599@www.yeagolfclub.com.au
SUMMARY:Men's Monthly Medal #5
DESCRIPTION:Stroke & Putting. Birdie Hole 5th
URL:https://www.yeagolfclub.com.au/event/mens-monthly-medal-5/
LOCATION:Yea GC
CATEGORIES:Mens
ORGANIZER;CN="Yea GC":MAILTO:secretary@yeagolfclub.com.au
END:VEVENT
BEGIN:VEVENT
DTSTART;VALUE=DATE:20210602
DTEND;VALUE=DATE:20210603
DTSTAMP:20260424T181028
CREATED:20210131T020804Z
LAST-MODIFIED:20210131T020804Z
UID:4806-1622592000-1622678399@www.yeagolfclub.com.au
SUMMARY:Stableford
DESCRIPTION:
URL:https://www.yeagolfclub.com.au/event/stableford-12/
LOCATION:Yea GC
CATEGORIES:Mens
ORGANIZER;CN="Yea GC":MAILTO:secretary@yeagolfclub.com.au
END:VEVENT
BEGIN:VEVENT
DTSTART;VALUE=DATE:20210530
DTEND;VALUE=DATE:20210531
DTSTAMP:20260424T181028
CREATED:20210131T020804Z
LAST-MODIFIED:20210131T020804Z
UID:4804-1622332800-1622419199@www.yeagolfclub.com.au
SUMMARY:Men's Pennant Back-Up Finals
DESCRIPTION:
URL:https://www.yeagolfclub.com.au/event/mens-pennant-back-up-finals/
CATEGORIES:Mens
END:VEVENT
BEGIN:VEVENT
DTSTART;VALUE=DATE:20210529
DTEND;VALUE=DATE:20210530
DTSTAMP:20260424T181028
CREATED:20210131T020734Z
LAST-MODIFIED:20210519T073402Z
UID:4793-1622246400-1622332799@www.yeagolfclub.com.au
SUMMARY:N.J. Murray Trophy - Stableford - Final Round.
DESCRIPTION:Birdie Hole – 12th
URL:https://www.yeagolfclub.com.au/event/n-j-murray-trophy-stableford-final-round/
LOCATION:Yea GC
CATEGORIES:Mens
ORGANIZER;CN="Yea GC":MAILTO:secretary@yeagolfclub.com.au
END:VEVENT
BEGIN:VEVENT
DTSTART;VALUE=DATE:20210528
DTEND;VALUE=DATE:20210529
DTSTAMP:20260424T181028
CREATED:20210131T020749Z
LAST-MODIFIED:20210204T021213Z
UID:4801-1622160000-1622246399@www.yeagolfclub.com.au
SUMMARY:Men's Knockout - Round 1 completion
DESCRIPTION:Players(32) to be drawn to play each other in (16 matches) in the first round. 1st\, 2nd and 3rd rounds can be 9 or 18 hole contests\, agreed upon before play starts. Players must play in the same group but can use social or club events which involve Stableford\, Stroke or Par to determine a winner. Count backs will decide the result. Semifinals and the final must be 18 hole events. If matches are not played or notified by the due date then both players will be eliminated from the knockout.\nPAIRS \n1st Round matches to be completed by now.
URL:https://www.yeagolfclub.com.au/event/mens-knockout-round-1-completion/
LOCATION:Yea GC
CATEGORIES:Mens
ORGANIZER;CN="Yea GC":MAILTO:secretary@yeagolfclub.com.au
END:VEVENT
BEGIN:VEVENT
DTSTART;VALUE=DATE:20210527
DTEND;VALUE=DATE:20210528
DTSTAMP:20260424T181028
CREATED:20210131T020749Z
LAST-MODIFIED:20210131T020749Z
UID:4799-1622073600-1622159999@www.yeagolfclub.com.au
SUMMARY:Vets - Lancefield
DESCRIPTION:Membership Open to all Club Members over age of 55 Cost – $20/yr
URL:https://www.yeagolfclub.com.au/event/vets-lancefield/
LOCATION:Lancefield GC
CATEGORIES:Ladies,Mens,Veterans
ORGANIZER;CN="Lancefield GC":MAILTO:lgclub@bigpond.net.au
END:VEVENT
BEGIN:VEVENT
DTSTART;VALUE=DATE:20210526
DTEND;VALUE=DATE:20210527
DTSTAMP:20260424T181028
CREATED:20210131T020749Z
LAST-MODIFIED:20210131T020749Z
UID:4797-1621987200-1622073599@www.yeagolfclub.com.au
SUMMARY:Stableford - 4 Stick Event
DESCRIPTION:Play with 4 clubs (only) of your chosing
URL:https://www.yeagolfclub.com.au/event/stableford-4-stick-event/
LOCATION:Yea GC
CATEGORIES:Mens
ORGANIZER;CN="Yea GC":MAILTO:secretary@yeagolfclub.com.au
END:VEVENT
BEGIN:VEVENT
DTSTART;VALUE=DATE:20210523
DTEND;VALUE=DATE:20210524
DTSTAMP:20260424T181028
CREATED:20210131T020734Z
LAST-MODIFIED:20210131T020734Z
UID:4795-1621728000-1621814399@www.yeagolfclub.com.au
SUMMARY:Men's Pennant Finals
DESCRIPTION:Here’s hoping!!
URL:https://www.yeagolfclub.com.au/event/mens-pennant-finals/
CATEGORIES:Mens
END:VEVENT
BEGIN:VEVENT
DTSTART;VALUE=DATE:20210522
DTEND;VALUE=DATE:20210523
DTSTAMP:20260424T181028
CREATED:20210131T020559Z
LAST-MODIFIED:20210519T073240Z
UID:4785-1621641600-1621727999@www.yeagolfclub.com.au
SUMMARY:N.J. Murray Trophy - 1st Round - Stableford
DESCRIPTION:A 36 hole Event played over two rounds – Birdie Hole on 1st
URL:https://www.yeagolfclub.com.au/event/n-j-murray-trophy-1st-round-stableford/
LOCATION:Yea GC
CATEGORIES:Mens
ORGANIZER;CN="Yea GC":MAILTO:secretary@yeagolfclub.com.au
END:VEVENT
BEGIN:VEVENT
DTSTART;VALUE=DATE:20210519
DTEND;VALUE=DATE:20210520
DTSTAMP:20260424T181028
CREATED:20210131T020719Z
LAST-MODIFIED:20210131T020719Z
UID:4790-1621382400-1621468799@www.yeagolfclub.com.au
SUMMARY:Irish 3 Person - Stableford
DESCRIPTION:Best Score on first 9 holes\, then both scores on second 9
URL:https://www.yeagolfclub.com.au/event/irish-3-person-stableford/
LOCATION:Yea GC
CATEGORIES:Mens
ORGANIZER;CN="Yea GC":MAILTO:secretary@yeagolfclub.com.au
END:VEVENT
BEGIN:VEVENT
DTSTART;VALUE=DATE:20210517
DTEND;VALUE=DATE:20210518
DTSTAMP:20260424T181028
CREATED:20210131T020719Z
LAST-MODIFIED:20210131T020719Z
UID:4788-1621209600-1621295999@www.yeagolfclub.com.au
SUMMARY:Intrazone Vets - Shepparton
DESCRIPTION:
URL:https://www.yeagolfclub.com.au/event/intrazone-vets-shepparton/
LOCATION:Shepparton GC
CATEGORIES:Mens
END:VEVENT
BEGIN:VEVENT
DTSTART;VALUE=DATE:20210516
DTEND;VALUE=DATE:20210517
DTSTAMP:20260424T181028
CREATED:20210131T020719Z
LAST-MODIFIED:20210131T020719Z
UID:4787-1621123200-1621209599@www.yeagolfclub.com.au
SUMMARY:Men's Pennant - Round 6
DESCRIPTION:Keep it up guys!
URL:https://www.yeagolfclub.com.au/event/mens-pennant-round-6/
CATEGORIES:Mens
END:VEVENT
BEGIN:VEVENT
DTSTART;VALUE=DATE:20210513
DTEND;VALUE=DATE:20210514
DTSTAMP:20260424T181028
CREATED:20210131T020559Z
LAST-MODIFIED:20210131T020559Z
UID:4783-1620864000-1620950399@www.yeagolfclub.com.au
SUMMARY:Vets - President's Cup\,
DESCRIPTION:3 Person Ambrose
URL:https://www.yeagolfclub.com.au/event/vets-presidents-cup/
LOCATION:Broadford GC
CATEGORIES:Ladies,Mens,Veterans
ORGANIZER;CN="Broadford GC":MAILTO:broadfordgolfclub@bigpond.com
END:VEVENT
BEGIN:VEVENT
DTSTART;VALUE=DATE:20210512
DTEND;VALUE=DATE:20210513
DTSTAMP:20260424T181028
CREATED:20210131T020444Z
LAST-MODIFIED:20210204T021735Z
UID:4781-1620777600-1620863999@www.yeagolfclub.com.au
SUMMARY:Stableford - 22 Pairs
DESCRIPTION:Two players playing Individual Stableford with their points on each hole earning a combined number determining their result. If either player earns 0 or 1 then that means the team can only receive a low outcome: ie. O1\,02\,03\,04\,05\, 11\,12\,13\,14\,15.\nIf both score 2 then they receive a Pair 22 result.\nIf they score better than 22 they receive a high outcome: ie.32\,33\,42\,43\,44\,52\,53\,54\,55
URL:https://www.yeagolfclub.com.au/event/stableford-22-pairs/
LOCATION:Yea GC
CATEGORIES:Mens
ORGANIZER;CN="Yea GC":MAILTO:secretary@yeagolfclub.com.au
END:VEVENT
BEGIN:VEVENT
DTSTART;VALUE=DATE:20210508
DTEND;VALUE=DATE:20210509
DTSTAMP:20260424T181028
CREATED:20210131T020444Z
LAST-MODIFIED:20210131T020444Z
UID:4778-1620432000-1620518399@www.yeagolfclub.com.au
SUMMARY:Men's Monthly Medal #4\,
DESCRIPTION:Stroke & Putting. / Also round 3 of Sichlau Trophy – Birdie Hole 2nd\,
URL:https://www.yeagolfclub.com.au/event/mens-monthly-medal-4/
LOCATION:Yea GC
CATEGORIES:Mens
ORGANIZER;CN="Yea GC":MAILTO:secretary@yeagolfclub.com.au
END:VEVENT
BEGIN:VEVENT
DTSTART;VALUE=DATE:20210505
DTEND;VALUE=DATE:20210506
DTSTAMP:20260424T181028
CREATED:20210131T020329Z
LAST-MODIFIED:20210131T020329Z
UID:4775-1620172800-1620259199@www.yeagolfclub.com.au
SUMMARY:Stableford
DESCRIPTION:
URL:https://www.yeagolfclub.com.au/event/stableford-9/
LOCATION:Yea GC
CATEGORIES:Mens
ORGANIZER;CN="Yea GC":MAILTO:secretary@yeagolfclub.com.au
END:VEVENT
BEGIN:VEVENT
DTSTART;VALUE=DATE:20210503
DTEND;VALUE=DATE:20210505
DTSTAMP:20260424T181028
CREATED:20210131T020329Z
LAST-MODIFIED:20210131T020329Z
UID:4773-1620000000-1620172799@www.yeagolfclub.com.au
SUMMARY:Vets (VVGA) Championships - Midlands\, Ballarat
DESCRIPTION:Membership Open to all Club Members over age of 55 Cost – $20/yr
URL:https://www.yeagolfclub.com.au/event/vets-vvga-championships-midlands-ballarat/
LOCATION:Ballarat GC
CATEGORIES:Ladies,Mens,Veterans
END:VEVENT
BEGIN:VEVENT
DTSTART;VALUE=DATE:20210502
DTEND;VALUE=DATE:20210503
DTSTAMP:20260424T181028
CREATED:20210131T020329Z
LAST-MODIFIED:20210131T020329Z
UID:4772-1619913600-1619999999@www.yeagolfclub.com.au
SUMMARY:Men's Pennant - Round 5
DESCRIPTION:Go Royal Yea guys!
URL:https://www.yeagolfclub.com.au/event/mens-pennant-round-5/
CATEGORIES:Mens
END:VEVENT
BEGIN:VEVENT
DTSTART;VALUE=DATE:20210501
DTEND;VALUE=DATE:20210502
DTSTAMP:20260424T181028
CREATED:20210131T020328Z
LAST-MODIFIED:20210204T003019Z
UID:4771-1619827200-1619913599@www.yeagolfclub.com.au
SUMMARY:Jack Baynes Memorial Day - Canadian Mixed.
DESCRIPTION:11.30 for 12pm start. Pls arrange own partner and bring a plate.\nThe Jack Baynes Memorial Day commenced in 1988.  It is a Canadian Mixed Handicap event. The day is hosted by his family as a loving memorial.  Stableford for those not in foursomes.  Birdie Hole 10th.
URL:https://www.yeagolfclub.com.au/event/jack-baynes-memorial-day-canadian-mixed/
LOCATION:Yea GC
CATEGORIES:Board,Mens,Mixed
ORGANIZER;CN="Yea GC":MAILTO:secretary@yeagolfclub.com.au
END:VEVENT
BEGIN:VEVENT
DTSTART;VALUE=DATE:20210428
DTEND;VALUE=DATE:20210429
DTSTAMP:20260424T181028
CREATED:20210131T020313Z
LAST-MODIFIED:20210131T020313Z
UID:4767-1619568000-1619654399@www.yeagolfclub.com.au
SUMMARY:3 Person Multiplier - Stableford
DESCRIPTION:
URL:https://www.yeagolfclub.com.au/event/3-person-multiplier-stableford/
LOCATION:Yea GC
CATEGORIES:Mens
ORGANIZER;CN="Yea GC":MAILTO:secretary@yeagolfclub.com.au
END:VEVENT
BEGIN:VEVENT
DTSTART;VALUE=DATE:20210424
DTEND;VALUE=DATE:20210425
DTSTAMP:20260424T181028
CREATED:20210131T020313Z
LAST-MODIFIED:20210131T020313Z
UID:4765-1619222400-1619308799@www.yeagolfclub.com.au
SUMMARY:Foursomes Championships
DESCRIPTION:12:30pm start both Mixed & Mens.
URL:https://www.yeagolfclub.com.au/event/foursomes-championships/
LOCATION:Yea GC
CATEGORIES:Board,Mens
ORGANIZER;CN="Yea GC":MAILTO:secretary@yeagolfclub.com.au
END:VEVENT
BEGIN:VEVENT
DTSTART;VALUE=DATE:20210422
DTEND;VALUE=DATE:20210423
DTSTAMP:20260424T181028
CREATED:20210131T020304Z
LAST-MODIFIED:20210131T020304Z
UID:4762-1619049600-1619135999@www.yeagolfclub.com.au
SUMMARY:Vets - Yea
DESCRIPTION:Membership Open to all Club Members over age of 55 Cost – $20/yr
URL:https://www.yeagolfclub.com.au/event/vets-yea/
LOCATION:Yea GC
CATEGORIES:Ladies,Mens,Veterans
ORGANIZER;CN="Yea GC":MAILTO:secretary@yeagolfclub.com.au
END:VEVENT
BEGIN:VEVENT
DTSTART;VALUE=DATE:20210421
DTEND;VALUE=DATE:20210422
DTSTAMP:20260424T181028
CREATED:20210131T020304Z
LAST-MODIFIED:20210131T020304Z
UID:4760-1618963200-1619049599@www.yeagolfclub.com.au
SUMMARY:Stableford
DESCRIPTION:
URL:https://www.yeagolfclub.com.au/event/stableford-7/
LOCATION:Yea GC
CATEGORIES:Ladies,Mens
ORGANIZER;CN="Yea GC":MAILTO:secretary@yeagolfclub.com.au
END:VEVENT
BEGIN:VEVENT
DTSTART;VALUE=DATE:20210418
DTEND;VALUE=DATE:20210419
DTSTAMP:20260424T181028
CREATED:20210131T015921Z
LAST-MODIFIED:20210131T015921Z
UID:4756-1618704000-1618790399@www.yeagolfclub.com.au
SUMMARY:Men's Pennant Round 4
DESCRIPTION:Go Royal Yea guys!
URL:https://www.yeagolfclub.com.au/event/mens-pennant-round-4/
CATEGORIES:Mens
END:VEVENT
BEGIN:VEVENT
DTSTART;VALUE=DATE:20210417
DTEND;VALUE=DATE:20210418
DTSTAMP:20260424T181028
CREATED:20210131T015921Z
LAST-MODIFIED:20210222T010745Z
UID:4754-1618617600-1618703999@www.yeagolfclub.com.au
SUMMARY:Men's Monthly Medal #2
DESCRIPTION:Stroke & Putting / Also Round 1 of Sichlau Trophy – Birdie Hole 15th \n6 stroke rounds\, with 4 best nett rounds to count. In the event of a tie there will be a play off over 18 holes and if the scores are tied a count back on the play off round. In the event of a round being abandoned the number of rounds to count may be reduced. Handicap as at date of play.
URL:https://www.yeagolfclub.com.au/event/mens-monthly-medal-3/
LOCATION:Yea GC
CATEGORIES:Mens
ORGANIZER;CN="Yea GC":MAILTO:secretary@yeagolfclub.com.au
END:VEVENT
BEGIN:VEVENT
DTSTART;VALUE=DATE:20210414
DTEND;VALUE=DATE:20210415
DTSTAMP:20260424T181028
CREATED:20210131T015905Z
LAST-MODIFIED:20210131T015905Z
UID:4751-1618358400-1618444799@www.yeagolfclub.com.au
SUMMARY:Stroke & Putting
DESCRIPTION:
URL:https://www.yeagolfclub.com.au/event/stroke-putting/
LOCATION:Yea GC
CATEGORIES:Mens
ORGANIZER;CN="Yea GC":MAILTO:secretary@yeagolfclub.com.au
END:VEVENT
END:VCALENDAR