BEGIN:VCALENDAR
VERSION:2.0
PRODID:-//Yea Golf Club - ECPv6.15.17.1//NONSGML v1.0//EN
CALSCALE:GREGORIAN
METHOD:PUBLISH
X-WR-CALNAME:Yea Golf Club
X-ORIGINAL-URL:https://www.yeagolfclub.com.au
X-WR-CALDESC:Events for Yea Golf Club
REFRESH-INTERVAL;VALUE=DURATION:PT1H
X-Robots-Tag:noindex
X-PUBLISHED-TTL:PT1H
BEGIN:VTIMEZONE
TZID:Australia/Melbourne
BEGIN:STANDARD
TZOFFSETFROM:+1100
TZOFFSETTO:+1000
TZNAME:AEST
DTSTART:20240406T160000
END:STANDARD
BEGIN:DAYLIGHT
TZOFFSETFROM:+1000
TZOFFSETTO:+1100
TZNAME:AEDT
DTSTART:20241005T160000
END:DAYLIGHT
BEGIN:STANDARD
TZOFFSETFROM:+1100
TZOFFSETTO:+1000
TZNAME:AEST
DTSTART:20250405T160000
END:STANDARD
BEGIN:DAYLIGHT
TZOFFSETFROM:+1000
TZOFFSETTO:+1100
TZNAME:AEDT
DTSTART:20251004T160000
END:DAYLIGHT
BEGIN:STANDARD
TZOFFSETFROM:+1100
TZOFFSETTO:+1000
TZNAME:AEST
DTSTART:20260404T160000
END:STANDARD
BEGIN:DAYLIGHT
TZOFFSETFROM:+1000
TZOFFSETTO:+1100
TZNAME:AEDT
DTSTART:20261003T160000
END:DAYLIGHT
END:VTIMEZONE
BEGIN:VEVENT
DTSTART;VALUE=DATE:20251210
DTEND;VALUE=DATE:20251211
DTSTAMP:20260422T232501
CREATED:20250209T223204Z
LAST-MODIFIED:20250209T223204Z
UID:8380-1765324800-1765411199@www.yeagolfclub.com.au
SUMMARY:Gender Challenge #2- Stroke & Putting
DESCRIPTION:To be Advised
URL:https://www.yeagolfclub.com.au/event/gender-challenge-2-stroke-putting-5/
CATEGORIES:Ladies,Mens
END:VEVENT
BEGIN:VEVENT
DTSTART;VALUE=DATE:20251202
DTEND;VALUE=DATE:20251203
DTSTAMP:20260422T232501
CREATED:20250209T223248Z
LAST-MODIFIED:20250209T223248Z
UID:8410-1764633600-1764719999@www.yeagolfclub.com.au
SUMMARY:Mens Christmas Outing
DESCRIPTION:
URL:https://www.yeagolfclub.com.au/event/mens-christmas-outing/
LOCATION:Yea GC
CATEGORIES:Mens
END:VEVENT
BEGIN:VEVENT
DTSTART;VALUE=DATE:20251130
DTEND;VALUE=DATE:20251201
DTSTAMP:20260422T232501
CREATED:20250209T223128Z
LAST-MODIFIED:20250209T223128Z
UID:8352-1764460800-1764547199@www.yeagolfclub.com.au
SUMMARY:District Championships @ Lancefield
DESCRIPTION:
URL:https://www.yeagolfclub.com.au/event/district-championships-lancefield/
LOCATION:Lancefield GC
CATEGORIES:Mens
END:VEVENT
BEGIN:VEVENT
DTSTART;VALUE=DATE:20251129
DTEND;VALUE=DATE:20251130
DTSTAMP:20260422T232501
CREATED:20250209T223240Z
LAST-MODIFIED:20250209T223241Z
UID:8404-1764374400-1764460799@www.yeagolfclub.com.au
SUMMARY:Stroke / Mens Gold Medal Playoff - BH 9th
DESCRIPTION:Stroke & Putting – Birdie Hole 9thWinners of Monthly Medals in previous 12 months\, January to November play for Gold Medal\nBest nett score. Count back system to apply. Handicap as at day of play
URL:https://www.yeagolfclub.com.au/event/stroke-mens-gold-medal-playoff-bh-9th/
LOCATION:Yea GC
CATEGORIES:Ladies,Mens
END:VEVENT
BEGIN:VEVENT
DTSTART;VALUE=DATE:20251126
DTEND;VALUE=DATE:20251127
DTSTAMP:20260422T232501
CREATED:20250209T223240Z
LAST-MODIFIED:20250209T223241Z
UID:8402-1764115200-1764201599@www.yeagolfclub.com.au
SUMMARY:Gender Challenge #1 - Stableford
DESCRIPTION:
URL:https://www.yeagolfclub.com.au/event/gender-challenge-1-stableford-5/
LOCATION:Yea GC
CATEGORIES:Ladies,Mens
END:VEVENT
BEGIN:VEVENT
DTSTART;VALUE=DATE:20251123
DTEND;VALUE=DATE:20251124
DTSTAMP:20260422T232501
CREATED:20250209T223128Z
LAST-MODIFIED:20250209T223128Z
UID:8354-1763856000-1763942399@www.yeagolfclub.com.au
SUMMARY:Eildon Tournament
DESCRIPTION:
URL:https://www.yeagolfclub.com.au/event/eildon-tournament-5/
LOCATION:Eildon GC
CATEGORIES:Ladies,Mens
END:VEVENT
BEGIN:VEVENT
DTSTART;VALUE=DATE:20251122
DTEND;VALUE=DATE:20251123
DTSTAMP:20260422T232501
CREATED:20250209T223240Z
LAST-MODIFIED:20250209T223241Z
UID:8401-1763769600-1763855999@www.yeagolfclub.com.au
SUMMARY:Mens Monthly Medal & Sichlau Trophy Round 6  -BH 5th  / Stroke
DESCRIPTION:Round 6 Sichlau Trophy – Stroke & Putting – Birdie Hole 5thThis is the final stroke round of 6 for the trophy\, with 4 best nett rounds to count. In the event of a tie there will be a play off over 18 holes and if the scores are tied a count back on the play off round In the event of a round being abandoned the number of rounds to count may be reduced. Handicap as at date of play
URL:https://www.yeagolfclub.com.au/event/mens-monthly-medal-sichlau-trophy-round-6-bh-5th-stroke/
LOCATION:Yea GC
CATEGORIES:Ladies,Mens
END:VEVENT
BEGIN:VEVENT
DTSTART;VALUE=DATE:20251119
DTEND;VALUE=DATE:20251120
DTSTAMP:20260422T232501
CREATED:20250209T223240Z
LAST-MODIFIED:20250209T223241Z
UID:8400-1763510400-1763596799@www.yeagolfclub.com.au
SUMMARY:Ladies Championship Round 4 / Par
DESCRIPTION:Stroke
URL:https://www.yeagolfclub.com.au/event/ladies-championship-round-4-par/
LOCATION:Yea GC
CATEGORIES:Ladies,Mens
END:VEVENT
BEGIN:VEVENT
DTSTART;VALUE=DATE:20251115
DTEND;VALUE=DATE:20251116
DTSTAMP:20260422T232501
CREATED:20250209T223055Z
LAST-MODIFIED:20250209T223055Z
UID:8332-1763164800-1763251199@www.yeagolfclub.com.au
SUMMARY:Murrindindi  Masters #1 (Alexandra)
DESCRIPTION:Stableford
URL:https://www.yeagolfclub.com.au/event/murrindindi-masters-1-alexandra/
LOCATION:Alexandra GC
CATEGORIES:Ladies,Mens
END:VEVENT
BEGIN:VEVENT
DTSTART;VALUE=DATE:20251112
DTEND;VALUE=DATE:20251113
DTSTAMP:20260422T232501
CREATED:20250209T223239Z
LAST-MODIFIED:20250209T223239Z
UID:8399-1762905600-1762991999@www.yeagolfclub.com.au
SUMMARY:Stroke  & Putting
DESCRIPTION:
URL:https://www.yeagolfclub.com.au/event/stroke-putting-24/
LOCATION:Yea GC
CATEGORIES:Ladies,Mens
END:VEVENT
BEGIN:VEVENT
DTSTART;VALUE=DATE:20251108
DTEND;VALUE=DATE:20251109
DTSTAMP:20260422T232501
CREATED:20250209T223239Z
LAST-MODIFIED:20250209T223239Z
UID:8398-1762560000-1762646399@www.yeagolfclub.com.au
SUMMARY:Yea Races  (To be confirmed)
DESCRIPTION:
URL:https://www.yeagolfclub.com.au/event/yea-races-to-be-confirmed-11/
LOCATION:Yea GC
CATEGORIES:Ladies,Mens
END:VEVENT
BEGIN:VEVENT
DTSTART;VALUE=DATE:20251105
DTEND;VALUE=DATE:20251106
DTSTAMP:20260422T232501
CREATED:20250209T223239Z
LAST-MODIFIED:20250209T223239Z
UID:8397-1762300800-1762387199@www.yeagolfclub.com.au
SUMMARY:Stableford  - 22 Pairs
DESCRIPTION:Two players playing individual stableford with their points on each hole earning a combined number determining their result   If either player earns 0 or 1 then that means the team can only receive a low outcome: ie. 01-02-03-04-05     11-12-13-14-15If both score 2 then they receive a Pair 22 result    If they score better than 22 they receive a high outcome: ie.32-33   42-43-etc
URL:https://www.yeagolfclub.com.au/event/stableford-22-pairs-14/
LOCATION:Yea GC
CATEGORIES:Ladies,Mens
END:VEVENT
BEGIN:VEVENT
DTSTART;VALUE=DATE:20251101
DTEND;VALUE=DATE:20251102
DTSTAMP:20260422T232501
CREATED:20250209T223239Z
LAST-MODIFIED:20250209T223239Z
UID:8395-1761955200-1762041599@www.yeagolfclub.com.au
SUMMARY:AH Smith Trophy Round 2 of 36 Hole Stableford - BH 4th / Stableford
DESCRIPTION:Birdie Hole 4th
URL:https://www.yeagolfclub.com.au/event/ah-smith-trophy-round-2-of-36-hole-stableford-bh-4th-stableford/
LOCATION:Yea GC
CATEGORIES:Ladies,Mens
END:VEVENT
BEGIN:VEVENT
DTSTART;VALUE=DATE:20251029
DTEND;VALUE=DATE:20251030
DTSTAMP:20260422T232501
CREATED:20250209T223934Z
LAST-MODIFIED:20250209T223934Z
UID:8491-1761696000-1761782399@www.yeagolfclub.com.au
SUMMARY:Ladies Championship Rnd 3 / Alternate shots - Foursomes
DESCRIPTION:
URL:https://www.yeagolfclub.com.au/event/ladies-championship-rnd-3-alternate-shots-foursomes/
LOCATION:Yea GC
CATEGORIES:Ladies,Mens
END:VEVENT
BEGIN:VEVENT
DTSTART;VALUE=DATE:20251025
DTEND;VALUE=DATE:20251026
DTSTAMP:20260422T232501
CREATED:20250209T223934Z
LAST-MODIFIED:20250209T223934Z
UID:8490-1761350400-1761436799@www.yeagolfclub.com.au
SUMMARY:Stableford / AH Smith Trophy Round 1 - 36 Hole Stableford BH 18th
DESCRIPTION:Next round is 2 November – Birdie Hole 18th
URL:https://www.yeagolfclub.com.au/event/stableford-ah-smith-trophy-round-1-36-hole-stableford-bh-18th/
LOCATION:Yea GC
CATEGORIES:Ladies,Mens
END:VEVENT
BEGIN:VEVENT
DTSTART;VALUE=DATE:20251022
DTEND;VALUE=DATE:20251023
DTSTAMP:20260422T232501
CREATED:20250209T223934Z
LAST-MODIFIED:20250209T223934Z
UID:8489-1761091200-1761177599@www.yeagolfclub.com.au
SUMMARY:Ladies Championship Round 2 / Stableford
DESCRIPTION:Stroke & Putting
URL:https://www.yeagolfclub.com.au/event/ladies-championship-round-2-stableford/
LOCATION:Yea GC
CATEGORIES:Ladies,Mens
END:VEVENT
BEGIN:VEVENT
DTSTART;VALUE=DATE:20251018
DTEND;VALUE=DATE:20251019
DTSTAMP:20260422T232501
CREATED:20250209T223934Z
LAST-MODIFIED:20250209T223934Z
UID:8488-1760745600-1760831999@www.yeagolfclub.com.au
SUMMARY:Stroke & Putting / Mens Club Championship - Round 3 (Final)
DESCRIPTION:Stroke
URL:https://www.yeagolfclub.com.au/event/stroke-putting-mens-club-championship-round-3-final/
LOCATION:Yea GC
CATEGORIES:Ladies,Mens
END:VEVENT
BEGIN:VEVENT
DTSTART;VALUE=DATE:20251015
DTEND;VALUE=DATE:20251016
DTSTAMP:20260422T232501
CREATED:20250209T223934Z
LAST-MODIFIED:20250209T223934Z
UID:8487-1760486400-1760572799@www.yeagolfclub.com.au
SUMMARY:Ladies Championship Round 1/  Stroke & Putting
DESCRIPTION:Stroke & Putting
URL:https://www.yeagolfclub.com.au/event/ladies-championship-round-1-stroke-putting/
LOCATION:Yea GC
CATEGORIES:Ladies,Mens
END:VEVENT
BEGIN:VEVENT
DTSTART;VALUE=DATE:20251011
DTEND;VALUE=DATE:20251012
DTSTAMP:20260422T232501
CREATED:20250209T223919Z
LAST-MODIFIED:20250209T223919Z
UID:8486-1760140800-1760227199@www.yeagolfclub.com.au
SUMMARY:Stableford / Mens Club Championship - Round 2
DESCRIPTION:Stroke
URL:https://www.yeagolfclub.com.au/event/stableford-mens-club-championship-round-2/
LOCATION:Yea GC
CATEGORIES:Ladies,Mens
END:VEVENT
BEGIN:VEVENT
DTSTART;VALUE=DATE:20251008
DTEND;VALUE=DATE:20251009
DTSTAMP:20260422T232501
CREATED:20250209T223919Z
LAST-MODIFIED:20250209T223919Z
UID:8485-1759881600-1759967999@www.yeagolfclub.com.au
SUMMARY:Ladies Gold Medal Play Off / Stableford
DESCRIPTION:Stroke & Putting / Stableford
URL:https://www.yeagolfclub.com.au/event/ladies-gold-medal-play-off-stableford/
LOCATION:Yea GC
CATEGORIES:Ladies,Mens
END:VEVENT
BEGIN:VEVENT
DTSTART;VALUE=DATE:20251007
DTEND;VALUE=DATE:20251008
DTSTAMP:20260422T232501
CREATED:20250209T223143Z
LAST-MODIFIED:20250209T223143Z
UID:8362-1759795200-1759881599@www.yeagolfclub.com.au
SUMMARY:Spring Tournament @ Flinders / Vets State Champs @ TBA
DESCRIPTION:
URL:https://www.yeagolfclub.com.au/event/spring-tournament-flinders-vets-state-champs-tba-2/
CATEGORIES:Ladies,Mens
END:VEVENT
BEGIN:VEVENT
DTSTART;VALUE=DATE:20251006
DTEND;VALUE=DATE:20251007
DTSTAMP:20260422T232501
CREATED:20250209T223143Z
LAST-MODIFIED:20250209T223143Z
UID:8361-1759708800-1759795199@www.yeagolfclub.com.au
SUMMARY:Spring Tournament @ Flinders / Vets State Champs @ TBA
DESCRIPTION:
URL:https://www.yeagolfclub.com.au/event/spring-tournament-flinders-vets-state-champs-tba/
CATEGORIES:Ladies,Mens
END:VEVENT
BEGIN:VEVENT
DTSTART;VALUE=DATE:20251004
DTEND;VALUE=DATE:20251005
DTSTAMP:20260422T232501
CREATED:20250209T223919Z
LAST-MODIFIED:20250209T223919Z
UID:8484-1759536000-1759622399@www.yeagolfclub.com.au
SUMMARY:Stroke & Putting / Mens Club Championship - Round 1  / Sichlau Trophy #5 - BH 4th
DESCRIPTION:Stroke & Putting – Round 5 of the Sichlau Trophy\,.Stroke & Putting.  Birdie Hole 4thRound 1 of the Mens Championships in A B and C grades. Winners are determined over the aggregated scores over three Stroke rounds   The Club Champion being the player with the lowest scratch score\nGrade cut offs are to be decided by the Match Committee. Players will remain in the Grade in which they commenced the Championship\nIn the event of a tie in any grade there will be a sudden death play off   Play off holes will be 10\, 18\, 10\, 18 etc. Handicap Championship will run concurrent with this event
URL:https://www.yeagolfclub.com.au/event/stroke-putting-mens-club-championship-round-1-sichlau-trophy-5-bh-4th/
LOCATION:Yea GC
CATEGORIES:Ladies,Mens
END:VEVENT
BEGIN:VEVENT
DTSTART;VALUE=DATE:20250926
DTEND;VALUE=DATE:20250927
DTSTAMP:20260422T232501
CREATED:20250209T223919Z
LAST-MODIFIED:20250209T223919Z
UID:8482-1758844800-1758931199@www.yeagolfclub.com.au
SUMMARY:Bruce Kindred Cup
DESCRIPTION:8-30 for 9am start   Please bring a plate
URL:https://www.yeagolfclub.com.au/event/bruce-kindred-cup-2/
LOCATION:Yea GC
CATEGORIES:Ladies,Mens
END:VEVENT
BEGIN:VEVENT
DTSTART;VALUE=DATE:20250924
DTEND;VALUE=DATE:20250925
DTSTAMP:20260422T232501
CREATED:20250209T223858Z
LAST-MODIFIED:20250209T223858Z
UID:8481-1758672000-1758758399@www.yeagolfclub.com.au
SUMMARY:Stableford
DESCRIPTION:
URL:https://www.yeagolfclub.com.au/event/stableford-121/
LOCATION:Yea GC
CATEGORIES:Ladies,Mens
END:VEVENT
BEGIN:VEVENT
DTSTART;VALUE=DATE:20250917
DTEND;VALUE=DATE:20250918
DTSTAMP:20260422T232501
CREATED:20250209T223858Z
LAST-MODIFIED:20250209T223858Z
UID:8479-1758067200-1758153599@www.yeagolfclub.com.au
SUMMARY:Silver Spoon Final / 2 Person Ambrose
DESCRIPTION:Stableford / Ambrose
URL:https://www.yeagolfclub.com.au/event/silver-spoon-final-2-person-ambrose/
LOCATION:Yea GC
CATEGORIES:Ladies,Mens
END:VEVENT
BEGIN:VEVENT
DTSTART;VALUE=DATE:20250912
DTEND;VALUE=DATE:20250913
DTSTAMP:20260422T232501
CREATED:20250209T231157Z
LAST-MODIFIED:20250209T231157Z
UID:8530-1757635200-1757721599@www.yeagolfclub.com.au
SUMMARY:Mens  Knockout - Final Knockout to be played
DESCRIPTION:
URL:https://www.yeagolfclub.com.au/event/mens-knockout-final-knockout-to-be-played-5/
LOCATION:Yea GC
CATEGORIES:Mens
END:VEVENT
BEGIN:VEVENT
DTSTART;VALUE=DATE:20250910
DTEND;VALUE=DATE:20250911
DTSTAMP:20260422T232501
CREATED:20250209T223858Z
LAST-MODIFIED:20250209T223858Z
UID:8477-1757462400-1757548799@www.yeagolfclub.com.au
SUMMARY:Doris Chambers Cup / Stableford
DESCRIPTION:18 hole foursomes stableford
URL:https://www.yeagolfclub.com.au/event/doris-chambers-cup-stableford/
LOCATION:Yea GC
CATEGORIES:Ladies,Mens
END:VEVENT
BEGIN:VEVENT
DTSTART;VALUE=DATE:20250906
DTEND;VALUE=DATE:20250907
DTSTAMP:20260422T232501
CREATED:20250209T223843Z
LAST-MODIFIED:20250209T223843Z
UID:8476-1757116800-1757203199@www.yeagolfclub.com.au
SUMMARY:Ladies (#8) Monthly Medal & Mens Monthly Medal / Rnd 4 Sichlau trophy
DESCRIPTION:Stroke & Putting – Also Round 4 of Sichlau Trophy –  Birdie Hole 12th
URL:https://www.yeagolfclub.com.au/event/ladies-8-monthly-medal-mens-monthly-medal-rnd-4-sichlau-trophy/
LOCATION:Yea GC
CATEGORIES:Ladies,Mens
END:VEVENT
BEGIN:VEVENT
DTSTART;VALUE=DATE:20250903
DTEND;VALUE=DATE:20250904
DTSTAMP:20260422T232501
CREATED:20250209T223843Z
LAST-MODIFIED:20250209T223843Z
UID:8475-1756857600-1756943999@www.yeagolfclub.com.au
SUMMARY:Par 3 Day at Yea - Stableford
DESCRIPTION:
URL:https://www.yeagolfclub.com.au/event/par-3-day-at-yea-stableford-5/
LOCATION:Yea GC
CATEGORIES:Ladies,Mens
END:VEVENT
END:VCALENDAR