BEGIN:VCALENDAR
VERSION:2.0
PRODID:-//Yea Golf Club - ECPv6.15.17.1//NONSGML v1.0//EN
CALSCALE:GREGORIAN
METHOD:PUBLISH
X-ORIGINAL-URL:https://www.yeagolfclub.com.au
X-WR-CALDESC:Events for Yea Golf Club
REFRESH-INTERVAL;VALUE=DURATION:PT1H
X-Robots-Tag:noindex
X-PUBLISHED-TTL:PT1H
BEGIN:VTIMEZONE
TZID:Australia/Melbourne
BEGIN:STANDARD
TZOFFSETFROM:+1100
TZOFFSETTO:+1000
TZNAME:AEST
DTSTART:20200404T160000
END:STANDARD
BEGIN:DAYLIGHT
TZOFFSETFROM:+1000
TZOFFSETTO:+1100
TZNAME:AEDT
DTSTART:20201003T160000
END:DAYLIGHT
BEGIN:STANDARD
TZOFFSETFROM:+1100
TZOFFSETTO:+1000
TZNAME:AEST
DTSTART:20210403T160000
END:STANDARD
BEGIN:DAYLIGHT
TZOFFSETFROM:+1000
TZOFFSETTO:+1100
TZNAME:AEDT
DTSTART:20211002T160000
END:DAYLIGHT
BEGIN:STANDARD
TZOFFSETFROM:+1100
TZOFFSETTO:+1000
TZNAME:AEST
DTSTART:20220402T160000
END:STANDARD
BEGIN:DAYLIGHT
TZOFFSETFROM:+1000
TZOFFSETTO:+1100
TZNAME:AEDT
DTSTART:20221001T160000
END:DAYLIGHT
END:VTIMEZONE
BEGIN:VEVENT
DTSTART;VALUE=DATE:20211028
DTEND;VALUE=DATE:20211029
DTSTAMP:20260424T131704
CREATED:20210131T022604Z
LAST-MODIFIED:20210131T022604Z
UID:4930-1635379200-1635465599@www.yeagolfclub.com.au
SUMMARY:Vets - Broadford AGM 2 Person Ambrose
DESCRIPTION:Membership Open to all Club Members over age of 55 Cost – $20/yr
URL:https://www.yeagolfclub.com.au/event/vets-broadford-agm-2-person-ambrose/
LOCATION:Broadford GC
CATEGORIES:Ladies,Mens,Veterans
ORGANIZER;CN="Broadford GC":MAILTO:broadfordgolfclub@bigpond.com
END:VEVENT
BEGIN:VEVENT
DTSTART;VALUE=DATE:20211027
DTEND;VALUE=DATE:20211028
DTSTAMP:20260424T131704
CREATED:20210131T022604Z
LAST-MODIFIED:20210131T022604Z
UID:4928-1635292800-1635379199@www.yeagolfclub.com.au
SUMMARY:Stableford - Broadford GC Visit
DESCRIPTION:
URL:https://www.yeagolfclub.com.au/event/stableford-broadford-gc-visit/
LOCATION:Yea GC
CATEGORIES:Mens
ORGANIZER;CN="Broadford GC":MAILTO:broadfordgolfclub@bigpond.com
END:VEVENT
BEGIN:VEVENT
DTSTART;VALUE=DATE:20211024
DTEND;VALUE=DATE:20211025
DTSTAMP:20260424T131704
CREATED:20210131T022604Z
LAST-MODIFIED:20210131T022604Z
UID:4927-1635033600-1635119999@www.yeagolfclub.com.au
SUMMARY:Trentham Tournament
DESCRIPTION:
URL:https://www.yeagolfclub.com.au/event/trentham-tournament-2/
LOCATION:Trentham GC
CATEGORIES:Mens
END:VEVENT
BEGIN:VEVENT
DTSTART;VALUE=DATE:20211023
DTEND;VALUE=DATE:20211024
DTSTAMP:20260424T131704
CREATED:20210131T022549Z
LAST-MODIFIED:20210131T022549Z
UID:4925-1634947200-1635033599@www.yeagolfclub.com.au
SUMMARY:4 Stick Stableford
DESCRIPTION:Play Stroke with 4 clubs (incl Putter) only. Birdie Hole 8th.
URL:https://www.yeagolfclub.com.au/event/4-stick-stableford-2/
LOCATION:Yea GC
CATEGORIES:Mens
ORGANIZER;CN="Yea GC":MAILTO:secretary@yeagolfclub.com.au
END:VEVENT
BEGIN:VEVENT
DTSTART;VALUE=DATE:20211022
DTEND;VALUE=DATE:20211023
DTSTAMP:20260424T131704
CREATED:20210131T022549Z
LAST-MODIFIED:20210131T022549Z
UID:4924-1634860800-1634947199@www.yeagolfclub.com.au
SUMMARY:Yea Golf Club - Corporate & Trades Day.
DESCRIPTION:All Members are encouraged to invite friends and colleagues to play in this event
URL:https://www.yeagolfclub.com.au/event/yea-golf-club-corporate-trades-day/
LOCATION:Yea GC
CATEGORIES:Mens
ORGANIZER;CN="Yea GC":MAILTO:secretary@yeagolfclub.com.au
END:VEVENT
BEGIN:VEVENT
DTSTART;VALUE=DATE:20211020
DTEND;VALUE=DATE:20211021
DTSTAMP:20260424T131704
CREATED:20210131T022534Z
LAST-MODIFIED:20210131T022534Z
UID:4920-1634688000-1634774399@www.yeagolfclub.com.au
SUMMARY:Stroke & Putting
DESCRIPTION:
URL:https://www.yeagolfclub.com.au/event/stroke-putting-7/
LOCATION:Yea GC
CATEGORIES:Mens
ORGANIZER;CN="Yea GC":MAILTO:secretary@yeagolfclub.com.au
END:VEVENT
BEGIN:VEVENT
DTSTART;VALUE=DATE:20211017
DTEND;VALUE=DATE:20211018
DTSTAMP:20260424T131704
CREATED:20210131T022534Z
LAST-MODIFIED:20210131T022534Z
UID:4918-1634428800-1634515199@www.yeagolfclub.com.au
SUMMARY:Woodend Tournament
DESCRIPTION:
URL:https://www.yeagolfclub.com.au/event/woodend-tournament-2/
LOCATION:Woodend GC
CATEGORIES:Mens
ORGANIZER;CN="Woodend GC":MAILTO:woodendgolfclub@gmail.com
END:VEVENT
BEGIN:VEVENT
DTSTART;VALUE=DATE:20211016
DTEND;VALUE=DATE:20211017
DTSTAMP:20260424T131704
CREATED:20210131T022533Z
LAST-MODIFIED:20210204T030005Z
UID:4916-1634342400-1634428799@www.yeagolfclub.com.au
SUMMARY:Men's Club Championship - Round 3 (Final)
DESCRIPTION:Final Round Stroke- The Men’s Championships in A\, B and C grades are determined over the aggregated scores over three Stroke rounds. The Club Champion being the player with the lowest scratch score.\nGrade cut offs are to be decided by the Match Committee. Players will remain in the Grade in which they commenced the Championship.  \nIn the event of a tie in any grade there will be a sudden death play off. Play off holes will be 10\, 18\, 10\, 18 etc. Handicap Championship will run concurrent with this event. – Birdie Hole 14th.
URL:https://www.yeagolfclub.com.au/event/mens-club-championship-round-3-final/
LOCATION:Yea GC
CATEGORIES:Board,Mens
ORGANIZER;CN="Yea GC":MAILTO:secretary@yeagolfclub.com.au
END:VEVENT
BEGIN:VEVENT
DTSTART;VALUE=DATE:20211014
DTEND;VALUE=DATE:20211015
DTSTAMP:20260424T131704
CREATED:20210131T022519Z
LAST-MODIFIED:20210131T022519Z
UID:4914-1634169600-1634255999@www.yeagolfclub.com.au
SUMMARY:Vets - Seymour
DESCRIPTION:Membership Open to all Club Members over age of 55 Cost – $20/yr
URL:https://www.yeagolfclub.com.au/event/vets-seymour/
LOCATION:Seymour GC
CATEGORIES:Ladies,Mens,Veterans
ORGANIZER;CN="Seymour GC":MAILTO:seygolfclub@bigpond.com
END:VEVENT
BEGIN:VEVENT
DTSTART;VALUE=DATE:20211013
DTEND;VALUE=DATE:20211014
DTSTAMP:20260424T131704
CREATED:20210131T022519Z
LAST-MODIFIED:20210131T022519Z
UID:4912-1634083200-1634169599@www.yeagolfclub.com.au
SUMMARY:Stableford .
DESCRIPTION:
URL:https://www.yeagolfclub.com.au/event/stableford-28/
LOCATION:Yea GC
CATEGORIES:Mens
ORGANIZER;CN="Yea GC":MAILTO:secretary@yeagolfclub.com.au
END:VEVENT
BEGIN:VEVENT
DTSTART;VALUE=DATE:20211010
DTEND;VALUE=DATE:20211011
DTSTAMP:20260424T131704
CREATED:20210131T022504Z
LAST-MODIFIED:20210131T022504Z
UID:4909-1633824000-1633910399@www.yeagolfclub.com.au
SUMMARY:Strathbogie Tournament
DESCRIPTION:
URL:https://www.yeagolfclub.com.au/event/strathbogie-tournament-2/
LOCATION:Strathbogie GC
CATEGORIES:Mens
ORGANIZER;CN="Strathbogie GC":MAILTO: barterken@bigpond.com
END:VEVENT
BEGIN:VEVENT
DTSTART;VALUE=DATE:20211009
DTEND;VALUE=DATE:20211010
DTSTAMP:20260424T131704
CREATED:20210131T022504Z
LAST-MODIFIED:20210204T030639Z
UID:4907-1633737600-1633823999@www.yeagolfclub.com.au
SUMMARY:Men's Club Championship - Round 2
DESCRIPTION:Stroke & Putting. Round 5 of the Sichlau Trophy – Birdie Hole 4th. \nRound 2 of the Men’s Championships in A\, B and C grades. Winners are determined over the aggregated scores over three Stroke rounds. The Club Champion being the player with the lowest scratch score.\nGrade cut offs are to be decided by the Match Committee. Players will remain in the Grade in which they commenced the Championship.  \nIn the event of a tie in any grade there will be a sudden death play off. Play off holes will be 10\, 18\, 10\, 18 etc. Handicap Championship will run concurrent with this event.
URL:https://www.yeagolfclub.com.au/event/mens-club-championship-round-2/
LOCATION:Yea GC
CATEGORIES:Mens
ORGANIZER;CN="Yea GC":MAILTO:secretary@yeagolfclub.com.au
END:VEVENT
BEGIN:VEVENT
DTSTART;VALUE=DATE:20211006
DTEND;VALUE=DATE:20211007
DTSTAMP:20260424T131704
CREATED:20210131T022449Z
LAST-MODIFIED:20210131T022449Z
UID:4904-1633478400-1633564799@www.yeagolfclub.com.au
SUMMARY:4BBB Stableford . Draw for Partner.
DESCRIPTION:
URL:https://www.yeagolfclub.com.au/event/4bbb-stableford-draw-for-partner/
LOCATION:Yea GC
CATEGORIES:Mens
ORGANIZER;CN="Yea GC":MAILTO:secretary@yeagolfclub.com.au
END:VEVENT
BEGIN:VEVENT
DTSTART;VALUE=DATE:20211004
DTEND;VALUE=DATE:20211006
DTSTAMP:20260424T131704
CREATED:20210131T022448Z
LAST-MODIFIED:20210131T022448Z
UID:4902-1633305600-1633478399@www.yeagolfclub.com.au
SUMMARY:Vets - State Champs. Jubilee
DESCRIPTION:Membership Open to all Club Members over age of 55 Cost – $20/yr
URL:https://www.yeagolfclub.com.au/event/vets-state-champs-jubilee/
CATEGORIES:Ladies,Mens,Veterans
END:VEVENT
BEGIN:VEVENT
DTSTART;VALUE=DATE:20211003
DTEND;VALUE=DATE:20211004
DTSTAMP:20260424T131704
CREATED:20210131T022434Z
LAST-MODIFIED:20210131T022434Z
UID:4900-1633219200-1633305599@www.yeagolfclub.com.au
SUMMARY:Euroa Tournament
DESCRIPTION:
URL:https://www.yeagolfclub.com.au/event/euroa-tournament-2/
LOCATION:Euroa GC
CATEGORIES:Mens
ORGANIZER;CN="Euroa GC":MAILTO:euroagolf@bigpond.com
END:VEVENT
BEGIN:VEVENT
DTSTART;VALUE=DATE:20211002
DTEND;VALUE=DATE:20211003
DTSTAMP:20260424T131704
CREATED:20210131T022434Z
LAST-MODIFIED:20210131T022434Z
UID:4898-1633132800-1633219199@www.yeagolfclub.com.au
SUMMARY:Men's Club Championship / Men's Monthly Medal #9
DESCRIPTION:Stroke – Round 1 of 3 – Stroke – Birdie Hole 7th
URL:https://www.yeagolfclub.com.au/event/mens-club-championship-mens-monthly-medal-9/
LOCATION:Yea GC
CATEGORIES:Board,Mens
ORGANIZER;CN="Yea GC":MAILTO:secretary@yeagolfclub.com.au
END:VEVENT
BEGIN:VEVENT
DTSTART;VALUE=DATE:20210929
DTEND;VALUE=DATE:20210930
DTSTAMP:20260424T131704
CREATED:20210131T022419Z
LAST-MODIFIED:20210131T022419Z
UID:4895-1632873600-1632959999@www.yeagolfclub.com.au
SUMMARY:Stableford
DESCRIPTION:
URL:https://www.yeagolfclub.com.au/event/stableford-26/
LOCATION:Yea GC
CATEGORIES:Mens
ORGANIZER;CN="Yea GC":MAILTO:secretary@yeagolfclub.com.au
END:VEVENT
BEGIN:VEVENT
DTSTART;VALUE=DATE:20210925
DTEND;VALUE=DATE:20210926
DTSTAMP:20260424T131704
CREATED:20210131T022419Z
LAST-MODIFIED:20210131T022419Z
UID:4894-1632528000-1632614399@www.yeagolfclub.com.au
SUMMARY:Grand Final 2020 - 3 Mixed Person Ambrose and Lunch.
DESCRIPTION:Players with or without Handicap. 8.30 for 9am Shotgun – Bring a plate.
URL:https://www.yeagolfclub.com.au/event/grand-final-2020-3-mixed-person-ambrose-and-lunch/
LOCATION:Yea GC
CATEGORIES:Ladies,Mens,Mixed
ORGANIZER;CN="Yea GC":MAILTO:secretary@yeagolfclub.com.au
END:VEVENT
BEGIN:VEVENT
DTSTART;VALUE=DATE:20210924
DTEND;VALUE=DATE:20210925
DTSTAMP:20260424T131704
CREATED:20210131T022419Z
LAST-MODIFIED:20210131T022419Z
UID:4893-1632441600-1632527999@www.yeagolfclub.com.au
SUMMARY:Bruce Kindred Cup - Yea Grand Final Holiday.
DESCRIPTION:4BBB plus Individual Stableford. 8.30 for 9am. Please bring a plate
URL:https://www.yeagolfclub.com.au/event/bruce-kindred-cup-yea-grand-final-holiday/
LOCATION:Yea GC
CATEGORIES:Board,Ladies,Mens,Mixed
ORGANIZER;CN="Yea GC":MAILTO:secretary@yeagolfclub.com.au
END:VEVENT
BEGIN:VEVENT
DTSTART;VALUE=DATE:20210923
DTEND;VALUE=DATE:20210924
DTSTAMP:20260424T131704
CREATED:20210131T022419Z
LAST-MODIFIED:20210131T022419Z
UID:4891-1632355200-1632441599@www.yeagolfclub.com.au
SUMMARY:Vets - Euroa .
DESCRIPTION:Membership Open to all Club Members over age of 55 Cost – $20/yr
URL:https://www.yeagolfclub.com.au/event/vets-euroa/
LOCATION:Euroa GC
CATEGORIES:Ladies,Mens,Veterans
ORGANIZER;CN="Euroa GC":MAILTO:euroagolf@bigpond.com
END:VEVENT
BEGIN:VEVENT
DTSTART;VALUE=DATE:20210922
DTEND;VALUE=DATE:20210923
DTSTAMP:20260424T131704
CREATED:20210131T022404Z
LAST-MODIFIED:20210131T022404Z
UID:4889-1632268800-1632355199@www.yeagolfclub.com.au
SUMMARY:2 Person Ambrose.
DESCRIPTION:
URL:https://www.yeagolfclub.com.au/event/2-person-ambrose-3/
LOCATION:Yea GC
CATEGORIES:Mens
ORGANIZER;CN="Yea GC":MAILTO:secretary@yeagolfclub.com.au
END:VEVENT
BEGIN:VEVENT
DTSTART;VALUE=DATE:20210919
DTEND;VALUE=DATE:20210920
DTSTAMP:20260424T131704
CREATED:20210131T022404Z
LAST-MODIFIED:20210131T022404Z
UID:4888-1632009600-1632095999@www.yeagolfclub.com.au
SUMMARY:Kilmore Tournament
DESCRIPTION:
URL:https://www.yeagolfclub.com.au/event/kilmore-tournament/
LOCATION:Kilmore GC
CATEGORIES:Mens
END:VEVENT
BEGIN:VEVENT
DTSTART;VALUE=DATE:20210918
DTEND;VALUE=DATE:20210919
DTSTAMP:20260424T131704
CREATED:20210131T022404Z
LAST-MODIFIED:20210131T022404Z
UID:4887-1631923200-1632009599@www.yeagolfclub.com.au
SUMMARY:Par
DESCRIPTION:Men – Birdie Hole 6th
URL:https://www.yeagolfclub.com.au/event/par-6/
LOCATION:Yea GC
CATEGORIES:Ladies,Mens
ORGANIZER;CN="Yea GC":MAILTO:secretary@yeagolfclub.com.au
END:VEVENT
BEGIN:VEVENT
DTSTART;VALUE=DATE:20210917
DTEND;VALUE=DATE:20210918
DTSTAMP:20260424T131704
CREATED:20210131T022403Z
LAST-MODIFIED:20210131T022403Z
UID:4886-1631836800-1631923199@www.yeagolfclub.com.au
SUMMARY:Men's Knockout - Final Knockout to be played
DESCRIPTION:Come along and cheer the finalists on!
URL:https://www.yeagolfclub.com.au/event/mens-knockout-final-knockout-to-be-played/
LOCATION:Yea GC
CATEGORIES:Board,Mens
ORGANIZER;CN="Yea GC":MAILTO:secretary@yeagolfclub.com.au
END:VEVENT
BEGIN:VEVENT
DTSTART;VALUE=DATE:20210915
DTEND;VALUE=DATE:20210916
DTSTAMP:20260424T131705
CREATED:20210131T022204Z
LAST-MODIFIED:20210131T022204Z
UID:4881-1631664000-1631750399@www.yeagolfclub.com.au
SUMMARY:Stableford
DESCRIPTION:
URL:https://www.yeagolfclub.com.au/event/stableford-24/
LOCATION:Yea GC
CATEGORIES:Mens
ORGANIZER;CN="Yea GC":MAILTO:secretary@yeagolfclub.com.au
END:VEVENT
BEGIN:VEVENT
DTSTART;VALUE=DATE:20210913
DTEND;VALUE=DATE:20210915
DTSTAMP:20260424T131705
CREATED:20210131T022203Z
LAST-MODIFIED:20210131T022203Z
UID:4880-1631491200-1631663999@www.yeagolfclub.com.au
SUMMARY:Vets Team Event - Beaufort
DESCRIPTION:Membership Open to all Club Members over age of 55 Cost – $20/yr
URL:https://www.yeagolfclub.com.au/event/vets-team-event-beaufort/
LOCATION:Beaufort GC
CATEGORIES:Ladies,Mens,Veterans
END:VEVENT
BEGIN:VEVENT
DTSTART;VALUE=DATE:20210912
DTEND;VALUE=DATE:20210913
DTSTAMP:20260424T131705
CREATED:20210131T022148Z
LAST-MODIFIED:20210131T022148Z
UID:4878-1631404800-1631491199@www.yeagolfclub.com.au
SUMMARY:Broadford Tournament
DESCRIPTION:
URL:https://www.yeagolfclub.com.au/event/broadford-tournament-2/
LOCATION:Broadford GC
CATEGORIES:Mens
ORGANIZER;CN="Broadford GC":MAILTO:broadfordgolfclub@bigpond.com
END:VEVENT
BEGIN:VEVENT
DTSTART;VALUE=DATE:20210911
DTEND;VALUE=DATE:20210912
DTSTAMP:20260424T131705
CREATED:20210131T022148Z
LAST-MODIFIED:20210131T022148Z
UID:4876-1631318400-1631404799@www.yeagolfclub.com.au
SUMMARY:Men's Monthly Medal #8\, Stroke & Putting.
DESCRIPTION:Also Round 4 of Sichlau Trophy. Birdie Hole 12th.
URL:https://www.yeagolfclub.com.au/event/mens-monthly-medal-8-stroke-putting/
LOCATION:Yea GC
CATEGORIES:Mens
ORGANIZER;CN="Yea GC":MAILTO:secretary@yeagolfclub.com.au
END:VEVENT
BEGIN:VEVENT
DTSTART;VALUE=DATE:20210909
DTEND;VALUE=DATE:20210910
DTSTAMP:20260424T131705
CREATED:20210131T022148Z
LAST-MODIFIED:20210131T022148Z
UID:4875-1631145600-1631231999@www.yeagolfclub.com.au
SUMMARY:Vets - Strathbogie
DESCRIPTION:Membership Open to all Club Members over age of 55 Cost – $20/yr
URL:https://www.yeagolfclub.com.au/event/vets-strathbogie-2/
LOCATION:Strathbogie GC
CATEGORIES:Ladies,Mens,Veterans
ORGANIZER;CN="Strathbogie GC":MAILTO: barterken@bigpond.com
END:VEVENT
BEGIN:VEVENT
DTSTART;VALUE=DATE:20210908
DTEND;VALUE=DATE:20210909
DTSTAMP:20260424T131705
CREATED:20210131T022006Z
LAST-MODIFIED:20210131T022006Z
UID:4872-1631059200-1631145599@www.yeagolfclub.com.au
SUMMARY:Par 3 Day at Yea - Stableford .
DESCRIPTION:
URL:https://www.yeagolfclub.com.au/event/par-3-day-at-yea-stableford/
LOCATION:Yea GC
CATEGORIES:Ladies,Mens
ORGANIZER;CN="Yea GC":MAILTO:secretary@yeagolfclub.com.au
END:VEVENT
END:VCALENDAR