BEGIN:VCALENDAR
VERSION:2.0
PRODID:-//Yea Golf Club - ECPv6.15.17.1//NONSGML v1.0//EN
CALSCALE:GREGORIAN
METHOD:PUBLISH
X-ORIGINAL-URL:https://www.yeagolfclub.com.au
X-WR-CALDESC:Events for Yea Golf Club
REFRESH-INTERVAL;VALUE=DURATION:PT1H
X-Robots-Tag:noindex
X-PUBLISHED-TTL:PT1H
BEGIN:VTIMEZONE
TZID:Australia/Melbourne
BEGIN:STANDARD
TZOFFSETFROM:+1100
TZOFFSETTO:+1000
TZNAME:AEST
DTSTART:20200404T160000
END:STANDARD
BEGIN:DAYLIGHT
TZOFFSETFROM:+1000
TZOFFSETTO:+1100
TZNAME:AEDT
DTSTART:20201003T160000
END:DAYLIGHT
BEGIN:STANDARD
TZOFFSETFROM:+1100
TZOFFSETTO:+1000
TZNAME:AEST
DTSTART:20210403T160000
END:STANDARD
BEGIN:DAYLIGHT
TZOFFSETFROM:+1000
TZOFFSETTO:+1100
TZNAME:AEDT
DTSTART:20211002T160000
END:DAYLIGHT
BEGIN:STANDARD
TZOFFSETFROM:+1100
TZOFFSETTO:+1000
TZNAME:AEST
DTSTART:20220402T160000
END:STANDARD
BEGIN:DAYLIGHT
TZOFFSETFROM:+1000
TZOFFSETTO:+1100
TZNAME:AEDT
DTSTART:20221001T160000
END:DAYLIGHT
BEGIN:STANDARD
TZOFFSETFROM:+1100
TZOFFSETTO:+1000
TZNAME:AEST
DTSTART:20230401T160000
END:STANDARD
BEGIN:DAYLIGHT
TZOFFSETFROM:+1000
TZOFFSETTO:+1100
TZNAME:AEDT
DTSTART:20230930T160000
END:DAYLIGHT
END:VTIMEZONE
BEGIN:VEVENT
DTSTART;VALUE=DATE:20220127
DTEND;VALUE=DATE:20220128
DTSTAMP:20260424T102248
CREATED:20210131T022903Z
LAST-MODIFIED:20210131T022903Z
UID:4986-1643241600-1643327999@www.yeagolfclub.com.au
SUMMARY:Vets - Nagaqmbie
DESCRIPTION:Membership Open to all Club Members over age of 55 Cost – $20/yr
URL:https://www.yeagolfclub.com.au/event/vets-nagaqmbie/
LOCATION:Nagambie GC
CATEGORIES:Ladies,Mens,Veterans
END:VEVENT
BEGIN:VEVENT
DTSTART;VALUE=DATE:20220126
DTEND;VALUE=DATE:20220127
DTSTAMP:20260424T102248
CREATED:20210131T022849Z
LAST-MODIFIED:20210131T022849Z
UID:4985-1643155200-1643241599@www.yeagolfclub.com.au
SUMMARY:Australia Day 4BBB Seymour.
DESCRIPTION:
URL:https://www.yeagolfclub.com.au/event/australia-day-4bbb-seymour/
LOCATION:Seymour GC
CATEGORIES:Ladies,Mens,Mixed
ORGANIZER;CN="Seymour GC":MAILTO:seygolfclub@bigpond.com
END:VEVENT
BEGIN:VEVENT
DTSTART;VALUE=DATE:20220122
DTEND;VALUE=DATE:20220123
DTSTAMP:20260424T102248
CREATED:20210131T022849Z
LAST-MODIFIED:20210131T022849Z
UID:4984-1642809600-1642895999@www.yeagolfclub.com.au
SUMMARY:Yea Races
DESCRIPTION:Pending confirmation of Race Days
URL:https://www.yeagolfclub.com.au/event/yea-races-3/
CATEGORIES:Mens
END:VEVENT
BEGIN:VEVENT
DTSTART;VALUE=DATE:20220119
DTEND;VALUE=DATE:20220120
DTSTAMP:20260424T102248
CREATED:20210131T022849Z
LAST-MODIFIED:20210131T022849Z
UID:4983-1642550400-1642636799@www.yeagolfclub.com.au
SUMMARY:Gender Challenge. #5 - Red Tees / Stableford
DESCRIPTION:All players play of the Red Tees
URL:https://www.yeagolfclub.com.au/event/gender-challenge-5-red-tees-stableford/
LOCATION:Yea GC
CATEGORIES:Mens
ORGANIZER;CN="Yea GC":MAILTO:secretary@yeagolfclub.com.au
END:VEVENT
BEGIN:VEVENT
DTSTART;VALUE=DATE:20220115
DTEND;VALUE=DATE:20220116
DTSTAMP:20260424T102248
CREATED:20210131T022849Z
LAST-MODIFIED:20210131T022849Z
UID:4982-1642204800-1642291199@www.yeagolfclub.com.au
SUMMARY:Murrindindi Masters TBC
DESCRIPTION:
URL:https://www.yeagolfclub.com.au/event/murrindindi-masters-tbc-2/
LOCATION:Yea GC
CATEGORIES:Mens
ORGANIZER;CN="Yea GC":MAILTO:secretary@yeagolfclub.com.au
END:VEVENT
BEGIN:VEVENT
DTSTART;VALUE=DATE:20220113
DTEND;VALUE=DATE:20220114
DTSTAMP:20260424T102248
CREATED:20210131T022849Z
LAST-MODIFIED:20210131T022849Z
UID:4981-1642032000-1642118399@www.yeagolfclub.com.au
SUMMARY:Vets - Seymour
DESCRIPTION:Membership Open to all Club Members over age of 55 Cost – $20/yr
URL:https://www.yeagolfclub.com.au/event/vets-seymour-2/
LOCATION:Seymour GC
CATEGORIES:Ladies,Mens,Veterans
ORGANIZER;CN="Seymour GC":MAILTO:seygolfclub@bigpond.com
END:VEVENT
BEGIN:VEVENT
DTSTART;VALUE=DATE:20220112
DTEND;VALUE=DATE:20220113
DTSTAMP:20260424T102248
CREATED:20210131T022834Z
LAST-MODIFIED:20210131T022834Z
UID:4980-1641945600-1642031999@www.yeagolfclub.com.au
SUMMARY:Gender Challenge. #4 - Par.
DESCRIPTION:
URL:https://www.yeagolfclub.com.au/event/gender-challenge-4-par/
LOCATION:Yea GC
CATEGORIES:Mens
ORGANIZER;CN="Yea GC":MAILTO:secretary@yeagolfclub.com.au
END:VEVENT
BEGIN:VEVENT
DTSTART;VALUE=DATE:20220108
DTEND;VALUE=DATE:20220109
DTSTAMP:20260424T102248
CREATED:20210131T022834Z
LAST-MODIFIED:20210131T022834Z
UID:4979-1641600000-1641686399@www.yeagolfclub.com.au
SUMMARY:Stableford
DESCRIPTION:Birdie Hole 11th.
URL:https://www.yeagolfclub.com.au/event/stableford-33/
LOCATION:Yea GC
CATEGORIES:Mens
ORGANIZER;CN="Yea GC":MAILTO:secretary@yeagolfclub.com.au
END:VEVENT
BEGIN:VEVENT
DTSTART;VALUE=DATE:20220105
DTEND;VALUE=DATE:20220106
DTSTAMP:20260424T102248
CREATED:20210131T022834Z
LAST-MODIFIED:20210131T022834Z
UID:4978-1641340800-1641427199@www.yeagolfclub.com.au
SUMMARY:Gender Challenge. #3 - Stableford .
DESCRIPTION:
URL:https://www.yeagolfclub.com.au/event/gender-challenge-3-stableford/
LOCATION:Yea GC
CATEGORIES:Mens
ORGANIZER;CN="Yea GC":MAILTO:secretary@yeagolfclub.com.au
END:VEVENT
BEGIN:VEVENT
DTSTART;VALUE=DATE:20220101
DTEND;VALUE=DATE:20220102
DTSTAMP:20260424T102248
CREATED:20210131T022834Z
LAST-MODIFIED:20210204T021557Z
UID:4977-1640995200-1641081599@www.yeagolfclub.com.au
SUMMARY:Stableford - 22 Pairs
DESCRIPTION:Birdie Hole 13th\nTwo players playing Individual Stableford with their points on each hole earning a combined number determining their result. If either player earns 0 or 1 then that means the team can only receive a low outcome: ie. O1\,02\,03\,04\,05\, 11\,12\,13\,14\,15.\nIf both score 2 then they receive a Pair 22 result. If they score better than 22 they receive a high outcome: ie.32\,33\,42\,43\,44\,52\,53\,54\,55
URL:https://www.yeagolfclub.com.au/event/stableford-22-pairs-4/
LOCATION:Yea GC
CATEGORIES:Mens
ORGANIZER;CN="Yea GC":MAILTO:secretary@yeagolfclub.com.au
END:VEVENT
BEGIN:VEVENT
DTSTART;VALUE=DATE:20211229
DTEND;VALUE=DATE:20211230
DTSTAMP:20260424T102248
CREATED:20210131T022833Z
LAST-MODIFIED:20210131T022833Z
UID:4976-1640736000-1640822399@www.yeagolfclub.com.au
SUMMARY:Gender Challenge. #2- Stroke & Putting
DESCRIPTION:
URL:https://www.yeagolfclub.com.au/event/gender-challenge-2-stroke-putting/
LOCATION:Yea GC
CATEGORIES:Mens
ORGANIZER;CN="Yea GC":MAILTO:secretary@yeagolfclub.com.au
END:VEVENT
BEGIN:VEVENT
DTSTART;VALUE=DATE:20211226
DTEND;VALUE=DATE:20211227
DTSTAMP:20260424T102248
CREATED:20210131T022819Z
LAST-MODIFIED:20210131T022819Z
UID:4975-1640476800-1640563199@www.yeagolfclub.com.au
SUMMARY:Stableford - Boxing Day
DESCRIPTION:Birdie Hole 2nd.
URL:https://www.yeagolfclub.com.au/event/stableford-boxing-day/
LOCATION:Yea GC
CATEGORIES:Mens
ORGANIZER;CN="Yea GC":MAILTO:secretary@yeagolfclub.com.au
END:VEVENT
BEGIN:VEVENT
DTSTART;VALUE=DATE:20211222
DTEND;VALUE=DATE:20211223
DTSTAMP:20260424T102248
CREATED:20210131T022819Z
LAST-MODIFIED:20210131T022819Z
UID:4974-1640131200-1640217599@www.yeagolfclub.com.au
SUMMARY:Stableford .
DESCRIPTION:
URL:https://www.yeagolfclub.com.au/event/stableford-32/
LOCATION:Yea GC
CATEGORIES:Mens
ORGANIZER;CN="Yea GC":MAILTO:secretary@yeagolfclub.com.au
END:VEVENT
BEGIN:VEVENT
DTSTART;VALUE=DATE:20211218
DTEND;VALUE=DATE:20211219
DTSTAMP:20260424T102248
CREATED:20210131T022819Z
LAST-MODIFIED:20210131T022819Z
UID:4973-1639785600-1639871999@www.yeagolfclub.com.au
SUMMARY:Stableford
DESCRIPTION:Men – Birdie Hole 4th.
URL:https://www.yeagolfclub.com.au/event/stableford-31/
LOCATION:Yea GC
CATEGORIES:Ladies,Mens
ORGANIZER;CN="Yea GC":MAILTO:secretary@yeagolfclub.com.au
END:VEVENT
BEGIN:VEVENT
DTSTART;VALUE=DATE:20211216
DTEND;VALUE=DATE:20211217
DTSTAMP:20260424T102248
CREATED:20210131T022818Z
LAST-MODIFIED:20210131T022818Z
UID:4972-1639612800-1639699199@www.yeagolfclub.com.au
SUMMARY:Vets - 4 Person Mixed Ambrose with Xmas Lunch.
DESCRIPTION:Membership Open to all Club Members over age of 55 Cost – $20/yr
URL:https://www.yeagolfclub.com.au/event/vets-4-person-mixed-ambrose-with-xmas-lunch/
LOCATION:Broadford GC
CATEGORIES:Ladies,Mens,Veterans
ORGANIZER;CN="Broadford GC":MAILTO:broadfordgolfclub@bigpond.com
END:VEVENT
BEGIN:VEVENT
DTSTART;VALUE=DATE:20211215
DTEND;VALUE=DATE:20211216
DTSTAMP:20260424T102248
CREATED:20210131T022805Z
LAST-MODIFIED:20210131T022805Z
UID:4970-1639526400-1639612799@www.yeagolfclub.com.au
SUMMARY:Xmas Break Up - 3 Person Ambrose
DESCRIPTION:.Come and celebrate with Xmas Lunch
URL:https://www.yeagolfclub.com.au/event/xmas-break-up-3-person-ambrose/
LOCATION:Yea GC
CATEGORIES:Ladies,Mens,Mixed,Social
ORGANIZER;CN="Yea GC":MAILTO:secretary@yeagolfclub.com.au
END:VEVENT
BEGIN:VEVENT
DTSTART;VALUE=DATE:20211211
DTEND;VALUE=DATE:20211212
DTSTAMP:20260424T102248
CREATED:20210131T022805Z
LAST-MODIFIED:20210131T022805Z
UID:4969-1639180800-1639267199@www.yeagolfclub.com.au
SUMMARY:Yea Races
DESCRIPTION:To be confrmed possibly Golf at Strathbogie .
URL:https://www.yeagolfclub.com.au/event/yea-races-2/
CATEGORIES:Ladies,Mens
END:VEVENT
BEGIN:VEVENT
DTSTART;VALUE=DATE:20211208
DTEND;VALUE=DATE:20211209
DTSTAMP:20260424T102248
CREATED:20210131T022804Z
LAST-MODIFIED:20210131T022804Z
UID:4967-1638921600-1639007999@www.yeagolfclub.com.au
SUMMARY:Men's end of year golf trip
DESCRIPTION:Pelly’s Budget Golf Tours to advise further details
URL:https://www.yeagolfclub.com.au/event/mens-end-of-year-golf-trip/
CATEGORIES:Mens
END:VEVENT
BEGIN:VEVENT
DTSTART;VALUE=DATE:20211205
DTEND;VALUE=DATE:20211206
DTSTAMP:20260424T102248
CREATED:20210131T022804Z
LAST-MODIFIED:20210131T022804Z
UID:4966-1638662400-1638748799@www.yeagolfclub.com.au
SUMMARY:Alexandra Tournament
DESCRIPTION:
URL:https://www.yeagolfclub.com.au/event/alexandra-tournament-2/
LOCATION:Alexandra GC
CATEGORIES:Mens
ORGANIZER;CN="Alexandra GC":MAILTO:alexandragolfclub@outlook.com
END:VEVENT
BEGIN:VEVENT
DTSTART;VALUE=DATE:20211204
DTEND;VALUE=DATE:20211205
DTSTAMP:20260424T102248
CREATED:20210131T022749Z
LAST-MODIFIED:20210204T022203Z
UID:4965-1638576000-1638662399@www.yeagolfclub.com.au
SUMMARY:Gold Medal Playoff.
DESCRIPTION:Stroke & Putting – Birdie Hole 9th.\nWinners of Monthly Medals in previous 12 months\, January to November play for Gold Medal.\nBest nett score. Count back system to apply. Handicap as at day of play.
URL:https://www.yeagolfclub.com.au/event/gold-medal-playoff/
LOCATION:Yea GC
CATEGORIES:Mens
ORGANIZER;CN="Yea GC":MAILTO:secretary@yeagolfclub.com.au
END:VEVENT
BEGIN:VEVENT
DTSTART;VALUE=DATE:20211202
DTEND;VALUE=DATE:20211203
DTSTAMP:20260424T102248
CREATED:20210131T022749Z
LAST-MODIFIED:20210131T022749Z
UID:4964-1638403200-1638489599@www.yeagolfclub.com.au
SUMMARY:Vets - Lancefield .
DESCRIPTION:Vets Membership Open to all Club Members over age of 55 Cost – $20/yr
URL:https://www.yeagolfclub.com.au/event/vets-lancefield-2/
LOCATION:Lancefield GC
CATEGORIES:Ladies,Mens,Veterans
ORGANIZER;CN="Lancefield GC":MAILTO:lgclub@bigpond.net.au
END:VEVENT
BEGIN:VEVENT
DTSTART;VALUE=DATE:20211201
DTEND;VALUE=DATE:20211202
DTSTAMP:20260424T102248
CREATED:20210131T022749Z
LAST-MODIFIED:20210131T022749Z
UID:4963-1638316800-1638403199@www.yeagolfclub.com.au
SUMMARY:Gender Challenge #1 - Stableford
DESCRIPTION:
URL:https://www.yeagolfclub.com.au/event/gender-challenge-1-stableford/
LOCATION:Yea GC
CATEGORIES:Ladies,Mens,Mixed
ORGANIZER;CN="Yea GC":MAILTO:secretary@yeagolfclub.com.au
END:VEVENT
BEGIN:VEVENT
DTSTART;VALUE=DATE:20211128
DTEND;VALUE=DATE:20211129
DTSTAMP:20260424T102248
CREATED:20210131T022748Z
LAST-MODIFIED:20210131T022748Z
UID:4962-1638057600-1638143999@www.yeagolfclub.com.au
SUMMARY:Eildon Tournament
DESCRIPTION:
URL:https://www.yeagolfclub.com.au/event/eildon-tournament/
LOCATION:Eildon GC
CATEGORIES:Mens
END:VEVENT
BEGIN:VEVENT
DTSTART;VALUE=DATE:20211127
DTEND;VALUE=DATE:20211128
DTSTAMP:20260424T102248
CREATED:20210131T022734Z
LAST-MODIFIED:20241021T221707Z
UID:4960-1637971200-1638057599@www.yeagolfclub.com.au
SUMMARY:Men's Monthly Medal #10
DESCRIPTION:Stroke & Putting
URL:https://www.yeagolfclub.com.au/event/mens-monthly-medal-10-sichlau-trophy/
LOCATION:Yea GC
CATEGORIES:Mens
ORGANIZER;CN="Yea GC":MAILTO:secretary@yeagolfclub.com.au
END:VEVENT
BEGIN:VEVENT
DTSTART;VALUE=DATE:20211124
DTEND;VALUE=DATE:20211125
DTSTAMP:20260424T102248
CREATED:20210131T022733Z
LAST-MODIFIED:20210131T022733Z
UID:4958-1637712000-1637798399@www.yeagolfclub.com.au
SUMMARY:Par
DESCRIPTION:
URL:https://www.yeagolfclub.com.au/event/par-7/
LOCATION:Yea GC
CATEGORIES:Mens
ORGANIZER;CN="Yea GC":MAILTO:secretary@yeagolfclub.com.au
END:VEVENT
BEGIN:VEVENT
DTSTART;VALUE=DATE:20211121
DTEND;VALUE=DATE:20211122
DTSTAMP:20260424T102248
CREATED:20210131T022733Z
LAST-MODIFIED:20210131T022733Z
UID:4956-1637452800-1637539199@www.yeagolfclub.com.au
SUMMARY:Romsey Tournament
DESCRIPTION:
URL:https://www.yeagolfclub.com.au/event/romsey-tournament-2/
LOCATION:Romsey GC
CATEGORIES:Mens
ORGANIZER;CN="Romsey GC":MAILTO:secretary@romseygolfclub.net
END:VEVENT
BEGIN:VEVENT
DTSTART;VALUE=DATE:20211120
DTEND;VALUE=DATE:20211121
DTSTAMP:20260424T102248
CREATED:20210131T022720Z
LAST-MODIFIED:20210131T022720Z
UID:4955-1637366400-1637452799@www.yeagolfclub.com.au
SUMMARY:Murrindindi Masters TBC
DESCRIPTION:
URL:https://www.yeagolfclub.com.au/event/murrindindi-masters-tbc/
CATEGORIES:Ladies,Mens
END:VEVENT
BEGIN:VEVENT
DTSTART;VALUE=DATE:20211118
DTEND;VALUE=DATE:20211119
DTSTAMP:20260424T102248
CREATED:20210131T022719Z
LAST-MODIFIED:20210131T022719Z
UID:4954-1637193600-1637279999@www.yeagolfclub.com.au
SUMMARY:Vets - Yea
DESCRIPTION:Membership Open to all Club Members over age of 55 Cost – $20/yr
URL:https://www.yeagolfclub.com.au/event/vets-yea-2/
LOCATION:Yea GC
CATEGORIES:Ladies,Mens,Veterans
ORGANIZER;CN="Yea GC":MAILTO:secretary@yeagolfclub.com.au
END:VEVENT
BEGIN:VEVENT
DTSTART;VALUE=DATE:20211117
DTEND;VALUE=DATE:20211118
DTSTAMP:20260424T102248
CREATED:20210131T022719Z
LAST-MODIFIED:20210131T022719Z
UID:4951-1637107200-1637193599@www.yeagolfclub.com.au
SUMMARY:Stroke & Putting .
DESCRIPTION:
URL:https://www.yeagolfclub.com.au/event/stroke-putting-8/
LOCATION:Yea GC
CATEGORIES:Mens
ORGANIZER;CN="Yea GC":MAILTO:secretary@yeagolfclub.com.au
END:VEVENT
BEGIN:VEVENT
DTSTART;VALUE=DATE:20211114
DTEND;VALUE=DATE:20211115
DTSTAMP:20260424T102248
CREATED:20210131T022704Z
LAST-MODIFIED:20210131T022704Z
UID:4950-1636848000-1636934399@www.yeagolfclub.com.au
SUMMARY:Marysville Tournament
DESCRIPTION:
URL:https://www.yeagolfclub.com.au/event/marysville-tournament-2/
LOCATION:Marysville GC
CATEGORIES:Mens
ORGANIZER;CN="Marysville GC":MAILTO:enquiries@marysvillegolfandbowls.com.au
END:VEVENT
END:VCALENDAR