BEGIN:VCALENDAR
VERSION:2.0
PRODID:-//Yea Golf Club - ECPv6.15.17.1//NONSGML v1.0//EN
CALSCALE:GREGORIAN
METHOD:PUBLISH
X-ORIGINAL-URL:https://www.yeagolfclub.com.au
X-WR-CALDESC:Events for Yea Golf Club
REFRESH-INTERVAL;VALUE=DURATION:PT1H
X-Robots-Tag:noindex
X-PUBLISHED-TTL:PT1H
BEGIN:VTIMEZONE
TZID:Australia/Melbourne
BEGIN:STANDARD
TZOFFSETFROM:+1100
TZOFFSETTO:+1000
TZNAME:AEST
DTSTART:20210403T160000
END:STANDARD
BEGIN:DAYLIGHT
TZOFFSETFROM:+1000
TZOFFSETTO:+1100
TZNAME:AEDT
DTSTART:20211002T160000
END:DAYLIGHT
BEGIN:STANDARD
TZOFFSETFROM:+1100
TZOFFSETTO:+1000
TZNAME:AEST
DTSTART:20220402T160000
END:STANDARD
BEGIN:DAYLIGHT
TZOFFSETFROM:+1000
TZOFFSETTO:+1100
TZNAME:AEDT
DTSTART:20221001T160000
END:DAYLIGHT
BEGIN:STANDARD
TZOFFSETFROM:+1100
TZOFFSETTO:+1000
TZNAME:AEST
DTSTART:20230401T160000
END:STANDARD
BEGIN:DAYLIGHT
TZOFFSETFROM:+1000
TZOFFSETTO:+1100
TZNAME:AEDT
DTSTART:20230930T160000
END:DAYLIGHT
END:VTIMEZONE
BEGIN:VEVENT
DTSTART;VALUE=DATE:20220514
DTEND;VALUE=DATE:20220516
DTSTAMP:20260424T072314
CREATED:20220215T222200Z
LAST-MODIFIED:20220215T222200Z
UID:5665-1652486400-1652659199@www.yeagolfclub.com.au
SUMMARY:N.J. Murray Trophy  - 1st Round - Stableford
DESCRIPTION:As for AH Smith Trophy. A 36 hole Event played over two rounds – Birdie Hole on 1st
URL:https://www.yeagolfclub.com.au/event/n-j-murray-trophy-1st-round-stableford-2/
LOCATION:Yea GC
CATEGORIES:Mens
ORGANIZER;CN="Yea GC":MAILTO:secretary@yeagolfclub.com.au
END:VEVENT
BEGIN:VEVENT
DTSTART;VALUE=DATE:20220511
DTEND;VALUE=DATE:20220513
DTSTAMP:20260424T072314
CREATED:20220215T222000Z
LAST-MODIFIED:20220215T222000Z
UID:5661-1652227200-1652399999@www.yeagolfclub.com.au
SUMMARY:Stableford  - 22 Pairs
DESCRIPTION:Two players playing Individual Stableford with their points on each hole earning a combined number determining their result. If either player earns 0 or 1 then that means the team can only receive a low outcome: ie. O1\,02\,03\,04\,05\, 11\,12\,13\,14\,15. If both score 2 then they receive a Pair 22 result. If they score better than 22 they receive a high outcome: ie.32\,33\,42\,43\,44\,52\,53\,54\,55
URL:https://www.yeagolfclub.com.au/event/stableford-22-pairs-5/
LOCATION:Yea GC
CATEGORIES:Mens
ORGANIZER;CN="Yea GC":MAILTO:secretary@yeagolfclub.com.au
END:VEVENT
BEGIN:VEVENT
DTSTART;VALUE=DATE:20220507
DTEND;VALUE=DATE:20220509
DTSTAMP:20260424T072314
CREATED:20220215T221945Z
LAST-MODIFIED:20220215T221945Z
UID:5658-1651881600-1652054399@www.yeagolfclub.com.au
SUMMARY:Men's Monthly Medal #4\, 3rd Round Sichlau Trophy
DESCRIPTION:Stroke & Putting. / Also round 3 of Sichlau Trophy – Birdie Hole 2nd\,
URL:https://www.yeagolfclub.com.au/event/mens-monthly-medal-4-3rd-round-sichlau-trophy/
LOCATION:Yea GC
CATEGORIES:Mens
ORGANIZER;CN="Yea GC":MAILTO:secretary@yeagolfclub.com.au
END:VEVENT
BEGIN:VEVENT
DTSTART;VALUE=DATE:20220504
DTEND;VALUE=DATE:20220506
DTSTAMP:20260424T072314
CREATED:20220215T221944Z
LAST-MODIFIED:20220215T221944Z
UID:5656-1651622400-1651795199@www.yeagolfclub.com.au
SUMMARY:Warburton Golf Trip
DESCRIPTION:
URL:https://www.yeagolfclub.com.au/event/warburton-golf-trip/
LOCATION:Yea GC
CATEGORIES:Mens
ORGANIZER;CN="Yea GC":MAILTO:secretary@yeagolfclub.com.au
END:VEVENT
BEGIN:VEVENT
DTSTART;VALUE=DATE:20220501
DTEND;VALUE=DATE:20220503
DTSTAMP:20260424T072314
CREATED:20220215T221930Z
LAST-MODIFIED:20220215T221930Z
UID:5653-1651363200-1651535999@www.yeagolfclub.com.au
SUMMARY:Men's Pennant - Round 4
DESCRIPTION:Go Royal Yea guys!
URL:https://www.yeagolfclub.com.au/event/mens-pennant-round-4-3/
LOCATION:Yea GC
CATEGORIES:Mens
END:VEVENT
BEGIN:VEVENT
DTSTART;VALUE=DATE:20220427
DTEND;VALUE=DATE:20220429
DTSTAMP:20260424T072314
CREATED:20220215T221929Z
LAST-MODIFIED:20220215T221929Z
UID:5651-1651017600-1651190399@www.yeagolfclub.com.au
SUMMARY:2 Person Multiplier - Stableford
DESCRIPTION:
URL:https://www.yeagolfclub.com.au/event/2-person-multiplier-stableford/
LOCATION:Yea GC
CATEGORIES:Mens
ORGANIZER;CN="Yea GC":MAILTO:secretary@yeagolfclub.com.au
END:VEVENT
BEGIN:VEVENT
DTSTART;VALUE=DATE:20220424
DTEND;VALUE=DATE:20220426
DTSTAMP:20260424T072314
CREATED:20220215T221929Z
LAST-MODIFIED:20220215T221929Z
UID:5649-1650758400-1650931199@www.yeagolfclub.com.au
SUMMARY:Men's Pennant - Round 3
DESCRIPTION:Goodluck Guys!!
URL:https://www.yeagolfclub.com.au/event/mens-pennant-round-3-3/
LOCATION:Alexandra GC
CATEGORIES:Mens
END:VEVENT
BEGIN:VEVENT
DTSTART;VALUE=DATE:20220423
DTEND;VALUE=DATE:20220424
DTSTAMP:20260424T072314
CREATED:20220215T221916Z
LAST-MODIFIED:20220215T221916Z
UID:5648-1650672000-1650758399@www.yeagolfclub.com.au
SUMMARY:Foursomes Championships
DESCRIPTION:Men & Mixed Foursomes – Scratch & Handicap 12:30pm start
URL:https://www.yeagolfclub.com.au/event/foursomes-championships-2/
LOCATION:Yea GC
CATEGORIES:Ladies,Mens
ORGANIZER;CN="Yea GC":MAILTO:secretary@yeagolfclub.com.au
END:VEVENT
BEGIN:VEVENT
DTSTART;VALUE=DATE:20220421
DTEND;VALUE=DATE:20220422
DTSTAMP:20260424T072314
CREATED:20220215T221916Z
LAST-MODIFIED:20220215T221916Z
UID:5646-1650499200-1650585599@www.yeagolfclub.com.au
SUMMARY:Broadford Tournament
DESCRIPTION:
URL:https://www.yeagolfclub.com.au/event/broadford-tournament-3/
LOCATION:Yea GC
CATEGORIES:Ladies,Mens
ORGANIZER;CN="Broadford GC":MAILTO:broadfordgolfclub@bigpond.com
END:VEVENT
BEGIN:VEVENT
DTSTART;VALUE=DATE:20220420
DTEND;VALUE=DATE:20220422
DTSTAMP:20260424T072314
CREATED:20220215T221915Z
LAST-MODIFIED:20220215T221915Z
UID:5645-1650412800-1650585599@www.yeagolfclub.com.au
SUMMARY:Stableford
DESCRIPTION:
URL:https://www.yeagolfclub.com.au/event/stableford-41/
LOCATION:Yea GC
CATEGORIES:Ladies,Mens
ORGANIZER;CN="Yea GC":MAILTO:secretary@yeagolfclub.com.au
END:VEVENT
BEGIN:VEVENT
DTSTART;VALUE=DATE:20220418
DTEND;VALUE=DATE:20220419
DTSTAMP:20260424T072314
CREATED:20220215T221915Z
LAST-MODIFIED:20220215T221915Z
UID:5644-1650240000-1650326399@www.yeagolfclub.com.au
SUMMARY:Easter 27 Hole Seymour Tournament
DESCRIPTION:
URL:https://www.yeagolfclub.com.au/event/easter-27-hole-seymour-tournament/
LOCATION:Seymour GC
CATEGORIES:Mens
ORGANIZER;CN="Seymour GC":MAILTO:seygolfclub@bigpond.com
END:VEVENT
BEGIN:VEVENT
DTSTART;VALUE=DATE:20220416
DTEND;VALUE=DATE:20220418
DTSTAMP:20260424T072314
CREATED:20220215T221838Z
LAST-MODIFIED:20220215T221838Z
UID:5643-1650067200-1650239999@www.yeagolfclub.com.au
SUMMARY:Men's Monthly Medal #3 / Rnd 2 of Sichlau Trophy
DESCRIPTION:Stroke & Putting / Also Round 2 of Sichlau Trophy – Birdie Hole 15th This is the 2nd of 6 stroke rounds\, with 4 best nett rounds to count. In the event of a tie there will be a play off over 18 holes and if the scores are tied a count back on the play off round. In the event of a round being abandoned the number of rounds to count may be reduced. Handicap as at date of play.
URL:https://www.yeagolfclub.com.au/event/mens-monthly-medal-3-rnd-2-of-sichlau-trophy/
LOCATION:Yea GC
CATEGORIES:Mens
ORGANIZER;CN="Yea GC":MAILTO:secretary@yeagolfclub.com.au
END:VEVENT
BEGIN:VEVENT
DTSTART;VALUE=DATE:20220413
DTEND;VALUE=DATE:20220415
DTSTAMP:20260424T072314
CREATED:20220215T221838Z
LAST-MODIFIED:20220215T221838Z
UID:5641-1649808000-1649980799@www.yeagolfclub.com.au
SUMMARY:Stroke & Putting
DESCRIPTION:
URL:https://www.yeagolfclub.com.au/event/stroke-putting-9/
LOCATION:Yea GC
CATEGORIES:Mens
ORGANIZER;CN="Yea GC":MAILTO:secretary@yeagolfclub.com.au
END:VEVENT
BEGIN:VEVENT
DTSTART;VALUE=DATE:20220410
DTEND;VALUE=DATE:20220412
DTSTAMP:20260424T072314
CREATED:20220215T221837Z
LAST-MODIFIED:20220215T221837Z
UID:5639-1649548800-1649721599@www.yeagolfclub.com.au
SUMMARY:Men's Pennant - Round 2
DESCRIPTION:Goodluck Guys!!
URL:https://www.yeagolfclub.com.au/event/mens-pennant-round-2-3/
LOCATION:Eildon GC
CATEGORIES:Mens
END:VEVENT
BEGIN:VEVENT
DTSTART;VALUE=DATE:20220409
DTEND;VALUE=DATE:20220410
DTSTAMP:20260424T072314
CREATED:20220215T235946Z
LAST-MODIFIED:20220215T235946Z
UID:5839-1649462400-1649548799@www.yeagolfclub.com.au
SUMMARY:Stableford
DESCRIPTION:
URL:https://www.yeagolfclub.com.au/event/stableford-61/
LOCATION:Yea GC
CATEGORIES:Ladies,Mens
ORGANIZER;CN="Yea GC":MAILTO:secretary@yeagolfclub.com.au
END:VEVENT
BEGIN:VEVENT
DTSTART;VALUE=DATE:20220406
DTEND;VALUE=DATE:20220408
DTSTAMP:20260424T072314
CREATED:20220215T221636Z
LAST-MODIFIED:20220215T221636Z
UID:5637-1649203200-1649375999@www.yeagolfclub.com.au
SUMMARY:Stableford .
DESCRIPTION:
URL:https://www.yeagolfclub.com.au/event/stableford-40/
LOCATION:Yea GC
CATEGORIES:Mens
ORGANIZER;CN="Yea GC":MAILTO:secretary@yeagolfclub.com.au
END:VEVENT
BEGIN:VEVENT
DTSTART;VALUE=DATE:20220404
DTEND;VALUE=DATE:20220406
DTSTAMP:20260424T072314
CREATED:20220215T221635Z
LAST-MODIFIED:20220215T221635Z
UID:5635-1649030400-1649203199@www.yeagolfclub.com.au
SUMMARY:GA Autumn Tournament - Bright/Myrtleford
DESCRIPTION:
URL:https://www.yeagolfclub.com.au/event/ga-autumn-tournament-bright-myrtleford/
CATEGORIES:Ladies,Mens,Mixed
ORGANIZER;CN="Seymour GC":MAILTO:seygolfclub@bigpond.com
END:VEVENT
BEGIN:VEVENT
DTSTART;VALUE=DATE:20220403
DTEND;VALUE=DATE:20220404
DTSTAMP:20260424T072314
CREATED:20220215T221635Z
LAST-MODIFIED:20220215T221635Z
UID:5634-1648944000-1649030399@www.yeagolfclub.com.au
SUMMARY:Men's Pennant - Round 1
DESCRIPTION:
URL:https://www.yeagolfclub.com.au/event/mens-pennant-round-1-3/
LOCATION:Kilmore GC
CATEGORIES:Mens
END:VEVENT
BEGIN:VEVENT
DTSTART;VALUE=DATE:20220402
DTEND;VALUE=DATE:20220404
DTSTAMP:20260424T072314
CREATED:20220215T221621Z
LAST-MODIFIED:20220215T221621Z
UID:5633-1648857600-1649030399@www.yeagolfclub.com.au
SUMMARY:Barry Moore Trophy - Stableford -  Final Rnd
DESCRIPTION:Final Round of Barry Moore Trophy –  Birdie Hole – 16th.
URL:https://www.yeagolfclub.com.au/event/barry-moore-trophy-stableford-final-rnd/
LOCATION:Yea GC
CATEGORIES:Board,Mens
ORGANIZER;CN="Yea GC":MAILTO:secretary@yeagolfclub.com.au
END:VEVENT
BEGIN:VEVENT
DTSTART;VALUE=DATE:20220327
DTEND;VALUE=DATE:20220329
DTSTAMP:20260424T072314
CREATED:20220215T221620Z
LAST-MODIFIED:20220215T221620Z
UID:5629-1648339200-1648511999@www.yeagolfclub.com.au
SUMMARY:Centenial Stroke Tournament - Romsey
DESCRIPTION:
URL:https://www.yeagolfclub.com.au/event/centenial-stroke-tournament-romsey/
LOCATION:Romsey GC
CATEGORIES:Mens
END:VEVENT
BEGIN:VEVENT
DTSTART;VALUE=DATE:20220326
DTEND;VALUE=DATE:20220328
DTSTAMP:20260424T072314
CREATED:20220215T221536Z
LAST-MODIFIED:20220215T221536Z
UID:5628-1648252800-1648425599@www.yeagolfclub.com.au
SUMMARY:Monthly Medal Round 1\,  Sichlau Trophy Rnd 1
DESCRIPTION:Stroke & Putting / Also Round 1 of Sichlau Trophy (Birdie Hole 10th) Six rounds of Stroke\, with 4 best nett rounds to count. In the event of a tie there will be a play off over 18 holes and if the scores are tied a count back on the play off round. In the event of a round being abandoned the number of rounds to count may be reduced. Handicap as at date of play.
URL:https://www.yeagolfclub.com.au/event/monthly-medal-round-1-sichlau-trophy-rnd-1/
LOCATION:Yea GC
CATEGORIES:Mens
ORGANIZER;CN="Yea GC":MAILTO:secretary@yeagolfclub.com.au
END:VEVENT
BEGIN:VEVENT
DTSTART;VALUE=DATE:20220323
DTEND;VALUE=DATE:20220326
DTSTAMP:20260424T072314
CREATED:20220215T221535Z
LAST-MODIFIED:20220215T221535Z
UID:5625-1647993600-1648252799@www.yeagolfclub.com.au
SUMMARY:Stableford
DESCRIPTION:
URL:https://www.yeagolfclub.com.au/event/stableford-37/
LOCATION:Yea GC
CATEGORIES:Mens
ORGANIZER;CN="Yea GC":MAILTO:secretary@yeagolfclub.com.au
END:VEVENT
BEGIN:VEVENT
DTSTART;VALUE=DATE:20220320
DTEND;VALUE=DATE:20220321
DTSTAMP:20260424T072314
CREATED:20220215T221521Z
LAST-MODIFIED:20220215T221521Z
UID:5623-1647734400-1647820799@www.yeagolfclub.com.au
SUMMARY:DDGA Country Teams Ambrose - Euroa
DESCRIPTION:
URL:https://www.yeagolfclub.com.au/event/ddga-country-teams-ambrose-euroa-2/
LOCATION:Euroa GC
CATEGORIES:Mens
ORGANIZER;CN="Euroa GC":MAILTO:euroagolf@bigpond.com
END:VEVENT
BEGIN:VEVENT
DTSTART;VALUE=DATE:20220319
DTEND;VALUE=DATE:20220320
DTSTAMP:20260424T072314
CREATED:20220215T221520Z
LAST-MODIFIED:20220215T221520Z
UID:5621-1647648000-1647734399@www.yeagolfclub.com.au
SUMMARY:Sat Season Opening - 3 person Ambrose
DESCRIPTION:18 hole event.
URL:https://www.yeagolfclub.com.au/event/sat-season-opening-3-person-ambrose/
LOCATION:Yea GC
CATEGORIES:Ladies,Mens
ORGANIZER;CN="Yea GC":MAILTO:secretary@yeagolfclub.com.au
END:VEVENT
BEGIN:VEVENT
DTSTART;VALUE=DATE:20220319
DTEND;VALUE=DATE:20220320
DTSTAMP:20260424T072314
CREATED:20220215T221520Z
LAST-MODIFIED:20220215T221520Z
UID:5622-1647648000-1647734399@www.yeagolfclub.com.au
SUMMARY:Winter Season Opening  - 3 Person Ambrose
DESCRIPTION:Men’s Opening of Winter Season
URL:https://www.yeagolfclub.com.au/event/winter-season-opening-3-person-ambrose-2/
LOCATION:Yea GC
CATEGORIES:Mens
ORGANIZER;CN="Yea GC":MAILTO:secretary@yeagolfclub.com.au
END:VEVENT
BEGIN:VEVENT
DTSTART;VALUE=DATE:20220316
DTEND;VALUE=DATE:20220318
DTSTAMP:20260424T072314
CREATED:20220215T221520Z
LAST-MODIFIED:20220215T221520Z
UID:5619-1647388800-1647561599@www.yeagolfclub.com.au
SUMMARY:Four Stick Stableford
DESCRIPTION:18 hole event.
URL:https://www.yeagolfclub.com.au/event/four-stick-stableford/
LOCATION:Yea GC
CATEGORIES:Ladies,Mens
ORGANIZER;CN="Yea GC":MAILTO:secretary@yeagolfclub.com.au
END:VEVENT
BEGIN:VEVENT
DTSTART;VALUE=DATE:20220313
DTEND;VALUE=DATE:20220314
DTSTAMP:20260424T072314
CREATED:20220215T221513Z
LAST-MODIFIED:20220215T221513Z
UID:5618-1647129600-1647215999@www.yeagolfclub.com.au
SUMMARY:Lancefield Tournament
DESCRIPTION:
URL:https://www.yeagolfclub.com.au/event/lancefield-tournament-3/
LOCATION:Lancefield GC
CATEGORIES:Mens
ORGANIZER;CN="Lancefield GC":MAILTO:lgclub@bigpond.net.au
END:VEVENT
BEGIN:VEVENT
DTSTART;VALUE=DATE:20220312
DTEND;VALUE=DATE:20220313
DTSTAMP:20260424T072314
CREATED:20220215T221513Z
LAST-MODIFIED:20220215T221513Z
UID:5617-1647043200-1647129599@www.yeagolfclub.com.au
SUMMARY:Stableford
DESCRIPTION:18 hole event.
URL:https://www.yeagolfclub.com.au/event/stableford-36/
LOCATION:Yea GC
CATEGORIES:Ladies,Mens
ORGANIZER;CN="Yea GC":MAILTO:secretary@yeagolfclub.com.au
END:VEVENT
BEGIN:VEVENT
DTSTART;VALUE=DATE:20220309
DTEND;VALUE=DATE:20220310
DTSTAMP:20260424T072314
CREATED:20220215T221513Z
LAST-MODIFIED:20220215T221513Z
UID:5615-1646784000-1646870399@www.yeagolfclub.com.au
SUMMARY:Pair Multiplier Stableford
DESCRIPTION:Multipy stableford score of each player
URL:https://www.yeagolfclub.com.au/event/pair-multiplier-stableford-2/
LOCATION:Yea GC
CATEGORIES:Mens
ORGANIZER;CN="Yea GC":MAILTO:secretary@yeagolfclub.com.au
END:VEVENT
BEGIN:VEVENT
DTSTART;VALUE=DATE:20220305
DTEND;VALUE=DATE:20220306
DTSTAMP:20260424T072314
CREATED:20220215T221111Z
LAST-MODIFIED:20220215T221111Z
UID:5611-1646438400-1646524799@www.yeagolfclub.com.au
SUMMARY:Barry Moore Trophy - Stableford - 1st Round
DESCRIPTION:Played over two 18 hole Rounds  – Birdie Hole 14th
URL:https://www.yeagolfclub.com.au/event/barry-moore-trophy-stableford-1st-round-2/
LOCATION:Yea GC
CATEGORIES:Board,Mens
ORGANIZER;CN="Yea GC":MAILTO:secretary@yeagolfclub.com.au
END:VEVENT
END:VCALENDAR