BEGIN:VCALENDAR
VERSION:2.0
PRODID:-//Yea Golf Club - ECPv6.15.17.1//NONSGML v1.0//EN
CALSCALE:GREGORIAN
METHOD:PUBLISH
X-ORIGINAL-URL:https://www.yeagolfclub.com.au
X-WR-CALDESC:Events for Yea Golf Club
REFRESH-INTERVAL;VALUE=DURATION:PT1H
X-Robots-Tag:noindex
X-PUBLISHED-TTL:PT1H
BEGIN:VTIMEZONE
TZID:Australia/Melbourne
BEGIN:STANDARD
TZOFFSETFROM:+1100
TZOFFSETTO:+1000
TZNAME:AEST
DTSTART:20210403T160000
END:STANDARD
BEGIN:DAYLIGHT
TZOFFSETFROM:+1000
TZOFFSETTO:+1100
TZNAME:AEDT
DTSTART:20211002T160000
END:DAYLIGHT
BEGIN:STANDARD
TZOFFSETFROM:+1100
TZOFFSETTO:+1000
TZNAME:AEST
DTSTART:20220402T160000
END:STANDARD
BEGIN:DAYLIGHT
TZOFFSETFROM:+1000
TZOFFSETTO:+1100
TZNAME:AEDT
DTSTART:20221001T160000
END:DAYLIGHT
BEGIN:STANDARD
TZOFFSETFROM:+1100
TZOFFSETTO:+1000
TZNAME:AEST
DTSTART:20230401T160000
END:STANDARD
BEGIN:DAYLIGHT
TZOFFSETFROM:+1000
TZOFFSETTO:+1100
TZNAME:AEDT
DTSTART:20230930T160000
END:DAYLIGHT
END:VTIMEZONE
BEGIN:VEVENT
DTSTART;VALUE=DATE:20220709
DTEND;VALUE=DATE:20220711
DTSTAMP:20260424T054653
CREATED:20220215T223343Z
LAST-MODIFIED:20220215T223343Z
UID:5705-1657324800-1657497599@www.yeagolfclub.com.au
SUMMARY:Stableford
DESCRIPTION:Men – Birdie Hole 16th
URL:https://www.yeagolfclub.com.au/event/stableford-47/
LOCATION:Yea GC
CATEGORIES:Ladies,Mens
ORGANIZER;CN="Yea GC":MAILTO:secretary@yeagolfclub.com.au
END:VEVENT
BEGIN:VEVENT
DTSTART;VALUE=DATE:20220702
DTEND;VALUE=DATE:20220704
DTSTAMP:20260424T054653
CREATED:20220215T223328Z
LAST-MODIFIED:20220216T003659Z
UID:5703-1656720000-1656892799@www.yeagolfclub.com.au
SUMMARY:Stableford
DESCRIPTION:Men – Birdie Hole 15th.
URL:https://www.yeagolfclub.com.au/event/stableford-46/
LOCATION:Yea GC
CATEGORIES:Ladies,Mens
ORGANIZER;CN="Yea GC":MAILTO:secretary@yeagolfclub.com.au
END:VEVENT
BEGIN:VEVENT
DTSTART;VALUE=DATE:20220624
DTEND;VALUE=DATE:20220626
DTSTAMP:20260424T054653
CREATED:20220215T223327Z
LAST-MODIFIED:20220215T223327Z
UID:5700-1656028800-1656201599@www.yeagolfclub.com.au
SUMMARY:Men's  Knockout - 2nd round to be completed by now.
DESCRIPTION:Second round to be completed by now.
URL:https://www.yeagolfclub.com.au/event/mens-knockout-2nd-round-to-be-completed-by-now/
LOCATION:Yea GC
CATEGORIES:Mens
ORGANIZER;CN="Yea GC":MAILTO:secretary@yeagolfclub.com.au
END:VEVENT
BEGIN:VEVENT
DTSTART;VALUE=DATE:20220622
DTEND;VALUE=DATE:20220624
DTSTAMP:20260424T054653
CREATED:20220215T223327Z
LAST-MODIFIED:20220215T223327Z
UID:5699-1655856000-1656028799@www.yeagolfclub.com.au
SUMMARY:Bisque Par
DESCRIPTION:Played against Par\, but with the allowable strokes taken wherever the player wishes\, not as set on the card. Strokes taken must be decided upon when marking the card hole by hole\, not at the conclusion of the round.
URL:https://www.yeagolfclub.com.au/event/bisque-par-2/
LOCATION:Yea GC
CATEGORIES:Mens
ORGANIZER;CN="Yea GC":MAILTO:secretary@yeagolfclub.com.au
END:VEVENT
BEGIN:VEVENT
DTSTART;VALUE=DATE:20220618
DTEND;VALUE=DATE:20220620
DTSTAMP:20260424T054653
CREATED:20220215T223138Z
LAST-MODIFIED:20220215T223138Z
UID:5697-1655510400-1655683199@www.yeagolfclub.com.au
SUMMARY:Stableford
DESCRIPTION:Men  – Birdie Hole 18th.
URL:https://www.yeagolfclub.com.au/event/stableford-45/
LOCATION:Yea GC
CATEGORIES:Ladies,Mens
ORGANIZER;CN="Yea GC":MAILTO:secretary@yeagolfclub.com.au
END:VEVENT
BEGIN:VEVENT
DTSTART;VALUE=DATE:20220615
DTEND;VALUE=DATE:20220616
DTSTAMP:20260424T054653
CREATED:20220216T001633Z
LAST-MODIFIED:20220216T001633Z
UID:5845-1655251200-1655337599@www.yeagolfclub.com.au
SUMMARY:Stableford
DESCRIPTION:
URL:https://www.yeagolfclub.com.au/event/stableford-62/
LOCATION:Yea GC
CATEGORIES:Ladies,Mens
ORGANIZER;CN="Yea GC":MAILTO:secretary@yeagolfclub.com.au
END:VEVENT
BEGIN:VEVENT
DTSTART;VALUE=DATE:20220612
DTEND;VALUE=DATE:20220614
DTSTAMP:20260424T054653
CREATED:20220215T223138Z
LAST-MODIFIED:20220215T223138Z
UID:5694-1654992000-1655164799@www.yeagolfclub.com.au
SUMMARY:DDGA 4BBB Mens Stroke - Lancefield
DESCRIPTION:
URL:https://www.yeagolfclub.com.au/event/ddga-4bbb-mens-stroke-lancefield/
LOCATION:Lancefield GC
CATEGORIES:Mens
ORGANIZER;CN="Lancefield GC":MAILTO:lgclub@bigpond.net.au
END:VEVENT
BEGIN:VEVENT
DTSTART;VALUE=DATE:20220611
DTEND;VALUE=DATE:20220613
DTSTAMP:20260424T054653
CREATED:20220215T222938Z
LAST-MODIFIED:20220215T222938Z
UID:5693-1654905600-1655078399@www.yeagolfclub.com.au
SUMMARY:Prideaux Cup - Final Round -Stableford
DESCRIPTION:Final round of Prideaux Cup – Birdie Hole 9th.
URL:https://www.yeagolfclub.com.au/event/prideaux-cup-final-round-stableford-2/
LOCATION:Yea GC
CATEGORIES:Board,Mens
ORGANIZER;CN="Yea GC":MAILTO:secretary@yeagolfclub.com.au
END:VEVENT
BEGIN:VEVENT
DTSTART;VALUE=DATE:20220608
DTEND;VALUE=DATE:20220609
DTSTAMP:20260424T054653
CREATED:20220215T222938Z
LAST-MODIFIED:20220215T222938Z
UID:5691-1654646400-1654732799@www.yeagolfclub.com.au
SUMMARY:Stroke  & Putting
DESCRIPTION:
URL:https://www.yeagolfclub.com.au/event/stroke-putting-10/
LOCATION:Yea GC
CATEGORIES:Mens
ORGANIZER;CN="Yea GC":MAILTO:secretary@yeagolfclub.com.au
END:VEVENT
BEGIN:VEVENT
DTSTART;VALUE=DATE:20220605
DTEND;VALUE=DATE:20220607
DTSTAMP:20260424T054653
CREATED:20220215T222737Z
LAST-MODIFIED:20220215T222737Z
UID:5688-1654387200-1654559999@www.yeagolfclub.com.au
SUMMARY:Men's Pennant - Final
DESCRIPTION:Here’s hoping!!
URL:https://www.yeagolfclub.com.au/event/mens-pennant-final-2/
CATEGORIES:Mens
END:VEVENT
BEGIN:VEVENT
DTSTART;VALUE=DATE:20220604
DTEND;VALUE=DATE:20220606
DTSTAMP:20260424T054653
CREATED:20220215T222737Z
LAST-MODIFIED:20220215T222737Z
UID:5687-1654300800-1654473599@www.yeagolfclub.com.au
SUMMARY:Men's Monthly Medal #5
DESCRIPTION:Stroke & Putting.   Birdie Hole 5th
URL:https://www.yeagolfclub.com.au/event/mens-monthly-medal-5-2/
LOCATION:Yea GC
CATEGORIES:Mens
ORGANIZER;CN="Yea GC":MAILTO:secretary@yeagolfclub.com.au
END:VEVENT
BEGIN:VEVENT
DTSTART;VALUE=DATE:20220601
DTEND;VALUE=DATE:20220603
DTSTAMP:20260424T054653
CREATED:20220215T222736Z
LAST-MODIFIED:20220215T222736Z
UID:5685-1654041600-1654214399@www.yeagolfclub.com.au
SUMMARY:Stableford
DESCRIPTION:
URL:https://www.yeagolfclub.com.au/event/stableford-44/
LOCATION:Yea GC
CATEGORIES:Mens
ORGANIZER;CN="Yea GC":MAILTO:secretary@yeagolfclub.com.au
END:VEVENT
BEGIN:VEVENT
DTSTART;VALUE=DATE:20220529
DTEND;VALUE=DATE:20220531
DTSTAMP:20260424T054653
CREATED:20220215T222536Z
LAST-MODIFIED:20220215T222536Z
UID:5682-1653782400-1653955199@www.yeagolfclub.com.au
SUMMARY:Men's Pennant - Alternative Finals Date (If needed)
DESCRIPTION:Keep it up guys!
URL:https://www.yeagolfclub.com.au/event/mens-pennant-alternative-finals-date-if-needed/
CATEGORIES:Mens
END:VEVENT
BEGIN:VEVENT
DTSTART;VALUE=DATE:20220528
DTEND;VALUE=DATE:20220530
DTSTAMP:20260424T054653
CREATED:20220215T222536Z
LAST-MODIFIED:20220215T222536Z
UID:5681-1653696000-1653868799@www.yeagolfclub.com.au
SUMMARY:Prideaux  Cup - 36 Hole Stableford  - Round 1
DESCRIPTION:Round 1 of 2 for Prideaux  Cup – Birdie Hole 7th
URL:https://www.yeagolfclub.com.au/event/prideaux-cup-36-hole-stableford-round-1-2/
LOCATION:Yea GC
CATEGORIES:Board,Mens
ORGANIZER;CN="Yea GC":MAILTO:secretary@yeagolfclub.com.au
END:VEVENT
BEGIN:VEVENT
DTSTART;VALUE=DATE:20220527
DTEND;VALUE=DATE:20220529
DTSTAMP:20260424T054653
CREATED:20220215T222536Z
LAST-MODIFIED:20220215T222536Z
UID:5679-1653609600-1653782399@www.yeagolfclub.com.au
SUMMARY:Men's  Knockout - Round 1 completion
DESCRIPTION:Players(32) to be drawn to play each other in (16 matches) in the first round. 1st\, 2nd and 3rd rounds can be 9 or 18 hole contests\, agreed upon before play starts. Players must play in the same group but can use social or club events which involve Stableford\, Stroke or Par to determine a winner. Count backs will decide the result. Semifinals and the final must be 18 hole events. If matches are not played or notified by the due date then both players will be eliminated from the knockout.PAIRS “\n1st Round matches to be completed by now.
URL:https://www.yeagolfclub.com.au/event/mens-knockout-round-1-completion-2/
LOCATION:Yea GC
CATEGORIES:Mens
ORGANIZER;CN="Yea GC":MAILTO:secretary@yeagolfclub.com.au
END:VEVENT
BEGIN:VEVENT
DTSTART;VALUE=DATE:20220525
DTEND;VALUE=DATE:20220527
DTSTAMP:20260424T054653
CREATED:20220215T222434Z
LAST-MODIFIED:20220215T222434Z
UID:5677-1653436800-1653609599@www.yeagolfclub.com.au
SUMMARY:Stableford  - 4 Stick Event
DESCRIPTION:Play with 4 clubs (only) of your chosing
URL:https://www.yeagolfclub.com.au/event/stableford-4-stick-event-2/
LOCATION:Yea GC
CATEGORIES:Mens
ORGANIZER;CN="Yea GC":MAILTO:secretary@yeagolfclub.com.au
END:VEVENT
BEGIN:VEVENT
DTSTART;VALUE=DATE:20220522
DTEND;VALUE=DATE:20220524
DTSTAMP:20260424T054653
CREATED:20220215T222433Z
LAST-MODIFIED:20220215T222433Z
UID:5674-1653177600-1653350399@www.yeagolfclub.com.au
SUMMARY:Men's Pennant - Finals
DESCRIPTION:Keep it up guys!
URL:https://www.yeagolfclub.com.au/event/mens-pennant-finals-2/
CATEGORIES:Mens
END:VEVENT
BEGIN:VEVENT
DTSTART;VALUE=DATE:20220521
DTEND;VALUE=DATE:20220523
DTSTAMP:20260424T054653
CREATED:20220215T222232Z
LAST-MODIFIED:20220215T222232Z
UID:5673-1653091200-1653263999@www.yeagolfclub.com.au
SUMMARY:N.J. Murray Trophy - Stableford - Final Round.
DESCRIPTION:Birdie Hole – 12th
URL:https://www.yeagolfclub.com.au/event/n-j-murray-trophy-stableford-final-round-2/
LOCATION:Yea GC
CATEGORIES:Mens
ORGANIZER;CN="Yea GC":MAILTO:secretary@yeagolfclub.com.au
END:VEVENT
BEGIN:VEVENT
DTSTART;VALUE=DATE:20220518
DTEND;VALUE=DATE:20220520
DTSTAMP:20260424T054653
CREATED:20220215T222231Z
LAST-MODIFIED:20220215T222231Z
UID:5670-1652832000-1653004799@www.yeagolfclub.com.au
SUMMARY:Irish 3 Person - Stableford
DESCRIPTION:Best Score on first 9 holes\, then both scores on second 9
URL:https://www.yeagolfclub.com.au/event/irish-3-person-stableford-2/
LOCATION:Yea GC
CATEGORIES:Mens
ORGANIZER;CN="Yea GC":MAILTO:secretary@yeagolfclub.com.au
END:VEVENT
BEGIN:VEVENT
DTSTART;VALUE=DATE:20220515
DTEND;VALUE=DATE:20220517
DTSTAMP:20260424T054653
CREATED:20220215T222201Z
LAST-MODIFIED:20220215T222201Z
UID:5666-1652572800-1652745599@www.yeagolfclub.com.au
SUMMARY:Men's Pennant - Round 5
DESCRIPTION:Go Royal Yea guys!
URL:https://www.yeagolfclub.com.au/event/mens-pennant-round-5-2/
LOCATION:Marysville GC
CATEGORIES:Mens
END:VEVENT
BEGIN:VEVENT
DTSTART;VALUE=DATE:20220514
DTEND;VALUE=DATE:20220516
DTSTAMP:20260424T054653
CREATED:20220215T222200Z
LAST-MODIFIED:20220215T222200Z
UID:5665-1652486400-1652659199@www.yeagolfclub.com.au
SUMMARY:N.J. Murray Trophy  - 1st Round - Stableford
DESCRIPTION:As for AH Smith Trophy. A 36 hole Event played over two rounds – Birdie Hole on 1st
URL:https://www.yeagolfclub.com.au/event/n-j-murray-trophy-1st-round-stableford-2/
LOCATION:Yea GC
CATEGORIES:Mens
ORGANIZER;CN="Yea GC":MAILTO:secretary@yeagolfclub.com.au
END:VEVENT
BEGIN:VEVENT
DTSTART;VALUE=DATE:20220511
DTEND;VALUE=DATE:20220513
DTSTAMP:20260424T054653
CREATED:20220215T222000Z
LAST-MODIFIED:20220215T222000Z
UID:5661-1652227200-1652399999@www.yeagolfclub.com.au
SUMMARY:Stableford  - 22 Pairs
DESCRIPTION:Two players playing Individual Stableford with their points on each hole earning a combined number determining their result. If either player earns 0 or 1 then that means the team can only receive a low outcome: ie. O1\,02\,03\,04\,05\, 11\,12\,13\,14\,15. If both score 2 then they receive a Pair 22 result. If they score better than 22 they receive a high outcome: ie.32\,33\,42\,43\,44\,52\,53\,54\,55
URL:https://www.yeagolfclub.com.au/event/stableford-22-pairs-5/
LOCATION:Yea GC
CATEGORIES:Mens
ORGANIZER;CN="Yea GC":MAILTO:secretary@yeagolfclub.com.au
END:VEVENT
BEGIN:VEVENT
DTSTART;VALUE=DATE:20220507
DTEND;VALUE=DATE:20220509
DTSTAMP:20260424T054653
CREATED:20220215T221945Z
LAST-MODIFIED:20220215T221945Z
UID:5658-1651881600-1652054399@www.yeagolfclub.com.au
SUMMARY:Men's Monthly Medal #4\, 3rd Round Sichlau Trophy
DESCRIPTION:Stroke & Putting. / Also round 3 of Sichlau Trophy – Birdie Hole 2nd\,
URL:https://www.yeagolfclub.com.au/event/mens-monthly-medal-4-3rd-round-sichlau-trophy/
LOCATION:Yea GC
CATEGORIES:Mens
ORGANIZER;CN="Yea GC":MAILTO:secretary@yeagolfclub.com.au
END:VEVENT
BEGIN:VEVENT
DTSTART;VALUE=DATE:20220504
DTEND;VALUE=DATE:20220506
DTSTAMP:20260424T054653
CREATED:20220215T221944Z
LAST-MODIFIED:20220215T221944Z
UID:5656-1651622400-1651795199@www.yeagolfclub.com.au
SUMMARY:Warburton Golf Trip
DESCRIPTION:
URL:https://www.yeagolfclub.com.au/event/warburton-golf-trip/
LOCATION:Yea GC
CATEGORIES:Mens
ORGANIZER;CN="Yea GC":MAILTO:secretary@yeagolfclub.com.au
END:VEVENT
BEGIN:VEVENT
DTSTART;VALUE=DATE:20220501
DTEND;VALUE=DATE:20220503
DTSTAMP:20260424T054653
CREATED:20220215T221930Z
LAST-MODIFIED:20220215T221930Z
UID:5653-1651363200-1651535999@www.yeagolfclub.com.au
SUMMARY:Men's Pennant - Round 4
DESCRIPTION:Go Royal Yea guys!
URL:https://www.yeagolfclub.com.au/event/mens-pennant-round-4-3/
LOCATION:Yea GC
CATEGORIES:Mens
END:VEVENT
BEGIN:VEVENT
DTSTART;VALUE=DATE:20220427
DTEND;VALUE=DATE:20220429
DTSTAMP:20260424T054653
CREATED:20220215T221929Z
LAST-MODIFIED:20220215T221929Z
UID:5651-1651017600-1651190399@www.yeagolfclub.com.au
SUMMARY:2 Person Multiplier - Stableford
DESCRIPTION:
URL:https://www.yeagolfclub.com.au/event/2-person-multiplier-stableford/
LOCATION:Yea GC
CATEGORIES:Mens
ORGANIZER;CN="Yea GC":MAILTO:secretary@yeagolfclub.com.au
END:VEVENT
BEGIN:VEVENT
DTSTART;VALUE=DATE:20220424
DTEND;VALUE=DATE:20220426
DTSTAMP:20260424T054653
CREATED:20220215T221929Z
LAST-MODIFIED:20220215T221929Z
UID:5649-1650758400-1650931199@www.yeagolfclub.com.au
SUMMARY:Men's Pennant - Round 3
DESCRIPTION:Goodluck Guys!!
URL:https://www.yeagolfclub.com.au/event/mens-pennant-round-3-3/
LOCATION:Alexandra GC
CATEGORIES:Mens
END:VEVENT
BEGIN:VEVENT
DTSTART;VALUE=DATE:20220423
DTEND;VALUE=DATE:20220424
DTSTAMP:20260424T054653
CREATED:20220215T221916Z
LAST-MODIFIED:20220215T221916Z
UID:5648-1650672000-1650758399@www.yeagolfclub.com.au
SUMMARY:Foursomes Championships
DESCRIPTION:Men & Mixed Foursomes – Scratch & Handicap 12:30pm start
URL:https://www.yeagolfclub.com.au/event/foursomes-championships-2/
LOCATION:Yea GC
CATEGORIES:Ladies,Mens
ORGANIZER;CN="Yea GC":MAILTO:secretary@yeagolfclub.com.au
END:VEVENT
BEGIN:VEVENT
DTSTART;VALUE=DATE:20220421
DTEND;VALUE=DATE:20220422
DTSTAMP:20260424T054653
CREATED:20220215T221916Z
LAST-MODIFIED:20220215T221916Z
UID:5646-1650499200-1650585599@www.yeagolfclub.com.au
SUMMARY:Broadford Tournament
DESCRIPTION:
URL:https://www.yeagolfclub.com.au/event/broadford-tournament-3/
LOCATION:Yea GC
CATEGORIES:Ladies,Mens
ORGANIZER;CN="Broadford GC":MAILTO:broadfordgolfclub@bigpond.com
END:VEVENT
BEGIN:VEVENT
DTSTART;VALUE=DATE:20220420
DTEND;VALUE=DATE:20220422
DTSTAMP:20260424T054653
CREATED:20220215T221915Z
LAST-MODIFIED:20220215T221915Z
UID:5645-1650412800-1650585599@www.yeagolfclub.com.au
SUMMARY:Stableford
DESCRIPTION:
URL:https://www.yeagolfclub.com.au/event/stableford-41/
LOCATION:Yea GC
CATEGORIES:Ladies,Mens
ORGANIZER;CN="Yea GC":MAILTO:secretary@yeagolfclub.com.au
END:VEVENT
END:VCALENDAR