BEGIN:VCALENDAR
VERSION:2.0
PRODID:-//Yea Golf Club - ECPv6.15.17.1//NONSGML v1.0//EN
CALSCALE:GREGORIAN
METHOD:PUBLISH
X-WR-CALNAME:Yea Golf Club
X-ORIGINAL-URL:https://www.yeagolfclub.com.au
X-WR-CALDESC:Events for Yea Golf Club
REFRESH-INTERVAL;VALUE=DURATION:PT1H
X-Robots-Tag:noindex
X-PUBLISHED-TTL:PT1H
BEGIN:VTIMEZONE
TZID:Australia/Melbourne
BEGIN:STANDARD
TZOFFSETFROM:+1100
TZOFFSETTO:+1000
TZNAME:AEST
DTSTART:20210403T160000
END:STANDARD
BEGIN:DAYLIGHT
TZOFFSETFROM:+1000
TZOFFSETTO:+1100
TZNAME:AEDT
DTSTART:20211002T160000
END:DAYLIGHT
BEGIN:STANDARD
TZOFFSETFROM:+1100
TZOFFSETTO:+1000
TZNAME:AEST
DTSTART:20220402T160000
END:STANDARD
BEGIN:DAYLIGHT
TZOFFSETFROM:+1000
TZOFFSETTO:+1100
TZNAME:AEDT
DTSTART:20221001T160000
END:DAYLIGHT
BEGIN:STANDARD
TZOFFSETFROM:+1100
TZOFFSETTO:+1000
TZNAME:AEST
DTSTART:20230401T160000
END:STANDARD
BEGIN:DAYLIGHT
TZOFFSETFROM:+1000
TZOFFSETTO:+1100
TZNAME:AEDT
DTSTART:20230930T160000
END:DAYLIGHT
END:VTIMEZONE
BEGIN:VEVENT
DTSTART;VALUE=DATE:20221028
DTEND;VALUE=DATE:20221029
DTSTAMP:20260424T024252
CREATED:20220215T230329Z
LAST-MODIFIED:20220215T230329Z
UID:5789-1666915200-1667001599@www.yeagolfclub.com.au
SUMMARY:Possible Atlernative for Corporate Day
DESCRIPTION:
URL:https://www.yeagolfclub.com.au/event/possible-atlernative-for-corporate-day/
LOCATION:Yea GC
CATEGORIES:Ladies,Mens,Mixed,Social
ORGANIZER;CN="Yea GC":MAILTO:secretary@yeagolfclub.com.au
END:VEVENT
BEGIN:VEVENT
DTSTART;VALUE=DATE:20221026
DTEND;VALUE=DATE:20221028
DTSTAMP:20260424T024252
CREATED:20220215T230129Z
LAST-MODIFIED:20220215T230129Z
UID:5786-1666742400-1666915199@www.yeagolfclub.com.au
SUMMARY:Stableford with Broadford GC
DESCRIPTION:
URL:https://www.yeagolfclub.com.au/event/stableford-with-broadford-gc/
LOCATION:Yea GC
CATEGORIES:Mens
ORGANIZER;CN="Broadford GC":MAILTO:broadfordgolfclub@bigpond.com
END:VEVENT
BEGIN:VEVENT
DTSTART;VALUE=DATE:20221023
DTEND;VALUE=DATE:20221025
DTSTAMP:20260424T024252
CREATED:20220215T230129Z
LAST-MODIFIED:20220215T230129Z
UID:5784-1666483200-1666655999@www.yeagolfclub.com.au
SUMMARY:Trentham Tournament
DESCRIPTION:
URL:https://www.yeagolfclub.com.au/event/trentham-tournament-3/
LOCATION:Trentham GC
CATEGORIES:Mens
END:VEVENT
BEGIN:VEVENT
DTSTART;VALUE=DATE:20221022
DTEND;VALUE=DATE:20221024
DTSTAMP:20260424T024252
CREATED:20220215T225931Z
LAST-MODIFIED:20220215T225931Z
UID:5783-1666396800-1666569599@www.yeagolfclub.com.au
SUMMARY:4 Stick Stableford
DESCRIPTION:Play Stroke with 4 clubs (incl Putter) only. Birdie Hole 8th.
URL:https://www.yeagolfclub.com.au/event/4-stick-stableford-4/
LOCATION:Yea GC
CATEGORIES:Mens
ORGANIZER;CN="Yea GC":MAILTO:secretary@yeagolfclub.com.au
END:VEVENT
BEGIN:VEVENT
DTSTART;VALUE=DATE:20221021
DTEND;VALUE=DATE:20221022
DTSTAMP:20260424T024252
CREATED:20220216T002031Z
LAST-MODIFIED:20220216T003705Z
UID:5864-1666310400-1666396799@www.yeagolfclub.com.au
SUMMARY:Yea GC Corporate & Tradies Golf Day
DESCRIPTION:3 Person Ambrose / 3 Course Lunch / Great Prizes …. Just a great day! Pla invite friends and colleagues to play in this event
URL:https://www.yeagolfclub.com.au/event/yea-gc-corporate-tradies-golf-day/
LOCATION:Yea GC
CATEGORIES:Ladies,Mens
ORGANIZER;CN="Yea GC":MAILTO:secretary@yeagolfclub.com.au
END:VEVENT
BEGIN:VEVENT
DTSTART;VALUE=DATE:20221019
DTEND;VALUE=DATE:20221021
DTSTAMP:20260424T024252
CREATED:20220215T225930Z
LAST-MODIFIED:20220215T225930Z
UID:5779-1666137600-1666310399@www.yeagolfclub.com.au
SUMMARY:Stroke & Putting
DESCRIPTION:
URL:https://www.yeagolfclub.com.au/event/stroke-putting-12/
LOCATION:Yea GC
CATEGORIES:Mens
ORGANIZER;CN="Yea GC":MAILTO:secretary@yeagolfclub.com.au
END:VEVENT
BEGIN:VEVENT
DTSTART;VALUE=DATE:20221016
DTEND;VALUE=DATE:20221018
DTSTAMP:20260424T024252
CREATED:20220215T225730Z
LAST-MODIFIED:20220215T225730Z
UID:5776-1665878400-1666051199@www.yeagolfclub.com.au
SUMMARY:Woodend Tournament
DESCRIPTION:
URL:https://www.yeagolfclub.com.au/event/woodend-tournament-3/
LOCATION:Woodend GC
CATEGORIES:Mens
ORGANIZER;CN="Woodend GC":MAILTO:woodendgolfclub@gmail.com
END:VEVENT
BEGIN:VEVENT
DTSTART;VALUE=DATE:20221015
DTEND;VALUE=DATE:20221017
DTSTAMP:20260424T024252
CREATED:20220215T225730Z
LAST-MODIFIED:20220215T225730Z
UID:5775-1665792000-1665964799@www.yeagolfclub.com.au
SUMMARY:Men's Club Championship - Round 3 (Final)
DESCRIPTION:Stroke – Birdie Hole 14th.
URL:https://www.yeagolfclub.com.au/event/mens-club-championship-round-3-final-2/
LOCATION:Yea GC
CATEGORIES:Board,Mens
ORGANIZER;CN="Yea GC":MAILTO:secretary@yeagolfclub.com.au
END:VEVENT
BEGIN:VEVENT
DTSTART;VALUE=DATE:20221012
DTEND;VALUE=DATE:20221014
DTSTAMP:20260424T024252
CREATED:20220215T225529Z
LAST-MODIFIED:20220215T225529Z
UID:5772-1665532800-1665705599@www.yeagolfclub.com.au
SUMMARY:Stableford .
DESCRIPTION:
URL:https://www.yeagolfclub.com.au/event/stableford-55/
LOCATION:Yea GC
CATEGORIES:Mens
ORGANIZER;CN="Yea GC":MAILTO:secretary@yeagolfclub.com.au
END:VEVENT
BEGIN:VEVENT
DTSTART;VALUE=DATE:20221009
DTEND;VALUE=DATE:20221011
DTSTAMP:20260424T024252
CREATED:20220215T225529Z
LAST-MODIFIED:20220215T225529Z
UID:5769-1665273600-1665446399@www.yeagolfclub.com.au
SUMMARY:Strathbogie Tournament
DESCRIPTION:
URL:https://www.yeagolfclub.com.au/event/strathbogie-tournament-3/
LOCATION:Strathbogie GC
CATEGORIES:Mens
ORGANIZER;CN="Strathbogie GC":MAILTO: barterken@bigpond.com
END:VEVENT
BEGIN:VEVENT
DTSTART;VALUE=DATE:20221008
DTEND;VALUE=DATE:20221010
DTSTAMP:20260424T024252
CREATED:20220215T225408Z
LAST-MODIFIED:20220215T225408Z
UID:5768-1665187200-1665359999@www.yeagolfclub.com.au
SUMMARY:Men's Club Championship - Round 2  / Sichlau Trophy #5
DESCRIPTION:Stroke & Putting. Round 5 of the Sichlau Trophy – Birdie Hole 4th.Stroke & Putting. Round 5 of the Sichlau Trophy – Birdie Hole 4th.\nRound 2 of the Men’s Championships in A\, B and C grades. Winners are determined over the aggregated scores over three Stroke rounds. The Club Champion being the player with the lowest scratch score.\nGrade cut offs are to be decided by the Match Committee. Players will remain in the Grade in which they commenced the Championship.  \nIn the event of a tie in any grade there will be a sudden death play off. Play off holes will be 10\, 18\, 10\, 18 etc. Handicap Championship will run concurrent with this event.
URL:https://www.yeagolfclub.com.au/event/mens-club-championship-round-2-sichlau-trophy-5/
LOCATION:Yea GC
CATEGORIES:Mens
ORGANIZER;CN="Yea GC":MAILTO:secretary@yeagolfclub.com.au
END:VEVENT
BEGIN:VEVENT
DTSTART;VALUE=DATE:20221005
DTEND;VALUE=DATE:20221007
DTSTAMP:20260424T024252
CREATED:20220215T225407Z
LAST-MODIFIED:20220215T225407Z
UID:5765-1664928000-1665100799@www.yeagolfclub.com.au
SUMMARY:4BBB Stableford . Draw for Partner.
DESCRIPTION:
URL:https://www.yeagolfclub.com.au/event/4bbb-stableford-draw-for-partner-2/
LOCATION:Yea GC
CATEGORIES:Mens
ORGANIZER;CN="Yea GC":MAILTO:secretary@yeagolfclub.com.au
END:VEVENT
BEGIN:VEVENT
DTSTART;VALUE=DATE:20221002
DTEND;VALUE=DATE:20221004
DTSTAMP:20260424T024252
CREATED:20220215T225352Z
LAST-MODIFIED:20220215T225352Z
UID:5761-1664668800-1664841599@www.yeagolfclub.com.au
SUMMARY:Euroa Tournament
DESCRIPTION:
URL:https://www.yeagolfclub.com.au/event/euroa-tournament-4/
LOCATION:Euroa GC
CATEGORIES:Mens
ORGANIZER;CN="Euroa GC":MAILTO:euroagolf@bigpond.com
END:VEVENT
BEGIN:VEVENT
DTSTART;VALUE=DATE:20221001
DTEND;VALUE=DATE:20221003
DTSTAMP:20260424T024252
CREATED:20220215T225352Z
LAST-MODIFIED:20220215T225352Z
UID:5759-1664582400-1664755199@www.yeagolfclub.com.au
SUMMARY:Men's Club Championship / Men's Monthly Medal #9
DESCRIPTION:1st Round of the Men’s Championships in A\, B and C grades. Winners are determined over the aggregated scores over three Stroke rounds. The Club Champion being the player with the lowest scratch score. Grade cut offs are to be decided by the Match Committee. Players will remain in the Grade in which they commenced the Championship.  \nStroke – Birdie Hole 7th
URL:https://www.yeagolfclub.com.au/event/mens-club-championship-mens-monthly-medal-9-2/
LOCATION:Yea GC
CATEGORIES:Board,Mens
ORGANIZER;CN="Yea GC":MAILTO:secretary@yeagolfclub.com.au
END:VEVENT
BEGIN:VEVENT
DTSTART;VALUE=DATE:20220928
DTEND;VALUE=DATE:20220930
DTSTAMP:20260424T024252
CREATED:20220215T225330Z
LAST-MODIFIED:20220215T225330Z
UID:5756-1664323200-1664495999@www.yeagolfclub.com.au
SUMMARY:Stableford
DESCRIPTION:
URL:https://www.yeagolfclub.com.au/event/stableford-53/
LOCATION:Yea GC
CATEGORIES:Mens
ORGANIZER;CN="Yea GC":MAILTO:secretary@yeagolfclub.com.au
END:VEVENT
BEGIN:VEVENT
DTSTART;VALUE=DATE:20220923
DTEND;VALUE=DATE:20220924
DTSTAMP:20260424T024252
CREATED:20220216T001938Z
LAST-MODIFIED:20220216T001938Z
UID:5860-1663891200-1663977599@www.yeagolfclub.com.au
SUMMARY:Bruce Kindred Cup - Yea Grand Final Holiday.
DESCRIPTION:4BBB plus Individual Stableford. 8.30 for 9am. Please bring a plate
URL:https://www.yeagolfclub.com.au/event/bruce-kindred-cup-yea-grand-final-holiday-2/
LOCATION:Yea GC
CATEGORIES:Board,Ladies,Mens,Mixed
ORGANIZER;CN="Yea GC":MAILTO:secretary@yeagolfclub.com.au
END:VEVENT
BEGIN:VEVENT
DTSTART;VALUE=DATE:20220918
DTEND;VALUE=DATE:20220920
DTSTAMP:20260424T024252
CREATED:20220215T225129Z
LAST-MODIFIED:20220215T225129Z
UID:5751-1663459200-1663631999@www.yeagolfclub.com.au
SUMMARY:Kilmore Tournament
DESCRIPTION:
URL:https://www.yeagolfclub.com.au/event/kilmore-tournament-3/
LOCATION:Kilmore GC
CATEGORIES:Mens
END:VEVENT
BEGIN:VEVENT
DTSTART;VALUE=DATE:20220918
DTEND;VALUE=DATE:20220919
DTSTAMP:20260424T024252
CREATED:20220215T225129Z
LAST-MODIFIED:20220215T225129Z
UID:5750-1663459200-1663545599@www.yeagolfclub.com.au
SUMMARY:Ladies Pennant - Round 2
DESCRIPTION:
URL:https://www.yeagolfclub.com.au/event/ladies-pennant-round-2-2/
CATEGORIES:Ladies,Mens
END:VEVENT
BEGIN:VEVENT
DTSTART;VALUE=DATE:20220917
DTEND;VALUE=DATE:20220919
DTSTAMP:20260424T024252
CREATED:20220215T225129Z
LAST-MODIFIED:20220215T225129Z
UID:5749-1663372800-1663545599@www.yeagolfclub.com.au
SUMMARY:Par
DESCRIPTION:Men – Birdie Hole 6th
URL:https://www.yeagolfclub.com.au/event/par-13/
LOCATION:Yea GC
CATEGORIES:Ladies,Mens
ORGANIZER;CN="Yea GC":MAILTO:secretary@yeagolfclub.com.au
END:VEVENT
BEGIN:VEVENT
DTSTART;VALUE=DATE:20220916
DTEND;VALUE=DATE:20220918
DTSTAMP:20260424T024252
CREATED:20220215T224929Z
LAST-MODIFIED:20220215T224929Z
UID:5748-1663286400-1663459199@www.yeagolfclub.com.au
SUMMARY:Men's  Knockout - Final Knockout to be played
DESCRIPTION:Come along and cheer the finalists on!
URL:https://www.yeagolfclub.com.au/event/mens-knockout-final-knockout-to-be-played-2/
LOCATION:Yea GC
CATEGORIES:Board,Mens
ORGANIZER;CN="Yea GC":MAILTO:secretary@yeagolfclub.com.au
END:VEVENT
BEGIN:VEVENT
DTSTART;VALUE=DATE:20220914
DTEND;VALUE=DATE:20220916
DTSTAMP:20260424T024252
CREATED:20220215T224929Z
LAST-MODIFIED:20220215T224929Z
UID:5746-1663113600-1663286399@www.yeagolfclub.com.au
SUMMARY:Stableford
DESCRIPTION:
URL:https://www.yeagolfclub.com.au/event/stableford-52/
LOCATION:Yea GC
CATEGORIES:Mens
ORGANIZER;CN="Yea GC":MAILTO:secretary@yeagolfclub.com.au
END:VEVENT
BEGIN:VEVENT
DTSTART;VALUE=DATE:20220911
DTEND;VALUE=DATE:20220913
DTSTAMP:20260424T024252
CREATED:20220215T224928Z
LAST-MODIFIED:20220215T224928Z
UID:5744-1662854400-1663027199@www.yeagolfclub.com.au
SUMMARY:Broadford Tournament
DESCRIPTION:
URL:https://www.yeagolfclub.com.au/event/broadford-tournament-4/
LOCATION:Broadford GC
CATEGORIES:Mens
ORGANIZER;CN="Broadford GC":MAILTO:broadfordgolfclub@bigpond.com
END:VEVENT
BEGIN:VEVENT
DTSTART;VALUE=DATE:20220910
DTEND;VALUE=DATE:20220912
DTSTAMP:20260424T024252
CREATED:20220215T224727Z
LAST-MODIFIED:20220215T224727Z
UID:5742-1662768000-1662940799@www.yeagolfclub.com.au
SUMMARY:Men's Monthly Medal #8\, Stroke & Putting / Rnd 4 Sichlau trophy.
DESCRIPTION:Also Round 4 of Sichlau Trophy.  Birdie Hole 12th.
URL:https://www.yeagolfclub.com.au/event/mens-monthly-medal-8-stroke-putting-rnd-4-sichlau-trophy/
LOCATION:Yea GC
CATEGORIES:Mens
ORGANIZER;CN="Yea GC":MAILTO:secretary@yeagolfclub.com.au
END:VEVENT
BEGIN:VEVENT
DTSTART;VALUE=DATE:20220907
DTEND;VALUE=DATE:20220908
DTSTAMP:20260424T024252
CREATED:20220215T224726Z
LAST-MODIFIED:20220215T224726Z
UID:5740-1662508800-1662595199@www.yeagolfclub.com.au
SUMMARY:Par 3 Day at Yea - Stableford .
DESCRIPTION:
URL:https://www.yeagolfclub.com.au/event/par-3-day-at-yea-stableford-2/
LOCATION:Yea GC
CATEGORIES:Ladies,Mens
ORGANIZER;CN="Yea GC":MAILTO:secretary@yeagolfclub.com.au
END:VEVENT
BEGIN:VEVENT
DTSTART;VALUE=DATE:20220905
DTEND;VALUE=DATE:20220907
DTSTAMP:20260424T024252
CREATED:20220216T001804Z
LAST-MODIFIED:20220216T001804Z
UID:5855-1662336000-1662508799@www.yeagolfclub.com.au
SUMMARY:VVGA Teams Event
DESCRIPTION:Vets Team Event
URL:https://www.yeagolfclub.com.au/event/vvga-teams-event/
CATEGORIES:Ladies,Mens
END:VEVENT
BEGIN:VEVENT
DTSTART;VALUE=DATE:20220827
DTEND;VALUE=DATE:20220829
DTSTAMP:20260424T024252
CREATED:20220215T224526Z
LAST-MODIFIED:20220215T224526Z
UID:5737-1661558400-1661731199@www.yeagolfclub.com.au
SUMMARY:Captain v President Slab Challenge.- Stableford
DESCRIPTION:Birdie Hole 5th.
URL:https://www.yeagolfclub.com.au/event/captain-v-president-slab-challenge-stableford-2/
LOCATION:Yea GC
CATEGORIES:Mens
ORGANIZER;CN="Yea GC":MAILTO:secretary@yeagolfclub.com.au
END:VEVENT
BEGIN:VEVENT
DTSTART;VALUE=DATE:20220826
DTEND;VALUE=DATE:20220828
DTSTAMP:20260424T024252
CREATED:20220215T224526Z
LAST-MODIFIED:20220215T224526Z
UID:5734-1661472000-1661644799@www.yeagolfclub.com.au
SUMMARY:Men's  Knockout - Semi-finals to be completed
DESCRIPTION:
URL:https://www.yeagolfclub.com.au/event/mens-knockout-semi-finals-to-be-completed-2/
LOCATION:Yea GC
CATEGORIES:Mens
ORGANIZER;CN="Yea GC":MAILTO:secretary@yeagolfclub.com.au
END:VEVENT
BEGIN:VEVENT
DTSTART;VALUE=DATE:20220821
DTEND;VALUE=DATE:20220823
DTSTAMP:20260424T024252
CREATED:20220215T224326Z
LAST-MODIFIED:20220215T224326Z
UID:5731-1661040000-1661212799@www.yeagolfclub.com.au
SUMMARY:Mens Open Tournament - Avenel
DESCRIPTION:
URL:https://www.yeagolfclub.com.au/event/mens-open-tournament-avenel/
LOCATION:Avenel GC
CATEGORIES:Mens
END:VEVENT
BEGIN:VEVENT
DTSTART;VALUE=DATE:20220820
DTEND;VALUE=DATE:20220822
DTSTAMP:20260424T024252
CREATED:20220215T224326Z
LAST-MODIFIED:20220215T224326Z
UID:5730-1660953600-1661126399@www.yeagolfclub.com.au
SUMMARY:Stableford - Play off Red Tees
DESCRIPTION:Birdie Hole 9th
URL:https://www.yeagolfclub.com.au/event/stableford-play-off-red-tees-2/
LOCATION:Yea GC
CATEGORIES:Mens
ORGANIZER;CN="Yea GC":MAILTO:secretary@yeagolfclub.com.au
END:VEVENT
BEGIN:VEVENT
DTSTART;VALUE=DATE:20220817
DTEND;VALUE=DATE:20220819
DTSTAMP:20260424T024252
CREATED:20220215T224148Z
LAST-MODIFIED:20220215T224148Z
UID:5728-1660694400-1660867199@www.yeagolfclub.com.au
SUMMARY:Stableford - 2 Person Multiplier
DESCRIPTION:
URL:https://www.yeagolfclub.com.au/event/stableford-2-person-multiplier-2/
LOCATION:Yea GC
CATEGORIES:Mens
ORGANIZER;CN="Yea GC":MAILTO:secretary@yeagolfclub.com.au
END:VEVENT
END:VCALENDAR