BEGIN:VCALENDAR
VERSION:2.0
PRODID:-//Yea Golf Club - ECPv6.15.17.1//NONSGML v1.0//EN
CALSCALE:GREGORIAN
METHOD:PUBLISH
X-ORIGINAL-URL:https://www.yeagolfclub.com.au
X-WR-CALDESC:Events for Yea Golf Club
REFRESH-INTERVAL;VALUE=DURATION:PT1H
X-Robots-Tag:noindex
X-PUBLISHED-TTL:PT1H
BEGIN:VTIMEZONE
TZID:Australia/Melbourne
BEGIN:STANDARD
TZOFFSETFROM:+1100
TZOFFSETTO:+1000
TZNAME:AEST
DTSTART:20210403T160000
END:STANDARD
BEGIN:DAYLIGHT
TZOFFSETFROM:+1000
TZOFFSETTO:+1100
TZNAME:AEDT
DTSTART:20211002T160000
END:DAYLIGHT
BEGIN:STANDARD
TZOFFSETFROM:+1100
TZOFFSETTO:+1000
TZNAME:AEST
DTSTART:20220402T160000
END:STANDARD
BEGIN:DAYLIGHT
TZOFFSETFROM:+1000
TZOFFSETTO:+1100
TZNAME:AEDT
DTSTART:20221001T160000
END:DAYLIGHT
BEGIN:STANDARD
TZOFFSETFROM:+1100
TZOFFSETTO:+1000
TZNAME:AEST
DTSTART:20230401T160000
END:STANDARD
BEGIN:DAYLIGHT
TZOFFSETFROM:+1000
TZOFFSETTO:+1100
TZNAME:AEDT
DTSTART:20230930T160000
END:DAYLIGHT
BEGIN:STANDARD
TZOFFSETFROM:+1100
TZOFFSETTO:+1000
TZNAME:AEST
DTSTART:20240406T160000
END:STANDARD
BEGIN:DAYLIGHT
TZOFFSETFROM:+1000
TZOFFSETTO:+1100
TZNAME:AEDT
DTSTART:20241005T160000
END:DAYLIGHT
END:VTIMEZONE
BEGIN:VEVENT
DTSTART;VALUE=DATE:20230126
DTEND;VALUE=DATE:20230127
DTSTAMP:20260424T011224
CREATED:20220216T002249Z
LAST-MODIFIED:20220216T002249Z
UID:5875-1674691200-1674777599@www.yeagolfclub.com.au
SUMMARY:Australia Day 4BBB Seymour.
DESCRIPTION:
URL:https://www.yeagolfclub.com.au/event/australia-day-4bbb-seymour-2/
LOCATION:Seymour GC
CATEGORIES:Ladies,Mens,Mixed
ORGANIZER;CN="Seymour GC":MAILTO:seygolfclub@bigpond.com
END:VEVENT
BEGIN:VEVENT
DTSTART;VALUE=DATE:20230114
DTEND;VALUE=DATE:20230116
DTSTAMP:20260424T011224
CREATED:20220215T235343Z
LAST-MODIFIED:20220215T235343Z
UID:5827-1673654400-1673827199@www.yeagolfclub.com.au
SUMMARY:Murrindindi  Masters TBC
DESCRIPTION:
URL:https://www.yeagolfclub.com.au/event/murrindindi-masters-tbc-4/
LOCATION:Yea GC
CATEGORIES:Ladies,Mens
ORGANIZER;CN="Yea GC":MAILTO:secretary@yeagolfclub.com.au
END:VEVENT
BEGIN:VEVENT
DTSTART;VALUE=DATE:20221214
DTEND;VALUE=DATE:20221216
DTSTAMP:20260424T011224
CREATED:20220215T234941Z
LAST-MODIFIED:20220215T234941Z
UID:5818-1670976000-1671148799@www.yeagolfclub.com.au
SUMMARY:Xmas Break Up - 3 Person Ambrose
DESCRIPTION:Come and celebrate with  Xmas Lunch
URL:https://www.yeagolfclub.com.au/event/xmas-break-up-3-person-ambrose-2/
LOCATION:Yea GC
CATEGORIES:Ladies,Mens,Mixed,Social
ORGANIZER;CN="Yea GC":MAILTO:secretary@yeagolfclub.com.au
END:VEVENT
BEGIN:VEVENT
DTSTART;VALUE=DATE:20221210
DTEND;VALUE=DATE:20221212
DTSTAMP:20260424T011224
CREATED:20220216T002047Z
LAST-MODIFIED:20220216T002047Z
UID:5871-1670630400-1670803199@www.yeagolfclub.com.au
SUMMARY:Yea Races
DESCRIPTION:To be confrmed possibly Golf at Strathbogie .
URL:https://www.yeagolfclub.com.au/event/yea-races-4/
CATEGORIES:Ladies,Mens
END:VEVENT
BEGIN:VEVENT
DTSTART;VALUE=DATE:20221207
DTEND;VALUE=DATE:20221209
DTSTAMP:20260424T011224
CREATED:20220215T234941Z
LAST-MODIFIED:20220215T234941Z
UID:5817-1670371200-1670543999@www.yeagolfclub.com.au
SUMMARY:Men's end of year golf trip
DESCRIPTION:Pelly’s Budget Golf Tours to advise further details
URL:https://www.yeagolfclub.com.au/event/mens-end-of-year-golf-trip-2/
CATEGORIES:Mens
END:VEVENT
BEGIN:VEVENT
DTSTART;VALUE=DATE:20221204
DTEND;VALUE=DATE:20221206
DTSTAMP:20260424T011224
CREATED:20220215T234941Z
LAST-MODIFIED:20220215T234941Z
UID:5816-1670112000-1670284799@www.yeagolfclub.com.au
SUMMARY:Alexandra Tournament
DESCRIPTION:
URL:https://www.yeagolfclub.com.au/event/alexandra-tournament-4/
LOCATION:Alexandra GC
CATEGORIES:Mens
ORGANIZER;CN="Alexandra GC":MAILTO:alexandragolfclub@outlook.com
END:VEVENT
BEGIN:VEVENT
DTSTART;VALUE=DATE:20221203
DTEND;VALUE=DATE:20221205
DTSTAMP:20260424T011224
CREATED:20220215T234940Z
LAST-MODIFIED:20220215T234940Z
UID:5815-1670025600-1670198399@www.yeagolfclub.com.au
SUMMARY:Gold Medal Playoff.
DESCRIPTION:Stroke & Putting – Birdie Hole 9th.Winners of Monthly Medals in previous 12 months\, January to November play for Gold Medal.\nBest nett score. Count back system to apply. Handicap as at day of play.
URL:https://www.yeagolfclub.com.au/event/gold-medal-playoff-2/
LOCATION:Yea GC
CATEGORIES:Mens
ORGANIZER;CN="Yea GC":MAILTO:secretary@yeagolfclub.com.au
END:VEVENT
BEGIN:VEVENT
DTSTART;VALUE=DATE:20221127
DTEND;VALUE=DATE:20221129
DTSTAMP:20260424T011224
CREATED:20220215T234927Z
LAST-MODIFIED:20220215T234927Z
UID:5812-1669507200-1669679999@www.yeagolfclub.com.au
SUMMARY:Eildon Tournament
DESCRIPTION:
URL:https://www.yeagolfclub.com.au/event/eildon-tournament-2/
LOCATION:Eildon GC
CATEGORIES:Mens
END:VEVENT
BEGIN:VEVENT
DTSTART;VALUE=DATE:20221126
DTEND;VALUE=DATE:20221128
DTSTAMP:20260424T011224
CREATED:20220215T234927Z
LAST-MODIFIED:20220215T234927Z
UID:5811-1669420800-1669593599@www.yeagolfclub.com.au
SUMMARY:Men's Monthly Medal #10 / Sichlau Trophy Round 6
DESCRIPTION:Round 6 Sichlau Trophy – Stroke & Putting – Birdie Hole 5th.\nThis is the final stroke round of 6 for the trophy\, with 4 best nett rounds to count. In the event of a tie there will be a play off over 18 holes and if the scores are tied a count back on the play off round. In the event of a round being abandoned the number of rounds to count may be reduced. Handicap as at date of play.
URL:https://www.yeagolfclub.com.au/event/mens-monthly-medal-10-sichlau-trophy-round-6/
LOCATION:Yea GC
CATEGORIES:Mens
ORGANIZER;CN="Yea GC":MAILTO:secretary@yeagolfclub.com.au
END:VEVENT
BEGIN:VEVENT
DTSTART;VALUE=DATE:20221123
DTEND;VALUE=DATE:20221125
DTSTAMP:20260424T011224
CREATED:20220215T234926Z
LAST-MODIFIED:20220215T234926Z
UID:5809-1669161600-1669334399@www.yeagolfclub.com.au
SUMMARY:Par
DESCRIPTION:
URL:https://www.yeagolfclub.com.au/event/par-14/
LOCATION:Yea GC
CATEGORIES:Mens
ORGANIZER;CN="Yea GC":MAILTO:secretary@yeagolfclub.com.au
END:VEVENT
BEGIN:VEVENT
DTSTART;VALUE=DATE:20221120
DTEND;VALUE=DATE:20221122
DTSTAMP:20260424T011224
CREATED:20220215T234746Z
LAST-MODIFIED:20220215T234746Z
UID:5806-1668902400-1669075199@www.yeagolfclub.com.au
SUMMARY:Graeme Clement Tournament - Romsey
DESCRIPTION:
URL:https://www.yeagolfclub.com.au/event/graeme-clement-tournament-romsey/
LOCATION:Romsey GC
CATEGORIES:Mens
ORGANIZER;CN="Romsey GC":MAILTO:secretary@romseygolfclub.net
END:VEVENT
BEGIN:VEVENT
DTSTART;VALUE=DATE:20221119
DTEND;VALUE=DATE:20221120
DTSTAMP:20260424T011224
CREATED:20220215T234746Z
LAST-MODIFIED:20220215T234746Z
UID:5805-1668816000-1668902399@www.yeagolfclub.com.au
SUMMARY:Murrindindi  Masters - Alexandra
DESCRIPTION:
URL:https://www.yeagolfclub.com.au/event/murrindindi-masters-alexandra-2/
LOCATION:Alexandra GC
CATEGORIES:Ladies,Mens
END:VEVENT
BEGIN:VEVENT
DTSTART;VALUE=DATE:20221116
DTEND;VALUE=DATE:20221118
DTSTAMP:20260424T011224
CREATED:20220215T234626Z
LAST-MODIFIED:20220215T234626Z
UID:5803-1668556800-1668729599@www.yeagolfclub.com.au
SUMMARY:Stroke  & Putting .
DESCRIPTION:
URL:https://www.yeagolfclub.com.au/event/stroke-putting-13/
LOCATION:Yea GC
CATEGORIES:Mens
ORGANIZER;CN="Yea GC":MAILTO:secretary@yeagolfclub.com.au
END:VEVENT
BEGIN:VEVENT
DTSTART;VALUE=DATE:20221113
DTEND;VALUE=DATE:20221115
DTSTAMP:20260424T011224
CREATED:20220215T234626Z
LAST-MODIFIED:20220215T234626Z
UID:5801-1668297600-1668470399@www.yeagolfclub.com.au
SUMMARY:Marysville Tournament
DESCRIPTION:
URL:https://www.yeagolfclub.com.au/event/marysville-tournament-4/
LOCATION:Marysville GC
CATEGORIES:Mens
ORGANIZER;CN="Marysville GC":MAILTO:enquiries@marysvillegolfandbowls.com.au
END:VEVENT
BEGIN:VEVENT
DTSTART;VALUE=DATE:20221112
DTEND;VALUE=DATE:20221114
DTSTAMP:20260424T011224
CREATED:20220215T234626Z
LAST-MODIFIED:20220215T234626Z
UID:5800-1668211200-1668383999@www.yeagolfclub.com.au
SUMMARY:Yea Races  (To be confirmed)
DESCRIPTION:Possibly Golf at Broadford.
URL:https://www.yeagolfclub.com.au/event/yea-races-to-be-confirmed-2/
CATEGORIES:Mens
END:VEVENT
BEGIN:VEVENT
DTSTART;VALUE=DATE:20221108
DTEND;VALUE=DATE:20221110
DTSTAMP:20260424T011224
CREATED:20220215T230529Z
LAST-MODIFIED:20220216T003708Z
UID:5797-1667865600-1668038399@www.yeagolfclub.com.au
SUMMARY:DDGA AGM 7.00pm Broadford
DESCRIPTION:
URL:https://www.yeagolfclub.com.au/event/ddga-agm-7-00pm-broadford-2/
LOCATION:Broadford GC
CATEGORIES:Ladies,Mens
ORGANIZER;CN="Broadford GC":MAILTO:broadfordgolfclub@bigpond.com
END:VEVENT
BEGIN:VEVENT
DTSTART;VALUE=DATE:20221106
DTEND;VALUE=DATE:20221108
DTSTAMP:20260424T011224
CREATED:20220215T230529Z
LAST-MODIFIED:20220215T230529Z
UID:5796-1667692800-1667865599@www.yeagolfclub.com.au
SUMMARY:Mt Macedon Tournament
DESCRIPTION:
URL:https://www.yeagolfclub.com.au/event/mt-macedon-tournament-2/
LOCATION:Mt Macedon GC
CATEGORIES:Mens
END:VEVENT
BEGIN:VEVENT
DTSTART;VALUE=DATE:20221105
DTEND;VALUE=DATE:20221107
DTSTAMP:20260424T011224
CREATED:20220215T230529Z
LAST-MODIFIED:20220215T230529Z
UID:5795-1667606400-1667779199@www.yeagolfclub.com.au
SUMMARY:A.H Smith Trophy Round 2 of 36 Hole Stableford
DESCRIPTION:Final Round of A.H Smith Trophy / Birdie Hole 11th. If there is a tie there will be  a countback using the AGU system. Handicaps will be as at the day of play
URL:https://www.yeagolfclub.com.au/event/a-h-smith-trophy-round-2-of-36-hole-stableford-2/
LOCATION:Yea GC
CATEGORIES:Board,Mens
ORGANIZER;CN="Yea GC":MAILTO:secretary@yeagolfclub.com.au
END:VEVENT
BEGIN:VEVENT
DTSTART;VALUE=DATE:20221102
DTEND;VALUE=DATE:20221104
DTSTAMP:20260424T011224
CREATED:20220215T230329Z
LAST-MODIFIED:20220215T230329Z
UID:5793-1667347200-1667519999@www.yeagolfclub.com.au
SUMMARY:Alternate shots - Foursomes
DESCRIPTION:
URL:https://www.yeagolfclub.com.au/event/alternate-shots-foursomes-2/
LOCATION:Yea GC
CATEGORIES:Mens
ORGANIZER;CN="Yea GC":MAILTO:secretary@yeagolfclub.com.au
END:VEVENT
BEGIN:VEVENT
DTSTART;VALUE=DATE:20221029
DTEND;VALUE=DATE:20221031
DTSTAMP:20260424T011224
CREATED:20220215T230329Z
LAST-MODIFIED:20220215T230329Z
UID:5791-1667001600-1667174399@www.yeagolfclub.com.au
SUMMARY:A.H Smith Trophy Round 1 - 36 Hole Stableford
DESCRIPTION:Next round is 6 November – Birdie Hole 18th.
URL:https://www.yeagolfclub.com.au/event/a-h-smith-trophy-round-1-36-hole-stableford-2/
LOCATION:Yea GC
CATEGORIES:Board,Mens
ORGANIZER;CN="Yea GC":MAILTO:secretary@yeagolfclub.com.au
END:VEVENT
BEGIN:VEVENT
DTSTART;VALUE=DATE:20221028
DTEND;VALUE=DATE:20221029
DTSTAMP:20260424T011224
CREATED:20220215T230329Z
LAST-MODIFIED:20220215T230329Z
UID:5789-1666915200-1667001599@www.yeagolfclub.com.au
SUMMARY:Possible Atlernative for Corporate Day
DESCRIPTION:
URL:https://www.yeagolfclub.com.au/event/possible-atlernative-for-corporate-day/
LOCATION:Yea GC
CATEGORIES:Ladies,Mens,Mixed,Social
ORGANIZER;CN="Yea GC":MAILTO:secretary@yeagolfclub.com.au
END:VEVENT
BEGIN:VEVENT
DTSTART;VALUE=DATE:20221026
DTEND;VALUE=DATE:20221028
DTSTAMP:20260424T011224
CREATED:20220215T230129Z
LAST-MODIFIED:20220215T230129Z
UID:5786-1666742400-1666915199@www.yeagolfclub.com.au
SUMMARY:Stableford with Broadford GC
DESCRIPTION:
URL:https://www.yeagolfclub.com.au/event/stableford-with-broadford-gc/
LOCATION:Yea GC
CATEGORIES:Mens
ORGANIZER;CN="Broadford GC":MAILTO:broadfordgolfclub@bigpond.com
END:VEVENT
BEGIN:VEVENT
DTSTART;VALUE=DATE:20221023
DTEND;VALUE=DATE:20221025
DTSTAMP:20260424T011224
CREATED:20220215T230129Z
LAST-MODIFIED:20220215T230129Z
UID:5784-1666483200-1666655999@www.yeagolfclub.com.au
SUMMARY:Trentham Tournament
DESCRIPTION:
URL:https://www.yeagolfclub.com.au/event/trentham-tournament-3/
LOCATION:Trentham GC
CATEGORIES:Mens
END:VEVENT
BEGIN:VEVENT
DTSTART;VALUE=DATE:20221022
DTEND;VALUE=DATE:20221024
DTSTAMP:20260424T011224
CREATED:20220215T225931Z
LAST-MODIFIED:20220215T225931Z
UID:5783-1666396800-1666569599@www.yeagolfclub.com.au
SUMMARY:4 Stick Stableford
DESCRIPTION:Play Stroke with 4 clubs (incl Putter) only. Birdie Hole 8th.
URL:https://www.yeagolfclub.com.au/event/4-stick-stableford-4/
LOCATION:Yea GC
CATEGORIES:Mens
ORGANIZER;CN="Yea GC":MAILTO:secretary@yeagolfclub.com.au
END:VEVENT
BEGIN:VEVENT
DTSTART;VALUE=DATE:20221021
DTEND;VALUE=DATE:20221022
DTSTAMP:20260424T011224
CREATED:20220216T002031Z
LAST-MODIFIED:20220216T003705Z
UID:5864-1666310400-1666396799@www.yeagolfclub.com.au
SUMMARY:Yea GC Corporate & Tradies Golf Day
DESCRIPTION:3 Person Ambrose / 3 Course Lunch / Great Prizes …. Just a great day! Pla invite friends and colleagues to play in this event
URL:https://www.yeagolfclub.com.au/event/yea-gc-corporate-tradies-golf-day/
LOCATION:Yea GC
CATEGORIES:Ladies,Mens
ORGANIZER;CN="Yea GC":MAILTO:secretary@yeagolfclub.com.au
END:VEVENT
BEGIN:VEVENT
DTSTART;VALUE=DATE:20221019
DTEND;VALUE=DATE:20221021
DTSTAMP:20260424T011224
CREATED:20220215T225930Z
LAST-MODIFIED:20220215T225930Z
UID:5779-1666137600-1666310399@www.yeagolfclub.com.au
SUMMARY:Stroke & Putting
DESCRIPTION:
URL:https://www.yeagolfclub.com.au/event/stroke-putting-12/
LOCATION:Yea GC
CATEGORIES:Mens
ORGANIZER;CN="Yea GC":MAILTO:secretary@yeagolfclub.com.au
END:VEVENT
BEGIN:VEVENT
DTSTART;VALUE=DATE:20221016
DTEND;VALUE=DATE:20221018
DTSTAMP:20260424T011224
CREATED:20220215T225730Z
LAST-MODIFIED:20220215T225730Z
UID:5776-1665878400-1666051199@www.yeagolfclub.com.au
SUMMARY:Woodend Tournament
DESCRIPTION:
URL:https://www.yeagolfclub.com.au/event/woodend-tournament-3/
LOCATION:Woodend GC
CATEGORIES:Mens
ORGANIZER;CN="Woodend GC":MAILTO:woodendgolfclub@gmail.com
END:VEVENT
BEGIN:VEVENT
DTSTART;VALUE=DATE:20221015
DTEND;VALUE=DATE:20221017
DTSTAMP:20260424T011224
CREATED:20220215T225730Z
LAST-MODIFIED:20220215T225730Z
UID:5775-1665792000-1665964799@www.yeagolfclub.com.au
SUMMARY:Men's Club Championship - Round 3 (Final)
DESCRIPTION:Stroke – Birdie Hole 14th.
URL:https://www.yeagolfclub.com.au/event/mens-club-championship-round-3-final-2/
LOCATION:Yea GC
CATEGORIES:Board,Mens
ORGANIZER;CN="Yea GC":MAILTO:secretary@yeagolfclub.com.au
END:VEVENT
BEGIN:VEVENT
DTSTART;VALUE=DATE:20221012
DTEND;VALUE=DATE:20221014
DTSTAMP:20260424T011224
CREATED:20220215T225529Z
LAST-MODIFIED:20220215T225529Z
UID:5772-1665532800-1665705599@www.yeagolfclub.com.au
SUMMARY:Stableford .
DESCRIPTION:
URL:https://www.yeagolfclub.com.au/event/stableford-55/
LOCATION:Yea GC
CATEGORIES:Mens
ORGANIZER;CN="Yea GC":MAILTO:secretary@yeagolfclub.com.au
END:VEVENT
BEGIN:VEVENT
DTSTART;VALUE=DATE:20221009
DTEND;VALUE=DATE:20221011
DTSTAMP:20260424T011224
CREATED:20220215T225529Z
LAST-MODIFIED:20220215T225529Z
UID:5769-1665273600-1665446399@www.yeagolfclub.com.au
SUMMARY:Strathbogie Tournament
DESCRIPTION:
URL:https://www.yeagolfclub.com.au/event/strathbogie-tournament-3/
LOCATION:Strathbogie GC
CATEGORIES:Mens
ORGANIZER;CN="Strathbogie GC":MAILTO: barterken@bigpond.com
END:VEVENT
END:VCALENDAR