BEGIN:VCALENDAR
VERSION:2.0
PRODID:-//Yea Golf Club - ECPv6.15.17.1//NONSGML v1.0//EN
CALSCALE:GREGORIAN
METHOD:PUBLISH
X-WR-CALNAME:Yea Golf Club
X-ORIGINAL-URL:https://www.yeagolfclub.com.au
X-WR-CALDESC:Events for Yea Golf Club
REFRESH-INTERVAL;VALUE=DURATION:PT1H
X-Robots-Tag:noindex
X-PUBLISHED-TTL:PT1H
BEGIN:VTIMEZONE
TZID:Australia/Melbourne
BEGIN:STANDARD
TZOFFSETFROM:+1100
TZOFFSETTO:+1000
TZNAME:AEST
DTSTART:20220402T160000
END:STANDARD
BEGIN:DAYLIGHT
TZOFFSETFROM:+1000
TZOFFSETTO:+1100
TZNAME:AEDT
DTSTART:20221001T160000
END:DAYLIGHT
BEGIN:STANDARD
TZOFFSETFROM:+1100
TZOFFSETTO:+1000
TZNAME:AEST
DTSTART:20230401T160000
END:STANDARD
BEGIN:DAYLIGHT
TZOFFSETFROM:+1000
TZOFFSETTO:+1100
TZNAME:AEDT
DTSTART:20230930T160000
END:DAYLIGHT
BEGIN:STANDARD
TZOFFSETFROM:+1100
TZOFFSETTO:+1000
TZNAME:AEST
DTSTART:20240406T160000
END:STANDARD
BEGIN:DAYLIGHT
TZOFFSETFROM:+1000
TZOFFSETTO:+1100
TZNAME:AEDT
DTSTART:20241005T160000
END:DAYLIGHT
END:VTIMEZONE
BEGIN:VEVENT
DTSTART;VALUE=DATE:20230531
DTEND;VALUE=DATE:20230601
DTSTAMP:20260423T220346
CREATED:20230214T054036Z
LAST-MODIFIED:20230214T054036Z
UID:6590-1685491200-1685577599@www.yeagolfclub.com.au
SUMMARY:Stableford
DESCRIPTION:
URL:https://www.yeagolfclub.com.au/event/stableford-77/
LOCATION:Yea GC
CATEGORIES:Mens
ORGANIZER;CN="Yea GC":MAILTO:secretary@yeagolfclub.com.au
END:VEVENT
BEGIN:VEVENT
DTSTART;VALUE=DATE:20230528
DTEND;VALUE=DATE:20230529
DTSTAMP:20260423T220346
CREATED:20230214T054021Z
LAST-MODIFIED:20230214T054021Z
UID:6586-1685232000-1685318399@www.yeagolfclub.com.au
SUMMARY:DDGA 4BBB Mens - Stroke
DESCRIPTION:
URL:https://www.yeagolfclub.com.au/event/ddga-4bbb-mens-stroke/
CATEGORIES:Mens
END:VEVENT
BEGIN:VEVENT
DTSTART;VALUE=DATE:20230527
DTEND;VALUE=DATE:20230528
DTSTAMP:20260423T220346
CREATED:20230214T054010Z
LAST-MODIFIED:20230214T054010Z
UID:6584-1685145600-1685231999@www.yeagolfclub.com.au
SUMMARY:Prideaux Cup - 36 Hole Stableford - Round 1
DESCRIPTION:Round 1 of 2 for Prideaux  Cup – Birdie Hole 7th
URL:https://www.yeagolfclub.com.au/event/prideaux-cup-36-hole-stableford-round-1-3/
LOCATION:Yea GC
CATEGORIES:Board,Mens
ORGANIZER;CN="Yea GC":MAILTO:secretary@yeagolfclub.com.au
END:VEVENT
BEGIN:VEVENT
DTSTART;VALUE=DATE:20230526
DTEND;VALUE=DATE:20230527
DTSTAMP:20260423T220346
CREATED:20230214T054009Z
LAST-MODIFIED:20230214T054009Z
UID:6583-1685059200-1685145599@www.yeagolfclub.com.au
SUMMARY:Men's Knockout - Round 1 completion
DESCRIPTION:Players(32) to be drawn to play each other in (16 matches) in the first round. 1st\, 2nd and 3rd rounds can be 9 or 18 hole contests\, agreed upon before play starts. Players must play in the same group but can use social or club events which involve Stableford\, Stroke or Par to determine a winner. Count backs will decide the result. Semifinals and the final must be 18 hole events. If matches are not played or notified by the due date then both players will be eliminated from the knockout.PAIRS “\n1st Round matches to be completed by now.
URL:https://www.yeagolfclub.com.au/event/mens-knockout-round-1-completion-3/
LOCATION:Yea GC
CATEGORIES:Mens
ORGANIZER;CN="Yea GC":MAILTO:secretary@yeagolfclub.com.au
END:VEVENT
BEGIN:VEVENT
DTSTART;VALUE=DATE:20230524
DTEND;VALUE=DATE:20230525
DTSTAMP:20260423T220346
CREATED:20230214T054008Z
LAST-MODIFIED:20230214T054008Z
UID:6580-1684886400-1684972799@www.yeagolfclub.com.au
SUMMARY:Stableford - 4 Stick Event
DESCRIPTION:Play with 4 clubs (only) of your chosing
URL:https://www.yeagolfclub.com.au/event/stableford-4-stick-event-3/
LOCATION:Yea GC
CATEGORIES:Mens
ORGANIZER;CN="Yea GC":MAILTO:secretary@yeagolfclub.com.au
END:VEVENT
BEGIN:VEVENT
DTSTART;VALUE=DATE:20230521
DTEND;VALUE=DATE:20230522
DTSTAMP:20260423T220346
CREATED:20230214T053951Z
LAST-MODIFIED:20230214T053951Z
UID:6577-1684627200-1684713599@www.yeagolfclub.com.au
SUMMARY:Victorian Country Championships
DESCRIPTION:
URL:https://www.yeagolfclub.com.au/event/victorian-country-championships/
CATEGORIES:Mens
END:VEVENT
BEGIN:VEVENT
DTSTART;VALUE=DATE:20230520
DTEND;VALUE=DATE:20230521
DTSTAMP:20260423T220346
CREATED:20230214T053951Z
LAST-MODIFIED:20230214T053951Z
UID:6575-1684540800-1684627199@www.yeagolfclub.com.au
SUMMARY:N.J. Murray Trophy - Stableford - Final Round
DESCRIPTION:Birdie Hole – 12th
URL:https://www.yeagolfclub.com.au/event/n-j-murray-trophy-stableford-final-round-3/
LOCATION:Yea GC
CATEGORIES:Mens
ORGANIZER;CN="Yea GC":MAILTO:secretary@yeagolfclub.com.au
END:VEVENT
BEGIN:VEVENT
DTSTART;VALUE=DATE:20230517
DTEND;VALUE=DATE:20230518
DTSTAMP:20260423T220346
CREATED:20230214T053936Z
LAST-MODIFIED:20230214T053936Z
UID:6572-1684281600-1684367999@www.yeagolfclub.com.au
SUMMARY:Irish 3 Person - Stableford
DESCRIPTION:Best Score on first 9 holes\, then both scores on second 9
URL:https://www.yeagolfclub.com.au/event/irish-3-person-stableford-3/
LOCATION:Yea GC
CATEGORIES:Mens
ORGANIZER;CN="Yea GC":MAILTO:secretary@yeagolfclub.com.au
END:VEVENT
BEGIN:VEVENT
DTSTART;VALUE=DATE:20230513
DTEND;VALUE=DATE:20230514
DTSTAMP:20260423T220346
CREATED:20230214T053923Z
LAST-MODIFIED:20230214T053923Z
UID:6569-1683936000-1684022399@www.yeagolfclub.com.au
SUMMARY:N.J. Murray Trophy - 1st Round - Stableford
DESCRIPTION:As for AH Smith Trophy. A 36 hole Event played over two rounds – Birdie Hole on 1st
URL:https://www.yeagolfclub.com.au/event/n-j-murray-trophy-1st-round-stableford-3/
LOCATION:Yea GC
CATEGORIES:Mens
ORGANIZER;CN="Yea GC":MAILTO:secretary@yeagolfclub.com.au
END:VEVENT
BEGIN:VEVENT
DTSTART;VALUE=DATE:20230510
DTEND;VALUE=DATE:20230511
DTSTAMP:20260423T220346
CREATED:20230214T053922Z
LAST-MODIFIED:20230214T053922Z
UID:6566-1683676800-1683763199@www.yeagolfclub.com.au
SUMMARY:Stableford - 22 Pairs
DESCRIPTION:Two players playing Individual Stableford with their points on each hole earning a combined number determining their result. If either player earns 0 or 1 then that means the team can only receive a low outcome: ie. O1\,02\,03\,04\,05\, 11\,12\,13\,14\,15. If both score 2 then they receive a Pair 22 result. If they score better than 22 they receive a high outcome: ie.32\,33\,42\,43\,44\,52\,53\,54\,55
URL:https://www.yeagolfclub.com.au/event/stableford-22-pairs-9/
LOCATION:Yea GC
CATEGORIES:Mens
ORGANIZER;CN="Yea GC":MAILTO:secretary@yeagolfclub.com.au
END:VEVENT
BEGIN:VEVENT
DTSTART;VALUE=DATE:20230506
DTEND;VALUE=DATE:20230507
DTSTAMP:20260423T220346
CREATED:20230214T053511Z
LAST-MODIFIED:20230214T053511Z
UID:6562-1683331200-1683417599@www.yeagolfclub.com.au
SUMMARY:Monthly Medal\, 3rd Round Sichlau Trophy
DESCRIPTION:Stroke & Putting. / Round 3 of Sichlau Trophy – Birdie Hole 2nd\,
URL:https://www.yeagolfclub.com.au/event/monthly-medal-3rd-round-sichlau-trophy/
LOCATION:Yea GC
CATEGORIES:Mens
ORGANIZER;CN="Yea GC":MAILTO:secretary@yeagolfclub.com.au
END:VEVENT
BEGIN:VEVENT
DTSTART;VALUE=DATE:20230503
DTEND;VALUE=DATE:20230504
DTSTAMP:20260423T220346
CREATED:20230214T053510Z
LAST-MODIFIED:20230214T053510Z
UID:6560-1683072000-1683158399@www.yeagolfclub.com.au
SUMMARY:Warburton Golf Trip
DESCRIPTION:Stableford
URL:https://www.yeagolfclub.com.au/event/warburton-golf-trip-2/
LOCATION:Yea GC
CATEGORIES:Mens
ORGANIZER;CN="Yea GC":MAILTO:secretary@yeagolfclub.com.au
END:VEVENT
BEGIN:VEVENT
DTSTART;VALUE=DATE:20230430
DTEND;VALUE=DATE:20230501
DTSTAMP:20260423T220346
CREATED:20230214T053302Z
LAST-MODIFIED:20230214T053302Z
UID:6557-1682812800-1682899199@www.yeagolfclub.com.au
SUMMARY:Men's Pennant - Round 5
DESCRIPTION:Go Royal Yea guys!
URL:https://www.yeagolfclub.com.au/event/mens-pennant-round-5-3/
CATEGORIES:Mens
END:VEVENT
BEGIN:VEVENT
DTSTART;VALUE=DATE:20230429
DTEND;VALUE=DATE:20230430
DTSTAMP:20260423T220346
CREATED:20230214T053302Z
LAST-MODIFIED:20230214T053302Z
UID:6556-1682726400-1682812799@www.yeagolfclub.com.au
SUMMARY:4BBB Championships
DESCRIPTION:
URL:https://www.yeagolfclub.com.au/event/4bbb-championships/
LOCATION:Yea GC
CATEGORIES:Ladies,Mens,Mixed
ORGANIZER;CN="Yea GC":MAILTO:secretary@yeagolfclub.com.au
END:VEVENT
BEGIN:VEVENT
DTSTART;VALUE=DATE:20230426
DTEND;VALUE=DATE:20230427
DTSTAMP:20260423T220346
CREATED:20230214T053101Z
LAST-MODIFIED:20230214T053101Z
UID:6553-1682467200-1682553599@www.yeagolfclub.com.au
SUMMARY:3 Person Multiplier - Stableford
DESCRIPTION:
URL:https://www.yeagolfclub.com.au/event/3-person-multiplier-stableford-2/
LOCATION:Yea GC
CATEGORIES:Mens
ORGANIZER;CN="Yea GC":MAILTO:secretary@yeagolfclub.com.au
END:VEVENT
BEGIN:VEVENT
DTSTART;VALUE=DATE:20230423
DTEND;VALUE=DATE:20230424
DTSTAMP:20260423T220346
CREATED:20230214T053100Z
LAST-MODIFIED:20230214T053100Z
UID:6551-1682208000-1682294399@www.yeagolfclub.com.au
SUMMARY:Men's Pennant - Round 4
DESCRIPTION:Go Royal Yea guys!
URL:https://www.yeagolfclub.com.au/event/mens-pennant-round-4-4/
CATEGORIES:Mens
END:VEVENT
BEGIN:VEVENT
DTSTART;VALUE=DATE:20230422
DTEND;VALUE=DATE:20230423
DTSTAMP:20260423T220346
CREATED:20230214T053100Z
LAST-MODIFIED:20230214T053100Z
UID:6550-1682121600-1682207999@www.yeagolfclub.com.au
SUMMARY:Foursomes Championships
DESCRIPTION:Men & Mixed Foursomes – Scratch & Handicap 12:30pm start
URL:https://www.yeagolfclub.com.au/event/foursomes-championships-3/
LOCATION:Yea GC
CATEGORIES:Ladies,Mens
ORGANIZER;CN="Yea GC":MAILTO:secretary@yeagolfclub.com.au
END:VEVENT
BEGIN:VEVENT
DTSTART;VALUE=DATE:20230419
DTEND;VALUE=DATE:20230420
DTSTAMP:20260423T220346
CREATED:20230214T052900Z
LAST-MODIFIED:20230214T052900Z
UID:6547-1681862400-1681948799@www.yeagolfclub.com.au
SUMMARY:Stableford
DESCRIPTION:
URL:https://www.yeagolfclub.com.au/event/stableford-73/
LOCATION:Yea GC
CATEGORIES:Ladies,Mens
ORGANIZER;CN="Yea GC":MAILTO:secretary@yeagolfclub.com.au
END:VEVENT
BEGIN:VEVENT
DTSTART;VALUE=DATE:20230416
DTEND;VALUE=DATE:20230417
DTSTAMP:20260423T220346
CREATED:20230214T052859Z
LAST-MODIFIED:20230214T052859Z
UID:6545-1681603200-1681689599@www.yeagolfclub.com.au
SUMMARY:Men's Pennant - Round 3
DESCRIPTION:Goodluck Guys!!
URL:https://www.yeagolfclub.com.au/event/mens-pennant-round-3-4/
CATEGORIES:Mens
END:VEVENT
BEGIN:VEVENT
DTSTART;VALUE=DATE:20230415
DTEND;VALUE=DATE:20230416
DTSTAMP:20260423T220346
CREATED:20230214T052658Z
LAST-MODIFIED:20230214T052658Z
UID:6543-1681516800-1681603199@www.yeagolfclub.com.au
SUMMARY:Monthly Medal / Rnd 2 of Sichlau Trophy
DESCRIPTION:Stroke & Putting / Also Round 2 of Sichlau Trophy – Birdie Hole 15th This is the 2nd of 6 stroke rounds\, with 4 best nett rounds to count. In the event of a tie there will be a play off over 18 holes and if the scores are tied a count back on the play off round. In the event of a round being abandoned the number of rounds to count may be reduced. Handicap as at date of play.
URL:https://www.yeagolfclub.com.au/event/monthly-medal-rnd-2-of-sichlau-trophy/
LOCATION:Yea GC
CATEGORIES:Mens
ORGANIZER;CN="Yea GC":MAILTO:secretary@yeagolfclub.com.au
END:VEVENT
BEGIN:VEVENT
DTSTART;VALUE=DATE:20230412
DTEND;VALUE=DATE:20230413
DTSTAMP:20260423T220346
CREATED:20230214T052658Z
LAST-MODIFIED:20230214T052658Z
UID:6541-1681257600-1681343999@www.yeagolfclub.com.au
SUMMARY:Stroke & Putting
DESCRIPTION:
URL:https://www.yeagolfclub.com.au/event/stroke-putting-15/
LOCATION:Yea GC
CATEGORIES:Mens
ORGANIZER;CN="Yea GC":MAILTO:secretary@yeagolfclub.com.au
END:VEVENT
BEGIN:VEVENT
DTSTART;VALUE=DATE:20230410
DTEND;VALUE=DATE:20230411
DTSTAMP:20260423T220346
CREATED:20230214T052457Z
LAST-MODIFIED:20230214T052457Z
UID:6539-1681084800-1681171199@www.yeagolfclub.com.au
SUMMARY:Seymour Easter Tournament
DESCRIPTION:
URL:https://www.yeagolfclub.com.au/event/seymour-easter-tournament/
LOCATION:Seymour GC
CATEGORIES:Ladies,Mens
ORGANIZER;CN="Seymour GC":MAILTO:seygolfclub@bigpond.com
END:VEVENT
BEGIN:VEVENT
DTSTART;VALUE=DATE:20230408
DTEND;VALUE=DATE:20230409
DTSTAMP:20260423T220346
CREATED:20230214T052457Z
LAST-MODIFIED:20230214T052457Z
UID:6538-1680912000-1680998399@www.yeagolfclub.com.au
SUMMARY:Stableford
DESCRIPTION:Men’s Birdie Hole – 18th
URL:https://www.yeagolfclub.com.au/event/stableford-72/
LOCATION:Yea GC
CATEGORIES:Ladies,Mens
ORGANIZER;CN="Yea GC":MAILTO:secretary@yeagolfclub.com.au
END:VEVENT
BEGIN:VEVENT
DTSTART;VALUE=DATE:20230405
DTEND;VALUE=DATE:20230406
DTSTAMP:20260423T220346
CREATED:20230214T052457Z
LAST-MODIFIED:20230214T052457Z
UID:6537-1680652800-1680739199@www.yeagolfclub.com.au
SUMMARY:Stableford
DESCRIPTION:
URL:https://www.yeagolfclub.com.au/event/stableford-71/
LOCATION:Yea GC
CATEGORIES:Mens
ORGANIZER;CN="Yea GC":MAILTO:secretary@yeagolfclub.com.au
END:VEVENT
BEGIN:VEVENT
DTSTART;VALUE=DATE:20230402
DTEND;VALUE=DATE:20230403
DTSTAMP:20260423T220346
CREATED:20230214T052434Z
LAST-MODIFIED:20230214T052434Z
UID:6532-1680393600-1680479999@www.yeagolfclub.com.au
SUMMARY:Men's Pennant - Round 2
DESCRIPTION:Goodluck Guys!!
URL:https://www.yeagolfclub.com.au/event/mens-pennant-round-2-4/
CATEGORIES:Mens
END:VEVENT
BEGIN:VEVENT
DTSTART;VALUE=DATE:20230401
DTEND;VALUE=DATE:20230402
DTSTAMP:20260423T220346
CREATED:20230214T052434Z
LAST-MODIFIED:20230214T052434Z
UID:6530-1680307200-1680393599@www.yeagolfclub.com.au
SUMMARY:Barry Moore Trophy - Stableford - Final Rnd
DESCRIPTION:Final Round of Barry Moore Trophy –  Birdie Hole – 16th.
URL:https://www.yeagolfclub.com.au/event/barry-moore-trophy-stableford-final-rnd-2/
LOCATION:Yea GC
CATEGORIES:Board,Mens
ORGANIZER;CN="Yea GC":MAILTO:secretary@yeagolfclub.com.au
END:VEVENT
BEGIN:VEVENT
DTSTART;VALUE=DATE:20230329
DTEND;VALUE=DATE:20230330
DTSTAMP:20260423T220346
CREATED:20230214T052232Z
LAST-MODIFIED:20230214T055331Z
UID:6529-1680048000-1680134399@www.yeagolfclub.com.au
SUMMARY:Stableford
DESCRIPTION:18 hole event.
URL:https://www.yeagolfclub.com.au/event/stableford-69/
LOCATION:Yea GC
CATEGORIES:Ladies,Mens,Mixed
END:VEVENT
BEGIN:VEVENT
DTSTART;VALUE=DATE:20230326
DTEND;VALUE=DATE:20230327
DTSTAMP:20260423T220346
CREATED:20230214T052231Z
LAST-MODIFIED:20230214T052231Z
UID:6527-1679788800-1679875199@www.yeagolfclub.com.au
SUMMARY:Host to Men's Pennant - Round 1
DESCRIPTION:Goodluck Guys!!
URL:https://www.yeagolfclub.com.au/event/host-to-mens-pennant-round-1/
CATEGORIES:Mens
END:VEVENT
BEGIN:VEVENT
DTSTART;VALUE=DATE:20230325
DTEND;VALUE=DATE:20230326
DTSTAMP:20260423T220346
CREATED:20230214T052231Z
LAST-MODIFIED:20230214T052231Z
UID:6525-1679702400-1679788799@www.yeagolfclub.com.au
SUMMARY:Monthly Medal\, Sichlau Trophy Rnd 1
DESCRIPTION:Stroke & Putting / Round 1 of Sichlau Trophy (Birdie Hole 10th) Six rounds of Stroke\, with 4 best nett rounds to count. In the event of a tie there will be a play off over 18 holes and if the scores are tied a count back on the play off round. In the event of a round being abandoned the number of rounds to count may be reduced. Handicap as at date of play.
URL:https://www.yeagolfclub.com.au/event/monthly-medal-sichlau-trophy-rnd-1/
LOCATION:Yea GC
CATEGORIES:Mens
ORGANIZER;CN="Yea GC":MAILTO:secretary@yeagolfclub.com.au
END:VEVENT
BEGIN:VEVENT
DTSTART;VALUE=DATE:20230322
DTEND;VALUE=DATE:20230323
DTSTAMP:20260423T220346
CREATED:20230214T052216Z
LAST-MODIFIED:20230214T052216Z
UID:6523-1679443200-1679529599@www.yeagolfclub.com.au
SUMMARY:Stableford
DESCRIPTION:
URL:https://www.yeagolfclub.com.au/event/stableford-67/
LOCATION:Yea GC
CATEGORIES:Mens
ORGANIZER;CN="Yea GC":MAILTO:secretary@yeagolfclub.com.au
END:VEVENT
END:VCALENDAR