BEGIN:VCALENDAR
VERSION:2.0
PRODID:-//Yea Golf Club - ECPv6.15.17.1//NONSGML v1.0//EN
CALSCALE:GREGORIAN
METHOD:PUBLISH
X-WR-CALNAME:Yea Golf Club
X-ORIGINAL-URL:https://www.yeagolfclub.com.au
X-WR-CALDESC:Events for Yea Golf Club
REFRESH-INTERVAL;VALUE=DURATION:PT1H
X-Robots-Tag:noindex
X-PUBLISHED-TTL:PT1H
BEGIN:VTIMEZONE
TZID:Australia/Melbourne
BEGIN:STANDARD
TZOFFSETFROM:+1100
TZOFFSETTO:+1000
TZNAME:AEST
DTSTART:20220402T160000
END:STANDARD
BEGIN:DAYLIGHT
TZOFFSETFROM:+1000
TZOFFSETTO:+1100
TZNAME:AEDT
DTSTART:20221001T160000
END:DAYLIGHT
BEGIN:STANDARD
TZOFFSETFROM:+1100
TZOFFSETTO:+1000
TZNAME:AEST
DTSTART:20230401T160000
END:STANDARD
BEGIN:DAYLIGHT
TZOFFSETFROM:+1000
TZOFFSETTO:+1100
TZNAME:AEDT
DTSTART:20230930T160000
END:DAYLIGHT
BEGIN:STANDARD
TZOFFSETFROM:+1100
TZOFFSETTO:+1000
TZNAME:AEST
DTSTART:20240406T160000
END:STANDARD
BEGIN:DAYLIGHT
TZOFFSETFROM:+1000
TZOFFSETTO:+1100
TZNAME:AEDT
DTSTART:20241005T160000
END:DAYLIGHT
END:VTIMEZONE
BEGIN:VEVENT
DTSTART;VALUE=DATE:20230929
DTEND;VALUE=DATE:20230930
DTSTAMP:20260423T190637
CREATED:20230214T054422Z
LAST-MODIFIED:20230214T054422Z
UID:6667-1695945600-1696031999@www.yeagolfclub.com.au
SUMMARY:Bruce Kindred Cup - Yea Grand Final Holiday.
DESCRIPTION:4BBB plus Individual Stableford. 8.30 for 9am. Please bring a plate
URL:https://www.yeagolfclub.com.au/event/bruce-kindred-cup-yea-grand-final-holiday-3/
LOCATION:Yea GC
CATEGORIES:Board,Ladies,Mens,Mixed
ORGANIZER;CN="Yea GC":MAILTO:secretary@yeagolfclub.com.au
END:VEVENT
BEGIN:VEVENT
DTSTART;VALUE=DATE:20230927
DTEND;VALUE=DATE:20230928
DTSTAMP:20260423T190637
CREATED:20230214T054422Z
LAST-MODIFIED:20230214T054422Z
UID:6666-1695772800-1695859199@www.yeagolfclub.com.au
SUMMARY:Stableford
DESCRIPTION:
URL:https://www.yeagolfclub.com.au/event/stableford-91/
LOCATION:Yea GC
CATEGORIES:Mens
ORGANIZER;CN="Yea GC":MAILTO:secretary@yeagolfclub.com.au
END:VEVENT
BEGIN:VEVENT
DTSTART;VALUE=DATE:20230925
DTEND;VALUE=DATE:20230926
DTSTAMP:20260423T190637
CREATED:20230214T054407Z
LAST-MODIFIED:20230214T054407Z
UID:6664-1695600000-1695686399@www.yeagolfclub.com.au
SUMMARY:GA Vic Country Teams
DESCRIPTION:
URL:https://www.yeagolfclub.com.au/event/ga-vic-country-teams/
CATEGORIES:Ladies,Mens
END:VEVENT
BEGIN:VEVENT
DTSTART;VALUE=DATE:20230924
DTEND;VALUE=DATE:20230925
DTSTAMP:20260423T190637
CREATED:20230214T054407Z
LAST-MODIFIED:20230214T054407Z
UID:6663-1695513600-1695599999@www.yeagolfclub.com.au
SUMMARY:DDGA Mens Championship
DESCRIPTION:
URL:https://www.yeagolfclub.com.au/event/ddga-mens-championship/
CATEGORIES:Mens
END:VEVENT
BEGIN:VEVENT
DTSTART;VALUE=DATE:20230923
DTEND;VALUE=DATE:20230924
DTSTAMP:20260423T190637
CREATED:20230214T054406Z
LAST-MODIFIED:20230214T055331Z
UID:6662-1695427200-1695513599@www.yeagolfclub.com.au
SUMMARY:Stableford
DESCRIPTION:
URL:https://www.yeagolfclub.com.au/event/stableford-90/
LOCATION:Yea GC
CATEGORIES:Ladies,Mens
ORGANIZER;CN="Yea GC":MAILTO:secretary@yeagolfclub.com.au
END:VEVENT
BEGIN:VEVENT
DTSTART;VALUE=DATE:20230917
DTEND;VALUE=DATE:20230918
DTSTAMP:20260423T190637
CREATED:20230214T054352Z
LAST-MODIFIED:20230214T054352Z
UID:6658-1694908800-1694995199@www.yeagolfclub.com.au
SUMMARY:Kilmore Tournament
DESCRIPTION:
URL:https://www.yeagolfclub.com.au/event/kilmore-tournament-5/
LOCATION:Kilmore GC
CATEGORIES:Mens
END:VEVENT
BEGIN:VEVENT
DTSTART;VALUE=DATE:20230916
DTEND;VALUE=DATE:20230917
DTSTAMP:20260423T190637
CREATED:20230214T054351Z
LAST-MODIFIED:20230214T054351Z
UID:6657-1694822400-1694908799@www.yeagolfclub.com.au
SUMMARY:Par
DESCRIPTION:Men – Birdie Hole 6th
URL:https://www.yeagolfclub.com.au/event/par-17/
LOCATION:Yea GC
CATEGORIES:Ladies,Mens
ORGANIZER;CN="Yea GC":MAILTO:secretary@yeagolfclub.com.au
END:VEVENT
BEGIN:VEVENT
DTSTART;VALUE=DATE:20230915
DTEND;VALUE=DATE:20230916
DTSTAMP:20260423T190637
CREATED:20230214T054351Z
LAST-MODIFIED:20230214T054351Z
UID:6656-1694736000-1694822399@www.yeagolfclub.com.au
SUMMARY:Men's Knockout - Final Knockout to be played
DESCRIPTION:Come along and cheer the finalists on!
URL:https://www.yeagolfclub.com.au/event/mens-knockout-final-knockout-to-be-played-3/
LOCATION:Yea GC
CATEGORIES:Board,Mens
ORGANIZER;CN="Yea GC":MAILTO:secretary@yeagolfclub.com.au
END:VEVENT
BEGIN:VEVENT
DTSTART;VALUE=DATE:20230913
DTEND;VALUE=DATE:20230914
DTSTAMP:20260423T190637
CREATED:20230214T054337Z
LAST-MODIFIED:20230214T054337Z
UID:6654-1694563200-1694649599@www.yeagolfclub.com.au
SUMMARY:Stableford
DESCRIPTION:
URL:https://www.yeagolfclub.com.au/event/stableford-89/
LOCATION:Yea GC
CATEGORIES:Mens
ORGANIZER;CN="Yea GC":MAILTO:secretary@yeagolfclub.com.au
END:VEVENT
BEGIN:VEVENT
DTSTART;VALUE=DATE:20230910
DTEND;VALUE=DATE:20230911
DTSTAMP:20260423T190637
CREATED:20230214T054336Z
LAST-MODIFIED:20230214T054336Z
UID:6652-1694304000-1694390399@www.yeagolfclub.com.au
SUMMARY:Broadford Tournament
DESCRIPTION:
URL:https://www.yeagolfclub.com.au/event/broadford-tournament-6/
LOCATION:Broadford GC
CATEGORIES:Mens
ORGANIZER;CN="Broadford GC":MAILTO:broadfordgolfclub@bigpond.com
END:VEVENT
BEGIN:VEVENT
DTSTART;VALUE=DATE:20230909
DTEND;VALUE=DATE:20230910
DTSTAMP:20260423T190637
CREATED:20230214T054336Z
LAST-MODIFIED:20230214T054336Z
UID:6650-1694217600-1694303999@www.yeagolfclub.com.au
SUMMARY:Monthly Medal\, Stroke & Putting / Rnd 4 Sichlau trophy
DESCRIPTION:Also Round 4 of Sichlau Trophy.  Birdie Hole 12th.
URL:https://www.yeagolfclub.com.au/event/monthly-medal-stroke-putting-rnd-4-sichlau-trophy/
LOCATION:Yea GC
CATEGORIES:Mens
ORGANIZER;CN="Yea GC":MAILTO:secretary@yeagolfclub.com.au
END:VEVENT
BEGIN:VEVENT
DTSTART;VALUE=DATE:20230906
DTEND;VALUE=DATE:20230907
DTSTAMP:20260423T190637
CREATED:20230214T054321Z
LAST-MODIFIED:20230214T054321Z
UID:6647-1693958400-1694044799@www.yeagolfclub.com.au
SUMMARY:Par 3 Day at Yea - Stableford
DESCRIPTION:
URL:https://www.yeagolfclub.com.au/event/par-3-day-at-yea-stableford-3/
LOCATION:Yea GC
CATEGORIES:Ladies,Mens
ORGANIZER;CN="Yea GC":MAILTO:secretary@yeagolfclub.com.au
END:VEVENT
BEGIN:VEVENT
DTSTART;VALUE=DATE:20230902
DTEND;VALUE=DATE:20230903
DTSTAMP:20260423T190637
CREATED:20230214T054321Z
LAST-MODIFIED:20230214T055331Z
UID:6645-1693612800-1693699199@www.yeagolfclub.com.au
SUMMARY:Stableford
DESCRIPTION:Birdie Hole – 2nd
URL:https://www.yeagolfclub.com.au/event/stableford-88/
LOCATION:Yea GC
CATEGORIES:Mens
ORGANIZER;CN="Yea GC":MAILTO:secretary@yeagolfclub.com.au
END:VEVENT
BEGIN:VEVENT
DTSTART;VALUE=DATE:20230826
DTEND;VALUE=DATE:20230827
DTSTAMP:20260423T190637
CREATED:20230214T054306Z
LAST-MODIFIED:20230214T054306Z
UID:6640-1693008000-1693094399@www.yeagolfclub.com.au
SUMMARY:Captain v President Slab Challenge.- Stableford
DESCRIPTION:Birdie Hole 5th.
URL:https://www.yeagolfclub.com.au/event/captain-v-president-slab-challenge-stableford-3/
LOCATION:Yea GC
CATEGORIES:Mens
ORGANIZER;CN="Yea GC":MAILTO:secretary@yeagolfclub.com.au
END:VEVENT
BEGIN:VEVENT
DTSTART;VALUE=DATE:20230825
DTEND;VALUE=DATE:20230826
DTSTAMP:20260423T190637
CREATED:20230214T054252Z
LAST-MODIFIED:20230214T054252Z
UID:6639-1692921600-1693007999@www.yeagolfclub.com.au
SUMMARY:Men's Knockout - Semi-finals to be completed
DESCRIPTION:
URL:https://www.yeagolfclub.com.au/event/mens-knockout-semi-finals-to-be-completed-3/
LOCATION:Yea GC
CATEGORIES:Mens
ORGANIZER;CN="Yea GC":MAILTO:secretary@yeagolfclub.com.au
END:VEVENT
BEGIN:VEVENT
DTSTART;VALUE=DATE:20230820
DTEND;VALUE=DATE:20230821
DTSTAMP:20260423T190637
CREATED:20230214T054251Z
LAST-MODIFIED:20230214T054251Z
UID:6636-1692489600-1692575999@www.yeagolfclub.com.au
SUMMARY:Mens Open Tournament - Avenel
DESCRIPTION:
URL:https://www.yeagolfclub.com.au/event/mens-open-tournament-avenel-2/
LOCATION:Avenel GC
CATEGORIES:Mens
END:VEVENT
BEGIN:VEVENT
DTSTART;VALUE=DATE:20230819
DTEND;VALUE=DATE:20230820
DTSTAMP:20260423T190637
CREATED:20230214T054251Z
LAST-MODIFIED:20230214T054251Z
UID:6635-1692403200-1692489599@www.yeagolfclub.com.au
SUMMARY:Stableford - Play off Red Tees
DESCRIPTION:Birdie Hole 9th
URL:https://www.yeagolfclub.com.au/event/stableford-play-off-red-tees-3/
LOCATION:Yea GC
CATEGORIES:Mens
ORGANIZER;CN="Yea GC":MAILTO:secretary@yeagolfclub.com.au
END:VEVENT
BEGIN:VEVENT
DTSTART;VALUE=DATE:20230816
DTEND;VALUE=DATE:20230817
DTSTAMP:20260423T190637
CREATED:20230214T054236Z
LAST-MODIFIED:20230214T054236Z
UID:6633-1692144000-1692230399@www.yeagolfclub.com.au
SUMMARY:Stableford - 2 Person Multiplier
DESCRIPTION:
URL:https://www.yeagolfclub.com.au/event/stableford-2-person-multiplier-3/
LOCATION:Yea GC
CATEGORIES:Mens
ORGANIZER;CN="Yea GC":MAILTO:secretary@yeagolfclub.com.au
END:VEVENT
BEGIN:VEVENT
DTSTART;VALUE=DATE:20230813
DTEND;VALUE=DATE:20230814
DTSTAMP:20260423T190637
CREATED:20230214T054236Z
LAST-MODIFIED:20230214T054236Z
UID:6630-1691884800-1691971199@www.yeagolfclub.com.au
SUMMARY:54 Holes Points Event - Rnd 3 - Monthly Medal
DESCRIPTION:Also Men’s Monthly Medal\, Stroke & Putting – Birdie Hole 17th.
URL:https://www.yeagolfclub.com.au/event/54-holes-points-event-rnd-3-monthly-medal-2/
LOCATION:Yea GC
CATEGORIES:Board,Mens
ORGANIZER;CN="Yea GC":MAILTO:secretary@yeagolfclub.com.au
END:VEVENT
BEGIN:VEVENT
DTSTART;VALUE=DATE:20230809
DTEND;VALUE=DATE:20230810
DTSTAMP:20260423T190637
CREATED:20230214T054222Z
LAST-MODIFIED:20230214T054222Z
UID:6628-1691539200-1691625599@www.yeagolfclub.com.au
SUMMARY:Stroke & Putting
DESCRIPTION:
URL:https://www.yeagolfclub.com.au/event/stroke-putting-18/
LOCATION:Yea GC
CATEGORIES:Mens
ORGANIZER;CN="Yea GC":MAILTO:secretary@yeagolfclub.com.au
END:VEVENT
BEGIN:VEVENT
DTSTART;VALUE=DATE:20230805
DTEND;VALUE=DATE:20230806
DTSTAMP:20260423T190637
CREATED:20230214T054221Z
LAST-MODIFIED:20230214T054221Z
UID:6625-1691193600-1691279999@www.yeagolfclub.com.au
SUMMARY:54 Holes Points Event - Round 2 - Par
DESCRIPTION:Birdie Hole 8th.
URL:https://www.yeagolfclub.com.au/event/54-holes-points-event-round-2-par-3/
LOCATION:Yea GC
CATEGORIES:Board,Mens
ORGANIZER;CN="Yea GC":MAILTO:secretary@yeagolfclub.com.au
END:VEVENT
BEGIN:VEVENT
DTSTART;VALUE=DATE:20230802
DTEND;VALUE=DATE:20230803
DTSTAMP:20260423T190637
CREATED:20230214T054207Z
LAST-MODIFIED:20230214T054207Z
UID:6624-1690934400-1691020799@www.yeagolfclub.com.au
SUMMARY:2 Person Ambrose
DESCRIPTION:Everyone welcome.  Please bring a plate and a friend!
URL:https://www.yeagolfclub.com.au/event/2-person-ambrose-7/
LOCATION:Yea GC
CATEGORIES:Ladies,Mens
ORGANIZER;CN="Yea GC":MAILTO:secretary@yeagolfclub.com.au
END:VEVENT
BEGIN:VEVENT
DTSTART;VALUE=DATE:20230729
DTEND;VALUE=DATE:20230730
DTSTAMP:20260423T190637
CREATED:20230214T054207Z
LAST-MODIFIED:20230214T054207Z
UID:6622-1690588800-1690675199@www.yeagolfclub.com.au
SUMMARY:54 Holes Points Event - Round 1 Stableford
DESCRIPTION:Men – Birdie Hole 13th
URL:https://www.yeagolfclub.com.au/event/54-holes-points-event-round-1-stableford-3/
LOCATION:Yea GC
CATEGORIES:Board,Mens
ORGANIZER;CN="Yea GC":MAILTO:secretary@yeagolfclub.com.au
END:VEVENT
BEGIN:VEVENT
DTSTART;VALUE=DATE:20230728
DTEND;VALUE=DATE:20230729
DTSTAMP:20260423T190637
CREATED:20230214T054207Z
LAST-MODIFIED:20230214T054207Z
UID:6621-1690502400-1690588799@www.yeagolfclub.com.au
SUMMARY:Men's Knockout - 3rd round to be completed
DESCRIPTION:3rd Round matches must be completed.
URL:https://www.yeagolfclub.com.au/event/mens-knockout-3rd-round-to-be-completed-3/
LOCATION:Yea GC
CATEGORIES:Mens
ORGANIZER;CN="Yea GC":MAILTO:secretary@yeagolfclub.com.au
END:VEVENT
BEGIN:VEVENT
DTSTART;VALUE=DATE:20230726
DTEND;VALUE=DATE:20230727
DTSTAMP:20260423T190637
CREATED:20230214T054206Z
LAST-MODIFIED:20230214T054206Z
UID:6620-1690329600-1690415999@www.yeagolfclub.com.au
SUMMARY:Stableford - 22 Pairs
DESCRIPTION:Two players playing Individual Stableford with their points on each hole earning a combined number determining their result. If either player earns 0 or 1 then that means the team can only receive a low outcome: ie. O1\,02\,03\,04\,05\, 11\,12\,13\,14\,15. If both score 2 then they receive a Pair 22 result. If they score better than 22 they receive a high outcome: ie.32\,33\,42\,43\,44\,52\,53\,54\,55
URL:https://www.yeagolfclub.com.au/event/stableford-22-pairs-10/
LOCATION:Yea GC
CATEGORIES:Ladies,Mens
ORGANIZER;CN="Yea GC":MAILTO:secretary@yeagolfclub.com.au
END:VEVENT
BEGIN:VEVENT
DTSTART;VALUE=DATE:20230720
DTEND;VALUE=DATE:20230721
DTSTAMP:20260423T190637
CREATED:20230214T054151Z
LAST-MODIFIED:20230214T054151Z
UID:6618-1689811200-1689897599@www.yeagolfclub.com.au
SUMMARY:Veterans - Par 3 Day -Stableford
DESCRIPTION:Vets Membership – Men & Lady Members over 55  Cost – $20
URL:https://www.yeagolfclub.com.au/event/veterans-par-3-day-stableford/
LOCATION:Avenel GC
CATEGORIES:Ladies,Mens
END:VEVENT
BEGIN:VEVENT
DTSTART;VALUE=DATE:20230719
DTEND;VALUE=DATE:20230720
DTSTAMP:20260423T190637
CREATED:20230214T054151Z
LAST-MODIFIED:20230214T054151Z
UID:6617-1689724800-1689811199@www.yeagolfclub.com.au
SUMMARY:4BBB Stableford
DESCRIPTION:Draw for playing partner
URL:https://www.yeagolfclub.com.au/event/4bbb-stableford-5/
LOCATION:Yea GC
CATEGORIES:Ladies,Mens
ORGANIZER;CN="Yea GC":MAILTO:secretary@yeagolfclub.com.au
END:VEVENT
BEGIN:VEVENT
DTSTART;VALUE=DATE:20230715
DTEND;VALUE=DATE:20230716
DTSTAMP:20260423T190637
CREATED:20230214T054151Z
LAST-MODIFIED:20230214T054151Z
UID:6615-1689379200-1689465599@www.yeagolfclub.com.au
SUMMARY:Monthly Medal
DESCRIPTION:Stroke  & Putting  / Birdie Hole 1st
URL:https://www.yeagolfclub.com.au/event/monthly-medal-9/
LOCATION:Yea GC
CATEGORIES:Mens
ORGANIZER;CN="Yea GC":MAILTO:secretary@yeagolfclub.com.au
END:VEVENT
BEGIN:VEVENT
DTSTART;VALUE=DATE:20230712
DTEND;VALUE=DATE:20230713
DTSTAMP:20260423T190637
CREATED:20230214T054137Z
LAST-MODIFIED:20230214T054137Z
UID:6614-1689120000-1689206399@www.yeagolfclub.com.au
SUMMARY:Stroke & Putting
DESCRIPTION:Stroke & Putting  – Bring a plate and celebrate Christmas in July
URL:https://www.yeagolfclub.com.au/event/stroke-putting-17/
LOCATION:Yea GC
CATEGORIES:Mens
ORGANIZER;CN="Yea GC":MAILTO:secretary@yeagolfclub.com.au
END:VEVENT
BEGIN:VEVENT
DTSTART;VALUE=DATE:20230708
DTEND;VALUE=DATE:20230709
DTSTAMP:20260423T190637
CREATED:20230214T054136Z
LAST-MODIFIED:20230214T054136Z
UID:6612-1688774400-1688860799@www.yeagolfclub.com.au
SUMMARY:Stableford
DESCRIPTION:Men – Birdie Hole 16th
URL:https://www.yeagolfclub.com.au/event/stableford-85/
LOCATION:Yea GC
CATEGORIES:Ladies,Mens
ORGANIZER;CN="Yea GC":MAILTO:secretary@yeagolfclub.com.au
END:VEVENT
END:VCALENDAR