BEGIN:VCALENDAR
VERSION:2.0
PRODID:-//Yea Golf Club - ECPv6.15.17.1//NONSGML v1.0//EN
CALSCALE:GREGORIAN
METHOD:PUBLISH
X-WR-CALNAME:Yea Golf Club
X-ORIGINAL-URL:https://www.yeagolfclub.com.au
X-WR-CALDESC:Events for Yea Golf Club
REFRESH-INTERVAL;VALUE=DURATION:PT1H
X-Robots-Tag:noindex
X-PUBLISHED-TTL:PT1H
BEGIN:VTIMEZONE
TZID:Australia/Melbourne
BEGIN:STANDARD
TZOFFSETFROM:+1100
TZOFFSETTO:+1000
TZNAME:AEST
DTSTART:20230401T160000
END:STANDARD
BEGIN:DAYLIGHT
TZOFFSETFROM:+1000
TZOFFSETTO:+1100
TZNAME:AEDT
DTSTART:20230930T160000
END:DAYLIGHT
BEGIN:STANDARD
TZOFFSETFROM:+1100
TZOFFSETTO:+1000
TZNAME:AEST
DTSTART:20240406T160000
END:STANDARD
BEGIN:DAYLIGHT
TZOFFSETFROM:+1000
TZOFFSETTO:+1100
TZNAME:AEDT
DTSTART:20241005T160000
END:DAYLIGHT
BEGIN:STANDARD
TZOFFSETFROM:+1100
TZOFFSETTO:+1000
TZNAME:AEST
DTSTART:20250405T160000
END:STANDARD
BEGIN:DAYLIGHT
TZOFFSETFROM:+1000
TZOFFSETTO:+1100
TZNAME:AEDT
DTSTART:20251004T160000
END:DAYLIGHT
END:VTIMEZONE
BEGIN:VEVENT
DTSTART;VALUE=DATE:20240420
DTEND;VALUE=DATE:20240421
DTSTAMP:20260423T143040
CREATED:20240227T103138Z
LAST-MODIFIED:20240227T103138Z
UID:7574-1713571200-1713657599@www.yeagolfclub.com.au
SUMMARY:Yea Foursomes Championship
DESCRIPTION:Men & Mixed Foursomes – Scratch & Handicap 12:30pm start
URL:https://www.yeagolfclub.com.au/event/yea-foursomes-championship/
LOCATION:Yea GC
CATEGORIES:Ladies,Mens
END:VEVENT
BEGIN:VEVENT
DTSTART;VALUE=DATE:20240418
DTEND;VALUE=DATE:20240419
DTSTAMP:20260423T143040
CREATED:20240227T103138Z
LAST-MODIFIED:20240227T103138Z
UID:7572-1713398400-1713484799@www.yeagolfclub.com.au
SUMMARY:Vets (Eildon)
DESCRIPTION:
URL:https://www.yeagolfclub.com.au/event/vets-eildon/
LOCATION:Eildon GC
CATEGORIES:Ladies,Mens
END:VEVENT
BEGIN:VEVENT
DTSTART;VALUE=DATE:20240417
DTEND;VALUE=DATE:20240418
DTSTAMP:20260423T143040
CREATED:20240227T103138Z
LAST-MODIFIED:20240227T103138Z
UID:7571-1713312000-1713398399@www.yeagolfclub.com.au
SUMMARY:Men & Ladies Monthly Medal Round 3
DESCRIPTION:Stroke & Putting
URL:https://www.yeagolfclub.com.au/event/men-ladies-monthly-medal-round-3/
LOCATION:Yea GC
CATEGORIES:Ladies,Mens
END:VEVENT
BEGIN:VEVENT
DTSTART;VALUE=DATE:20240414
DTEND;VALUE=DATE:20240415
DTSTAMP:20260423T143040
CREATED:20240227T103010Z
LAST-MODIFIED:20240227T103010Z
UID:7570-1713052800-1713139199@www.yeagolfclub.com.au
SUMMARY:Sunday Pennant - Round 3 (Marysville)
DESCRIPTION:Goodluck!!
URL:https://www.yeagolfclub.com.au/event/sunday-pennant-round-3-marysville/
LOCATION:Marysville GC
CATEGORIES:Ladies,Mens
END:VEVENT
BEGIN:VEVENT
DTSTART;VALUE=DATE:20240413
DTEND;VALUE=DATE:20240414
DTSTAMP:20260423T143040
CREATED:20240227T103010Z
LAST-MODIFIED:20240227T103010Z
UID:7569-1712966400-1713052799@www.yeagolfclub.com.au
SUMMARY:Men Monthly Medal & Rnd 2 of Sichlau Trophy
DESCRIPTION:Stroke & Putting / Rnd 2  Sichlau Trophy –  4 best of 6 nett rounds. If a tie there will be an 18 hole play off. If  scores reman tied a count back. Handicap is as at date of play. (Birdie Hole 9th)
URL:https://www.yeagolfclub.com.au/event/men-monthly-medal-rnd-2-of-sichlau-trophy/
LOCATION:Yea GC
CATEGORIES:Ladies,Mens
END:VEVENT
BEGIN:VEVENT
DTSTART;VALUE=DATE:20240410
DTEND;VALUE=DATE:20240411
DTSTAMP:20260423T143040
CREATED:20240227T103008Z
LAST-MODIFIED:20240227T103008Z
UID:7566-1712707200-1712793599@www.yeagolfclub.com.au
SUMMARY:Stableford
DESCRIPTION:Stableford
URL:https://www.yeagolfclub.com.au/event/stableford-103/
LOCATION:Yea GC
CATEGORIES:Mens
END:VEVENT
BEGIN:VEVENT
DTSTART;VALUE=DATE:20240408
DTEND;VALUE=DATE:20240409
DTSTAMP:20260423T143040
CREATED:20240227T102954Z
LAST-MODIFIED:20240227T102954Z
UID:7565-1712534400-1712620799@www.yeagolfclub.com.au
SUMMARY:Weekday Pennant - Round 1
DESCRIPTION:
URL:https://www.yeagolfclub.com.au/event/weekday-pennant-round-1/
CATEGORIES:Ladies,Mens
END:VEVENT
BEGIN:VEVENT
DTSTART;VALUE=DATE:20240407
DTEND;VALUE=DATE:20240408
DTSTAMP:20260423T143040
CREATED:20240227T102953Z
LAST-MODIFIED:20240227T102953Z
UID:7563-1712448000-1712534399@www.yeagolfclub.com.au
SUMMARY:Sunday Pennant - Round 2 (Alexandra)
DESCRIPTION:
URL:https://www.yeagolfclub.com.au/event/sunday-pennant-round-2-alexandra/
LOCATION:Alexandra GC
CATEGORIES:Ladies,Mens
END:VEVENT
BEGIN:VEVENT
DTSTART;VALUE=DATE:20240406
DTEND;VALUE=DATE:20240407
DTSTAMP:20260423T143040
CREATED:20240227T102953Z
LAST-MODIFIED:20240227T102953Z
UID:7562-1712361600-1712447999@www.yeagolfclub.com.au
SUMMARY:Barry Moore Trophy - Stableford -  Final Rnd
DESCRIPTION:Men Final Round of Barry Moore Trophy –  Birdie Hole – 16th
URL:https://www.yeagolfclub.com.au/event/barry-moore-trophy-stableford-final-rnd-3/
LOCATION:Yea GC
CATEGORIES:Mens
END:VEVENT
BEGIN:VEVENT
DTSTART;VALUE=DATE:20240403
DTEND;VALUE=DATE:20240404
DTSTAMP:20260423T143040
CREATED:20240227T102838Z
LAST-MODIFIED:20240227T102838Z
UID:7556-1712102400-1712188799@www.yeagolfclub.com.au
SUMMARY:Stableford
DESCRIPTION:
URL:https://www.yeagolfclub.com.au/event/stableford-102/
LOCATION:Yea GC
CATEGORIES:Mens
END:VEVENT
BEGIN:VEVENT
DTSTART;VALUE=DATE:20240401
DTEND;VALUE=DATE:20240402
DTSTAMP:20260423T143040
CREATED:20240227T102838Z
LAST-MODIFIED:20240227T102838Z
UID:7555-1711929600-1712015999@www.yeagolfclub.com.au
SUMMARY:Seymour - Easter Cup
DESCRIPTION:
URL:https://www.yeagolfclub.com.au/event/seymour-easter-cup/
LOCATION:Seymour GC
CATEGORIES:Ladies,Mens
END:VEVENT
BEGIN:VEVENT
DTSTART;VALUE=DATE:20240330
DTEND;VALUE=DATE:20240331
DTSTAMP:20260423T143040
CREATED:20240227T102824Z
LAST-MODIFIED:20240227T102824Z
UID:7554-1711756800-1711843199@www.yeagolfclub.com.au
SUMMARY:Stableford - Mixed
DESCRIPTION:
URL:https://www.yeagolfclub.com.au/event/stableford-mixed/
LOCATION:Yea GC
CATEGORIES:Ladies,Mens
END:VEVENT
BEGIN:VEVENT
DTSTART;VALUE=DATE:20240329
DTEND;VALUE=DATE:20240330
DTSTAMP:20260423T143040
CREATED:20240227T102824Z
LAST-MODIFIED:20240227T102824Z
UID:7553-1711670400-1711756799@www.yeagolfclub.com.au
SUMMARY:Seymour - 2 Person Ambrose (any combo)
DESCRIPTION:
URL:https://www.yeagolfclub.com.au/event/seymour-2-person-ambrose-any-combo/
LOCATION:Seymour GC
CATEGORIES:Ladies,Mens
END:VEVENT
BEGIN:VEVENT
DTSTART;VALUE=DATE:20240327
DTEND;VALUE=DATE:20240328
DTSTAMP:20260423T143040
CREATED:20240227T102824Z
LAST-MODIFIED:20240227T102824Z
UID:7552-1711497600-1711583999@www.yeagolfclub.com.au
SUMMARY:Men Stroke & Putting
DESCRIPTION:Stroke & Putting
URL:https://www.yeagolfclub.com.au/event/men-stroke-putting/
LOCATION:Yea GC
CATEGORIES:Mens
END:VEVENT
BEGIN:VEVENT
DTSTART;VALUE=DATE:20240324
DTEND;VALUE=DATE:20240325
DTSTAMP:20260423T143040
CREATED:20240227T102631Z
LAST-MODIFIED:20240227T102631Z
UID:7549-1711238400-1711324799@www.yeagolfclub.com.au
SUMMARY:Sunday Pennant - Round 1 (Strathbogie)
DESCRIPTION:
URL:https://www.yeagolfclub.com.au/event/sunday-pennant-round-1-strathbogie/
LOCATION:Strathbogie GC
CATEGORIES:Mens
END:VEVENT
BEGIN:VEVENT
DTSTART;VALUE=DATE:20240323
DTEND;VALUE=DATE:20240324
DTSTAMP:20260423T143040
CREATED:20240227T102631Z
LAST-MODIFIED:20240227T102631Z
UID:7548-1711152000-1711238399@www.yeagolfclub.com.au
SUMMARY:Men Monthly Medal & Sichlau Trophy Rnd 1
DESCRIPTION:Stroke & Putting / Rnd 1  Sichlau Trophy –  4 best of 6 nett rounds. If a tie there will be an 18 hole play off. If  scores reman tied a count back. Handicap is as at date of play. (Birdie Hole 10th)
URL:https://www.yeagolfclub.com.au/event/men-monthly-medal-sichlau-trophy-rnd-1/
LOCATION:Yea GC
CATEGORIES:Mens
END:VEVENT
BEGIN:VEVENT
DTSTART;VALUE=DATE:20240320
DTEND;VALUE=DATE:20240321
DTSTAMP:20260423T143040
CREATED:20240227T102631Z
LAST-MODIFIED:20240227T102631Z
UID:7545-1710892800-1710979199@www.yeagolfclub.com.au
SUMMARY:Mens Stableford
DESCRIPTION:
URL:https://www.yeagolfclub.com.au/event/mens-stableford/
LOCATION:Yea GC
CATEGORIES:Mens
END:VEVENT
BEGIN:VEVENT
DTSTART;VALUE=DATE:20240316
DTEND;VALUE=DATE:20240317
DTSTAMP:20260423T143040
CREATED:20240227T102616Z
LAST-MODIFIED:20240227T102616Z
UID:7543-1710547200-1710633599@www.yeagolfclub.com.au
SUMMARY:Anti-Cancer Fund Raiser - 2 Person Ambrose
DESCRIPTION:8-30 for 9am Shotgun start   Bring a plate – Raffle- Fun & fund raiser event   Proceeds donated to Local Cancer Charity
URL:https://www.yeagolfclub.com.au/event/anti-cancer-fund-raiser-2-person-ambrose/
LOCATION:Yea GC
CATEGORIES:Mens
END:VEVENT
BEGIN:VEVENT
DTSTART;VALUE=DATE:20240313
DTEND;VALUE=DATE:20240314
DTSTAMP:20260423T143040
CREATED:20240227T102615Z
LAST-MODIFIED:20240227T102615Z
UID:7540-1710288000-1710374399@www.yeagolfclub.com.au
SUMMARY:Four Stick Stableford
DESCRIPTION:Men  choose a max of 4 Clubs for the round
URL:https://www.yeagolfclub.com.au/event/four-stick-stableford-5/
LOCATION:Yea GC
CATEGORIES:Mens
END:VEVENT
BEGIN:VEVENT
DTSTART;VALUE=DATE:20240309
DTEND;VALUE=DATE:20240310
DTSTAMP:20260423T143040
CREATED:20240227T102602Z
LAST-MODIFIED:20240227T102602Z
UID:7538-1709942400-1710028799@www.yeagolfclub.com.au
SUMMARY:Season Opening- Mixed 3 Person Ambrose
DESCRIPTION:
URL:https://www.yeagolfclub.com.au/event/season-opening-mixed-3-person-ambrose/
LOCATION:Yea GC
CATEGORIES:Mens
END:VEVENT
BEGIN:VEVENT
DTSTART;VALUE=DATE:20240306
DTEND;VALUE=DATE:20240307
DTSTAMP:20260423T143040
CREATED:20240227T102602Z
LAST-MODIFIED:20240227T102602Z
UID:7536-1709683200-1709769599@www.yeagolfclub.com.au
SUMMARY:Men Pair Multiplier Stableford
DESCRIPTION:Stableford – Men Multiply stableford score of each player
URL:https://www.yeagolfclub.com.au/event/men-pair-multiplier-stableford/
LOCATION:Yea GC
CATEGORIES:Mens
END:VEVENT
BEGIN:VEVENT
DTSTART;VALUE=DATE:20240302
DTEND;VALUE=DATE:20240303
DTSTAMP:20260423T143040
CREATED:20240227T102559Z
LAST-MODIFIED:20240227T102559Z
UID:7534-1709337600-1709423999@www.yeagolfclub.com.au
SUMMARY:Men - Barry Moore Trophy - Stableford - 1st Rnd
DESCRIPTION:Played over two 18 hole Rounds  – B/Hole 14th
URL:https://www.yeagolfclub.com.au/event/men-barry-moore-trophy-stableford-1st-rnd/
LOCATION:Yea GC
CATEGORIES:Mens
END:VEVENT
BEGIN:VEVENT
DTSTART;VALUE=DATE:20240228
DTEND;VALUE=DATE:20240229
DTSTAMP:20260423T143040
CREATED:20240227T102558Z
LAST-MODIFIED:20240227T102558Z
UID:7532-1709078400-1709164799@www.yeagolfclub.com.au
SUMMARY:Men Two Person Irish Stableford
DESCRIPTION:
URL:https://www.yeagolfclub.com.au/event/men-two-person-irish-stableford-2/
LOCATION:Yea GC
CATEGORIES:Mens
END:VEVENT
BEGIN:VEVENT
DTSTART;VALUE=DATE:20240224
DTEND;VALUE=DATE:20240225
DTSTAMP:20260423T143040
CREATED:20230214T054836Z
LAST-MODIFIED:20230214T054836Z
UID:6751-1708732800-1708819199@www.yeagolfclub.com.au
SUMMARY:Stableford
DESCRIPTION:Mens – Birdie Hole 6th
URL:https://www.yeagolfclub.com.au/event/stableford-101/
LOCATION:Yea GC
CATEGORIES:Ladies,Mens
ORGANIZER;CN="Yea GC":MAILTO:secretary@yeagolfclub.com.au
END:VEVENT
BEGIN:VEVENT
DTSTART;VALUE=DATE:20240221
DTEND;VALUE=DATE:20240222
DTSTAMP:20260423T143040
CREATED:20230214T054836Z
LAST-MODIFIED:20230214T054836Z
UID:6750-1708473600-1708559999@www.yeagolfclub.com.au
SUMMARY:Stableford & followed by Gender Lunch
DESCRIPTION:
URL:https://www.yeagolfclub.com.au/event/stableford-followed-by-gender-lunch-4/
LOCATION:Yea GC
CATEGORIES:Ladies,Mens
ORGANIZER;CN="Yea GC":MAILTO:secretary@yeagolfclub.com.au
END:VEVENT
BEGIN:VEVENT
DTSTART;VALUE=DATE:20240217
DTEND;VALUE=DATE:20240218
DTSTAMP:20260423T143040
CREATED:20230214T054822Z
LAST-MODIFIED:20230214T054822Z
UID:6749-1708128000-1708214399@www.yeagolfclub.com.au
SUMMARY:Yea Races (To be confirmed)
DESCRIPTION:
URL:https://www.yeagolfclub.com.au/event/yea-races-to-be-confirmed-7/
CATEGORIES:Mens
END:VEVENT
BEGIN:VEVENT
DTSTART;VALUE=DATE:20240210
DTEND;VALUE=DATE:20240211
DTSTAMP:20260423T143040
CREATED:20230214T054822Z
LAST-MODIFIED:20230214T054822Z
UID:6747-1707523200-1707609599@www.yeagolfclub.com.au
SUMMARY:Murrindindi Masters - TBC
DESCRIPTION:
URL:https://www.yeagolfclub.com.au/event/murrindindi-masters-tbc-7/
CATEGORIES:Ladies,Mens
END:VEVENT
BEGIN:VEVENT
DTSTART;VALUE=DATE:20240203
DTEND;VALUE=DATE:20240204
DTSTAMP:20260423T143040
CREATED:20230214T054807Z
LAST-MODIFIED:20230214T054807Z
UID:6744-1706918400-1707004799@www.yeagolfclub.com.au
SUMMARY:Monthly Medal
DESCRIPTION:Stroke & Putting.  / Birdie Hole 17th.
URL:https://www.yeagolfclub.com.au/event/monthly-medal-13/
LOCATION:Yea GC
CATEGORIES:Mens
ORGANIZER;CN="Yea GC":MAILTO:secretary@yeagolfclub.com.au
END:VEVENT
BEGIN:VEVENT
DTSTART;VALUE=DATE:20240126
DTEND;VALUE=DATE:20240127
DTSTAMP:20260423T143040
CREATED:20230214T054806Z
LAST-MODIFIED:20230214T054806Z
UID:6741-1706227200-1706313599@www.yeagolfclub.com.au
SUMMARY:Australia Day 4BBB Seymour.
DESCRIPTION:
URL:https://www.yeagolfclub.com.au/event/australia-day-4bbb-seymour-3/
LOCATION:Seymour GC
CATEGORIES:Ladies,Mens,Mixed
ORGANIZER;CN="Seymour GC":MAILTO:seygolfclub@bigpond.com
END:VEVENT
BEGIN:VEVENT
DTSTART;VALUE=DATE:20240113
DTEND;VALUE=DATE:20240114
DTSTAMP:20260423T143040
CREATED:20230214T054752Z
LAST-MODIFIED:20230214T054752Z
UID:6737-1705104000-1705190399@www.yeagolfclub.com.au
SUMMARY:Murrindindi Masters - TBC
DESCRIPTION:
URL:https://www.yeagolfclub.com.au/event/murrindindi-masters-tbc-6/
LOCATION:Yea GC
CATEGORIES:Ladies,Mens
ORGANIZER;CN="Yea GC":MAILTO:secretary@yeagolfclub.com.au
END:VEVENT
END:VCALENDAR