BEGIN:VCALENDAR
VERSION:2.0
PRODID:-//Yea Golf Club - ECPv6.15.17.1//NONSGML v1.0//EN
CALSCALE:GREGORIAN
METHOD:PUBLISH
X-WR-CALNAME:Yea Golf Club
X-ORIGINAL-URL:https://www.yeagolfclub.com.au
X-WR-CALDESC:Events for Yea Golf Club
REFRESH-INTERVAL;VALUE=DURATION:PT1H
X-Robots-Tag:noindex
X-PUBLISHED-TTL:PT1H
BEGIN:VTIMEZONE
TZID:Australia/Melbourne
BEGIN:STANDARD
TZOFFSETFROM:+1100
TZOFFSETTO:+1000
TZNAME:AEST
DTSTART:20230401T160000
END:STANDARD
BEGIN:DAYLIGHT
TZOFFSETFROM:+1000
TZOFFSETTO:+1100
TZNAME:AEDT
DTSTART:20230930T160000
END:DAYLIGHT
BEGIN:STANDARD
TZOFFSETFROM:+1100
TZOFFSETTO:+1000
TZNAME:AEST
DTSTART:20240406T160000
END:STANDARD
BEGIN:DAYLIGHT
TZOFFSETFROM:+1000
TZOFFSETTO:+1100
TZNAME:AEDT
DTSTART:20241005T160000
END:DAYLIGHT
BEGIN:STANDARD
TZOFFSETFROM:+1100
TZOFFSETTO:+1000
TZNAME:AEST
DTSTART:20250405T160000
END:STANDARD
BEGIN:DAYLIGHT
TZOFFSETFROM:+1000
TZOFFSETTO:+1100
TZNAME:AEDT
DTSTART:20251004T160000
END:DAYLIGHT
END:VTIMEZONE
BEGIN:VEVENT
DTSTART;VALUE=DATE:20240522
DTEND;VALUE=DATE:20240523
DTSTAMP:20260423T130230
CREATED:20240227T104242Z
LAST-MODIFIED:20240227T104242Z
UID:7607-1716336000-1716422399@www.yeagolfclub.com.au
SUMMARY:Stableford  - 4 Stick Event
DESCRIPTION:Play with 4 clubs (only) of your chosing / Stableford
URL:https://www.yeagolfclub.com.au/event/stableford-4-stick-event-4/
LOCATION:Yea GC
CATEGORIES:Mens
END:VEVENT
BEGIN:VEVENT
DTSTART;VALUE=DATE:20240520
DTEND;VALUE=DATE:20240521
DTSTAMP:20260423T130230
CREATED:20240227T104041Z
LAST-MODIFIED:20240227T104041Z
UID:7605-1716163200-1716249599@www.yeagolfclub.com.au
SUMMARY:Weekday Pennant Final
DESCRIPTION:
URL:https://www.yeagolfclub.com.au/event/weekday-pennant-final/
CATEGORIES:Ladies,Mens
END:VEVENT
BEGIN:VEVENT
DTSTART;VALUE=DATE:20240518
DTEND;VALUE=DATE:20240519
DTSTAMP:20260423T130230
CREATED:20240227T104041Z
LAST-MODIFIED:20240227T104041Z
UID:7604-1715990400-1716076799@www.yeagolfclub.com.au
SUMMARY:NJ Murray Trophy - Stableford - Final Round
DESCRIPTION:
URL:https://www.yeagolfclub.com.au/event/nj-murray-trophy-stableford-final-round/
LOCATION:Yea GC
CATEGORIES:Ladies,Mens
END:VEVENT
BEGIN:VEVENT
DTSTART;VALUE=DATE:20240518
DTEND;VALUE=DATE:20240519
DTSTAMP:20260423T130230
CREATED:20240227T104041Z
LAST-MODIFIED:20240227T104041Z
UID:7603-1715990400-1716076799@www.yeagolfclub.com.au
SUMMARY:Broadford 100 Years - 4 Person Ambrose
DESCRIPTION:
URL:https://www.yeagolfclub.com.au/event/broadford-100-years-4-person-ambrose/
LOCATION:Broadford GC
CATEGORIES:Ladies,Mens
END:VEVENT
BEGIN:VEVENT
DTSTART;VALUE=DATE:20240515
DTEND;VALUE=DATE:20240516
DTSTAMP:20260423T130230
CREATED:20240227T103840Z
LAST-MODIFIED:20240227T103840Z
UID:7600-1715731200-1715817599@www.yeagolfclub.com.au
SUMMARY:Irish 3 Person - Stableford
DESCRIPTION:Best Score on first 9 holes\, then both scores on second 9 / Stableford
URL:https://www.yeagolfclub.com.au/event/irish-3-person-stableford-4/
LOCATION:Yea GC
CATEGORIES:Mens
END:VEVENT
BEGIN:VEVENT
DTSTART;VALUE=DATE:20240513
DTEND;VALUE=DATE:20240514
DTSTAMP:20260423T130230
CREATED:20240227T103840Z
LAST-MODIFIED:20240227T103840Z
UID:7597-1715558400-1715644799@www.yeagolfclub.com.au
SUMMARY:Vets (Intrazone @ Shepparton)
DESCRIPTION:
URL:https://www.yeagolfclub.com.au/event/vets-intrazone-shepparton/
CATEGORIES:Ladies,Mens,Veterans
END:VEVENT
BEGIN:VEVENT
DTSTART;VALUE=DATE:20240513
DTEND;VALUE=DATE:20240514
DTSTAMP:20260423T130230
CREATED:20240227T103840Z
LAST-MODIFIED:20240227T103840Z
UID:7598-1715558400-1715644799@www.yeagolfclub.com.au
SUMMARY:Weekday Pennant - Round 5
DESCRIPTION:
URL:https://www.yeagolfclub.com.au/event/weekday-pennant-round-5/
CATEGORIES:Ladies,Mens
END:VEVENT
BEGIN:VEVENT
DTSTART;VALUE=DATE:20240511
DTEND;VALUE=DATE:20240512
DTSTAMP:20260423T130230
CREATED:20240227T103839Z
LAST-MODIFIED:20240227T103839Z
UID:7596-1715385600-1715471999@www.yeagolfclub.com.au
SUMMARY:NJ Murray Trophy  - 1st Round - Stableford / Stableford
DESCRIPTION:As for AH Smith Trophy – A 36 hole Event played over two rounds – Birdie Hole on 1st
URL:https://www.yeagolfclub.com.au/event/nj-murray-trophy-1st-round-stableford-stableford/
LOCATION:Yea GC
CATEGORIES:Mens
END:VEVENT
BEGIN:VEVENT
DTSTART;VALUE=DATE:20240508
DTEND;VALUE=DATE:20240509
DTSTAMP:20260423T130230
CREATED:20240227T103734Z
LAST-MODIFIED:20240227T103734Z
UID:7593-1715126400-1715212799@www.yeagolfclub.com.au
SUMMARY:Men Stableford  - 22 Pairs
DESCRIPTION:Two players playing Individual Stableford with their points on each hole earning a combined number determining their result   If either player earns 0 or 1 then that means the team can only receive a low outcome: ie. 01-02-03-04-05…. 11-12-13-14-15. If both score 2 then they receive a Pair 22 result    If they score better than 22 they receive a high outcome: ie.32-33…42-43-etc
URL:https://www.yeagolfclub.com.au/event/men-stableford-22-pairs/
LOCATION:Yea GC
CATEGORIES:Mens
END:VEVENT
BEGIN:VEVENT
DTSTART;VALUE=DATE:20240506
DTEND;VALUE=DATE:20240507
DTSTAMP:20260423T130230
CREATED:20240227T103734Z
LAST-MODIFIED:20240227T103734Z
UID:7591-1714953600-1715039999@www.yeagolfclub.com.au
SUMMARY:Weekday Pennant - Round 4
DESCRIPTION:
URL:https://www.yeagolfclub.com.au/event/weekday-pennant-round-4/
CATEGORIES:Ladies,Mens
END:VEVENT
BEGIN:VEVENT
DTSTART;VALUE=DATE:20240505
DTEND;VALUE=DATE:20240506
DTSTAMP:20260423T130230
CREATED:20240227T103532Z
LAST-MODIFIED:20240227T103532Z
UID:7589-1714867200-1714953599@www.yeagolfclub.com.au
SUMMARY:Sunday Pennant Finals (Strathbogie)
DESCRIPTION:
URL:https://www.yeagolfclub.com.au/event/sunday-pennant-finals-strathbogie/
LOCATION:Strathbogie GC
CATEGORIES:Ladies,Mens
END:VEVENT
BEGIN:VEVENT
DTSTART;VALUE=DATE:20240504
DTEND;VALUE=DATE:20240505
DTSTAMP:20260423T130230
CREATED:20240227T103532Z
LAST-MODIFIED:20240227T103532Z
UID:7587-1714780800-1714867199@www.yeagolfclub.com.au
SUMMARY:Men Monthly Medal\, 3rd Round Sichlau Trophy
DESCRIPTION:Stroke & Putting / Round 3 of Sichlau Trophy – Birdie Hole 2nd
URL:https://www.yeagolfclub.com.au/event/men-monthly-medal-3rd-round-sichlau-trophy/
LOCATION:Yea GC
CATEGORIES:Mens
END:VEVENT
BEGIN:VEVENT
DTSTART;VALUE=DATE:20240502
DTEND;VALUE=DATE:20240503
DTSTAMP:20260423T130230
CREATED:20240227T103333Z
LAST-MODIFIED:20240227T103333Z
UID:7584-1714608000-1714694399@www.yeagolfclub.com.au
SUMMARY:Euroa Tournament
DESCRIPTION:
URL:https://www.yeagolfclub.com.au/event/euroa-tournament-6/
LOCATION:Euroa GC
CATEGORIES:Ladies,Mens
END:VEVENT
BEGIN:VEVENT
DTSTART;VALUE=DATE:20240501
DTEND;VALUE=DATE:20240502
DTSTAMP:20260423T130230
CREATED:20240227T103333Z
LAST-MODIFIED:20240227T103333Z
UID:7582-1714521600-1714607999@www.yeagolfclub.com.au
SUMMARY:Mens Golf Trip
DESCRIPTION:Stableford
URL:https://www.yeagolfclub.com.au/event/mens-golf-trip/
CATEGORIES:Mens
END:VEVENT
BEGIN:VEVENT
DTSTART;VALUE=DATE:20240429
DTEND;VALUE=DATE:20240430
DTSTAMP:20260423T130230
CREATED:20240227T103332Z
LAST-MODIFIED:20240227T103332Z
UID:7581-1714348800-1714435199@www.yeagolfclub.com.au
SUMMARY:Weekday Pennant - Round 3
DESCRIPTION:
URL:https://www.yeagolfclub.com.au/event/weekday-pennant-round-3/
CATEGORIES:Ladies,Mens
END:VEVENT
BEGIN:VEVENT
DTSTART;VALUE=DATE:20240428
DTEND;VALUE=DATE:20240429
DTSTAMP:20260423T130230
CREATED:20240227T103154Z
LAST-MODIFIED:20240227T103154Z
UID:7580-1714262400-1714348799@www.yeagolfclub.com.au
SUMMARY:Sunday Pennant - Round 5 (Eildon)
DESCRIPTION:
URL:https://www.yeagolfclub.com.au/event/sunday-pennant-round-5-eildon/
LOCATION:Eildon GC
CATEGORIES:Ladies,Mens
END:VEVENT
BEGIN:VEVENT
DTSTART;VALUE=DATE:20240427
DTEND;VALUE=DATE:20240428
DTSTAMP:20260423T130230
CREATED:20240227T103154Z
LAST-MODIFIED:20240227T103154Z
UID:7579-1714176000-1714262399@www.yeagolfclub.com.au
SUMMARY:Yea 4BBB Championships
DESCRIPTION:
URL:https://www.yeagolfclub.com.au/event/yea-4bbb-championships/
LOCATION:Yea GC
CATEGORIES:Ladies,Mens
END:VEVENT
BEGIN:VEVENT
DTSTART;VALUE=DATE:20240424
DTEND;VALUE=DATE:20240425
DTSTAMP:20260423T130230
CREATED:20240227T103154Z
LAST-MODIFIED:20240227T103154Z
UID:7578-1713916800-1714003199@www.yeagolfclub.com.au
SUMMARY:Men 3 Person Multiplier - Stableford
DESCRIPTION:Final Round – 18 Holes of Stroke   Please bring a plate
URL:https://www.yeagolfclub.com.au/event/men-3-person-multiplier-stableford/
LOCATION:Yea GC
CATEGORIES:Mens
END:VEVENT
BEGIN:VEVENT
DTSTART;VALUE=DATE:20240422
DTEND;VALUE=DATE:20240423
DTSTAMP:20260423T130230
CREATED:20240227T103153Z
LAST-MODIFIED:20240227T103153Z
UID:7576-1713744000-1713830399@www.yeagolfclub.com.au
SUMMARY:Weekday Pennant - Round 2
DESCRIPTION:
URL:https://www.yeagolfclub.com.au/event/weekday-pennant-round-2/
CATEGORIES:Ladies,Mens
END:VEVENT
BEGIN:VEVENT
DTSTART;VALUE=DATE:20240421
DTEND;VALUE=DATE:20240422
DTSTAMP:20260423T130230
CREATED:20240227T103138Z
LAST-MODIFIED:20240227T103138Z
UID:7575-1713657600-1713743999@www.yeagolfclub.com.au
SUMMARY:Sunday Pennant - Round 4 (Yea)
DESCRIPTION:Yea to Host
URL:https://www.yeagolfclub.com.au/event/sunday-pennant-round-4-yea/
LOCATION:Yea GC
CATEGORIES:Ladies,Mens
END:VEVENT
BEGIN:VEVENT
DTSTART;VALUE=DATE:20240420
DTEND;VALUE=DATE:20240421
DTSTAMP:20260423T130230
CREATED:20240227T103138Z
LAST-MODIFIED:20240227T103138Z
UID:7574-1713571200-1713657599@www.yeagolfclub.com.au
SUMMARY:Yea Foursomes Championship
DESCRIPTION:Men & Mixed Foursomes – Scratch & Handicap 12:30pm start
URL:https://www.yeagolfclub.com.au/event/yea-foursomes-championship/
LOCATION:Yea GC
CATEGORIES:Ladies,Mens
END:VEVENT
BEGIN:VEVENT
DTSTART;VALUE=DATE:20240418
DTEND;VALUE=DATE:20240419
DTSTAMP:20260423T130230
CREATED:20240227T103138Z
LAST-MODIFIED:20240227T103138Z
UID:7572-1713398400-1713484799@www.yeagolfclub.com.au
SUMMARY:Vets (Eildon)
DESCRIPTION:
URL:https://www.yeagolfclub.com.au/event/vets-eildon/
LOCATION:Eildon GC
CATEGORIES:Ladies,Mens
END:VEVENT
BEGIN:VEVENT
DTSTART;VALUE=DATE:20240417
DTEND;VALUE=DATE:20240418
DTSTAMP:20260423T130230
CREATED:20240227T103138Z
LAST-MODIFIED:20240227T103138Z
UID:7571-1713312000-1713398399@www.yeagolfclub.com.au
SUMMARY:Men & Ladies Monthly Medal Round 3
DESCRIPTION:Stroke & Putting
URL:https://www.yeagolfclub.com.au/event/men-ladies-monthly-medal-round-3/
LOCATION:Yea GC
CATEGORIES:Ladies,Mens
END:VEVENT
BEGIN:VEVENT
DTSTART;VALUE=DATE:20240414
DTEND;VALUE=DATE:20240415
DTSTAMP:20260423T130230
CREATED:20240227T103010Z
LAST-MODIFIED:20240227T103010Z
UID:7570-1713052800-1713139199@www.yeagolfclub.com.au
SUMMARY:Sunday Pennant - Round 3 (Marysville)
DESCRIPTION:Goodluck!!
URL:https://www.yeagolfclub.com.au/event/sunday-pennant-round-3-marysville/
LOCATION:Marysville GC
CATEGORIES:Ladies,Mens
END:VEVENT
BEGIN:VEVENT
DTSTART;VALUE=DATE:20240413
DTEND;VALUE=DATE:20240414
DTSTAMP:20260423T130230
CREATED:20240227T103010Z
LAST-MODIFIED:20240227T103010Z
UID:7569-1712966400-1713052799@www.yeagolfclub.com.au
SUMMARY:Men Monthly Medal & Rnd 2 of Sichlau Trophy
DESCRIPTION:Stroke & Putting / Rnd 2  Sichlau Trophy –  4 best of 6 nett rounds. If a tie there will be an 18 hole play off. If  scores reman tied a count back. Handicap is as at date of play. (Birdie Hole 9th)
URL:https://www.yeagolfclub.com.au/event/men-monthly-medal-rnd-2-of-sichlau-trophy/
LOCATION:Yea GC
CATEGORIES:Ladies,Mens
END:VEVENT
BEGIN:VEVENT
DTSTART;VALUE=DATE:20240410
DTEND;VALUE=DATE:20240411
DTSTAMP:20260423T130230
CREATED:20240227T103008Z
LAST-MODIFIED:20240227T103008Z
UID:7566-1712707200-1712793599@www.yeagolfclub.com.au
SUMMARY:Stableford
DESCRIPTION:Stableford
URL:https://www.yeagolfclub.com.au/event/stableford-103/
LOCATION:Yea GC
CATEGORIES:Mens
END:VEVENT
BEGIN:VEVENT
DTSTART;VALUE=DATE:20240408
DTEND;VALUE=DATE:20240409
DTSTAMP:20260423T130230
CREATED:20240227T102954Z
LAST-MODIFIED:20240227T102954Z
UID:7565-1712534400-1712620799@www.yeagolfclub.com.au
SUMMARY:Weekday Pennant - Round 1
DESCRIPTION:
URL:https://www.yeagolfclub.com.au/event/weekday-pennant-round-1/
CATEGORIES:Ladies,Mens
END:VEVENT
BEGIN:VEVENT
DTSTART;VALUE=DATE:20240407
DTEND;VALUE=DATE:20240408
DTSTAMP:20260423T130230
CREATED:20240227T102953Z
LAST-MODIFIED:20240227T102953Z
UID:7563-1712448000-1712534399@www.yeagolfclub.com.au
SUMMARY:Sunday Pennant - Round 2 (Alexandra)
DESCRIPTION:
URL:https://www.yeagolfclub.com.au/event/sunday-pennant-round-2-alexandra/
LOCATION:Alexandra GC
CATEGORIES:Ladies,Mens
END:VEVENT
BEGIN:VEVENT
DTSTART;VALUE=DATE:20240406
DTEND;VALUE=DATE:20240407
DTSTAMP:20260423T130230
CREATED:20240227T102953Z
LAST-MODIFIED:20240227T102953Z
UID:7562-1712361600-1712447999@www.yeagolfclub.com.au
SUMMARY:Barry Moore Trophy - Stableford -  Final Rnd
DESCRIPTION:Men Final Round of Barry Moore Trophy –  Birdie Hole – 16th
URL:https://www.yeagolfclub.com.au/event/barry-moore-trophy-stableford-final-rnd-3/
LOCATION:Yea GC
CATEGORIES:Mens
END:VEVENT
BEGIN:VEVENT
DTSTART;VALUE=DATE:20240403
DTEND;VALUE=DATE:20240404
DTSTAMP:20260423T130230
CREATED:20240227T102838Z
LAST-MODIFIED:20240227T102838Z
UID:7556-1712102400-1712188799@www.yeagolfclub.com.au
SUMMARY:Stableford
DESCRIPTION:
URL:https://www.yeagolfclub.com.au/event/stableford-102/
LOCATION:Yea GC
CATEGORIES:Mens
END:VEVENT
END:VCALENDAR