BEGIN:VCALENDAR
VERSION:2.0
PRODID:-//Yea Golf Club - ECPv6.15.17.1//NONSGML v1.0//EN
CALSCALE:GREGORIAN
METHOD:PUBLISH
X-ORIGINAL-URL:https://www.yeagolfclub.com.au
X-WR-CALDESC:Events for Yea Golf Club
REFRESH-INTERVAL;VALUE=DURATION:PT1H
X-Robots-Tag:noindex
X-PUBLISHED-TTL:PT1H
BEGIN:VTIMEZONE
TZID:Australia/Melbourne
BEGIN:STANDARD
TZOFFSETFROM:+1100
TZOFFSETTO:+1000
TZNAME:AEST
DTSTART:20250405T160000
END:STANDARD
BEGIN:DAYLIGHT
TZOFFSETFROM:+1000
TZOFFSETTO:+1100
TZNAME:AEDT
DTSTART:20251004T160000
END:DAYLIGHT
BEGIN:STANDARD
TZOFFSETFROM:+1100
TZOFFSETTO:+1000
TZNAME:AEST
DTSTART:20260404T160000
END:STANDARD
BEGIN:DAYLIGHT
TZOFFSETFROM:+1000
TZOFFSETTO:+1100
TZNAME:AEDT
DTSTART:20261003T160000
END:DAYLIGHT
BEGIN:STANDARD
TZOFFSETFROM:+1100
TZOFFSETTO:+1000
TZNAME:AEST
DTSTART:20270403T160000
END:STANDARD
BEGIN:DAYLIGHT
TZOFFSETFROM:+1000
TZOFFSETTO:+1100
TZNAME:AEDT
DTSTART:20271002T160000
END:DAYLIGHT
END:VTIMEZONE
BEGIN:VEVENT
DTSTART;VALUE=DATE:20260422
DTEND;VALUE=DATE:20260423
DTSTAMP:20260420T183521
CREATED:20260318T113636Z
LAST-MODIFIED:20260318T113636Z
UID:9101-1776816000-1776902399@www.yeagolfclub.com.au
SUMMARY:Ladies Monthly Medal Round 3 @  Men 3 Pers Multiplier - Stabld
DESCRIPTION:Stroke & Putting  / Final Round – 18 Holes of Stroke   Please bring a plate
URL:https://www.yeagolfclub.com.au/event/ladies-monthly-medal-round-3-men-3-pers-multiplier-stabld-2/
LOCATION:Yea GC
CATEGORIES:Ladies,Mens
END:VEVENT
BEGIN:VEVENT
DTSTART;VALUE=DATE:20260426
DTEND;VALUE=DATE:20260427
DTSTAMP:20260420T183521
CREATED:20260318T113636Z
LAST-MODIFIED:20260318T113636Z
UID:9103-1777161600-1777247999@www.yeagolfclub.com.au
SUMMARY:Sunday Pennant - Round 5 (Broadford)
DESCRIPTION:Stroke
URL:https://www.yeagolfclub.com.au/event/sunday-pennant-round-5-broadford/
LOCATION:Dalhousie District Golf Association
CATEGORIES:Mens
END:VEVENT
BEGIN:VEVENT
DTSTART;VALUE=DATE:20260429
DTEND;VALUE=DATE:20260430
DTSTAMP:20260420T183521
CREATED:20260318T113651Z
LAST-MODIFIED:20260318T113651Z
UID:9105-1777420800-1777507199@www.yeagolfclub.com.au
SUMMARY:Kath Homewood Round 2 @ Mens Stableford
DESCRIPTION:Ladies final of of two 18 hole stroke events @ Stableford
URL:https://www.yeagolfclub.com.au/event/kath-homewood-round-2-mens-stableford/
LOCATION:Yea GC
CATEGORIES:Ladies,Mens
END:VEVENT
BEGIN:VEVENT
DTSTART;VALUE=DATE:20260430
DTEND;VALUE=DATE:20260501
DTSTAMP:20260420T183521
CREATED:20260318T113651Z
LAST-MODIFIED:20260318T113651Z
UID:9106-1777507200-1777593599@www.yeagolfclub.com.au
SUMMARY:Vets(Kilmore) 2 Person Ambrose
DESCRIPTION:
URL:https://www.yeagolfclub.com.au/event/vetskilmore-2-person-ambrose/
LOCATION:Kilmore GC
CATEGORIES:Ladies,Mens
END:VEVENT
BEGIN:VEVENT
DTSTART;VALUE=DATE:20260502
DTEND;VALUE=DATE:20260503
DTSTAMP:20260420T183521
CREATED:20260318T113651Z
LAST-MODIFIED:20260318T113651Z
UID:9108-1777680000-1777766399@www.yeagolfclub.com.au
SUMMARY:Monthly Medal\, Sichlau Trophy- 3rd Rnd   BH 2nd @ Ladies Monthly Medal #4
DESCRIPTION:Stroke & Putting / Round 3 of Sichlau Trophy – Birdie Hole 2nd
URL:https://www.yeagolfclub.com.au/event/monthly-medal-sichlau-trophy-3rd-rnd-bh-2nd-ladies-monthly-medal-4-2/
LOCATION:Yea GC
CATEGORIES:Ladies,Mens
END:VEVENT
BEGIN:VEVENT
DTSTART;VALUE=DATE:20260503
DTEND;VALUE=DATE:20260504
DTSTAMP:20260420T183521
CREATED:20260318T113711Z
LAST-MODIFIED:20260318T113711Z
UID:9109-1777766400-1777852799@www.yeagolfclub.com.au
SUMMARY:Sunday Pennant - Finals (Lancefield)
DESCRIPTION:
URL:https://www.yeagolfclub.com.au/event/sunday-pennant-finals-lancefield/
LOCATION:Lancefield GC
CATEGORIES:Mens
END:VEVENT
BEGIN:VEVENT
DTSTART;VALUE=DATE:20260506
DTEND;VALUE=DATE:20260507
DTSTAMP:20260420T183521
CREATED:20260318T113711Z
LAST-MODIFIED:20260318T113711Z
UID:9112-1778025600-1778111999@www.yeagolfclub.com.au
SUMMARY:Stableford @ Mens Golf Trip - Club Mandalay
DESCRIPTION:
URL:https://www.yeagolfclub.com.au/event/stableford-mens-golf-trip-club-mandalay/
LOCATION:Yea GC
CATEGORIES:Ladies,Mens
END:VEVENT
BEGIN:VEVENT
DTSTART;VALUE=DATE:20260509
DTEND;VALUE=DATE:20260510
DTSTAMP:20260420T183521
CREATED:20260318T113749Z
LAST-MODIFIED:20260318T113749Z
UID:9114-1778284800-1778371199@www.yeagolfclub.com.au
SUMMARY:NJ Murray Trophy  - 1st Round - Stableford  BH 1st / Stableford
DESCRIPTION:As for AH Smith Trophy – A 36 hole Event played over two rounds – Birdie Hole on 1st
URL:https://www.yeagolfclub.com.au/event/nj-murray-trophy-1st-round-stableford-bh-1st-stableford-2/
LOCATION:Yea GC
CATEGORIES:Ladies,Mens
END:VEVENT
BEGIN:VEVENT
DTSTART;VALUE=DATE:20260513
DTEND;VALUE=DATE:20260514
DTSTAMP:20260420T183521
CREATED:20260318T113749Z
LAST-MODIFIED:20260318T113749Z
UID:9116-1778630400-1778716799@www.yeagolfclub.com.au
SUMMARY:Irish 3 Person - Stableford / Mona Clark Trophy Round 1
DESCRIPTION:Best Score on first 9 holes then both scores on second 9 / Stableford
URL:https://www.yeagolfclub.com.au/event/irish-3-person-stableford-mona-clark-trophy-round-1-2/
LOCATION:Yea GC
CATEGORIES:Ladies,Mens
END:VEVENT
BEGIN:VEVENT
DTSTART;VALUE=DATE:20260516
DTEND;VALUE=DATE:20260517
DTSTAMP:20260420T183521
CREATED:20260318T113749Z
LAST-MODIFIED:20260318T113749Z
UID:9118-1778889600-1778975999@www.yeagolfclub.com.au
SUMMARY:NJ Murray Final - Stableford BH 11th Ladies Stableford
DESCRIPTION:
URL:https://www.yeagolfclub.com.au/event/nj-murray-final-stableford-bh-11th-ladies-stableford/
LOCATION:Yea GC
CATEGORIES:Ladies,Mens
END:VEVENT
BEGIN:VEVENT
DTSTART;VALUE=DATE:20260520
DTEND;VALUE=DATE:20260521
DTSTAMP:20260420T183521
CREATED:20260318T113852Z
LAST-MODIFIED:20260318T113852Z
UID:9120-1779235200-1779321599@www.yeagolfclub.com.au
SUMMARY:Stableford  - 4 Stick Event / Margaret Samblebe Brooch
DESCRIPTION:Play with 4 clubs (only) of your chosing / Stableford
URL:https://www.yeagolfclub.com.au/event/stableford-4-stick-event-margaret-samblebe-brooch-2/
LOCATION:Yea GC
CATEGORIES:Ladies,Mens
END:VEVENT
BEGIN:VEVENT
DTSTART;VALUE=DATE:20260523
DTEND;VALUE=DATE:20260524
DTSTAMP:20260420T183521
CREATED:20260318T113852Z
LAST-MODIFIED:20260318T113852Z
UID:9122-1779494400-1779580799@www.yeagolfclub.com.au
SUMMARY:Prideaux  Cup - 36 Hole Stableford  - Round 1  BH 7th @ Stableford
DESCRIPTION:Round 1 of 2 for Prideaux  Cup – Birdie Hole 7th
URL:https://www.yeagolfclub.com.au/event/prideaux-cup-36-hole-stableford-round-1-bh-7th-stableford-2/
LOCATION:Yea GC
CATEGORIES:Ladies,Mens
END:VEVENT
BEGIN:VEVENT
DTSTART;VALUE=DATE:20260527
DTEND;VALUE=DATE:20260528
DTSTAMP:20260420T183521
CREATED:20260318T113852Z
LAST-MODIFIED:20260318T113852Z
UID:9123-1779840000-1779926399@www.yeagolfclub.com.au
SUMMARY:Stableford / Silver Spoon Round 2
DESCRIPTION:Stableford
URL:https://www.yeagolfclub.com.au/event/stableford-silver-spoon-round-2-2/
LOCATION:Yea GC
CATEGORIES:Ladies,Mens
END:VEVENT
BEGIN:VEVENT
DTSTART;VALUE=DATE:20260530
DTEND;VALUE=DATE:20260531
DTSTAMP:20260420T183521
CREATED:20260318T114053Z
LAST-MODIFIED:20260318T114053Z
UID:9125-1780099200-1780185599@www.yeagolfclub.com.au
SUMMARY:Mens Monthly Medal BH 8th/ Kyabram Par 3 - Ladies
DESCRIPTION:Stroke and Putting
URL:https://www.yeagolfclub.com.au/event/mens-monthly-medal-bh-8th-kyabram-par-3-ladies/
CATEGORIES:Ladies,Mens
END:VEVENT
BEGIN:VEVENT
DTSTART;VALUE=DATE:20260603
DTEND;VALUE=DATE:20260604
DTSTAMP:20260420T183521
CREATED:20260318T114053Z
LAST-MODIFIED:20260318T114053Z
UID:9127-1780444800-1780531199@www.yeagolfclub.com.au
SUMMARY:Stroke  & Putting / Ladies Monthly Medal #5
DESCRIPTION:Stroke & Putting
URL:https://www.yeagolfclub.com.au/event/stroke-putting-ladies-monthly-medal-5-2/
LOCATION:Yea GC
CATEGORIES:Ladies,Mens
END:VEVENT
BEGIN:VEVENT
DTSTART;VALUE=DATE:20260606
DTEND;VALUE=DATE:20260607
DTSTAMP:20260420T183521
CREATED:20260318T114053Z
LAST-MODIFIED:20260318T114053Z
UID:9128-1780704000-1780790399@www.yeagolfclub.com.au
SUMMARY:Prideaux Cup - Final Round - BH 9th / Stableford  / Kyabram Par 3 - Men
DESCRIPTION:Final round of Prideaux Cup – Birdie Hole 9th
URL:https://www.yeagolfclub.com.au/event/prideaux-cup-final-round-bh-9th-stableford-kyabram-par-3-men-2/
CATEGORIES:Ladies,Mens
END:VEVENT
BEGIN:VEVENT
DTSTART;VALUE=DATE:20260610
DTEND;VALUE=DATE:20260611
DTSTAMP:20260420T183521
CREATED:20260318T114229Z
LAST-MODIFIED:20260318T114229Z
UID:9129-1781049600-1781135999@www.yeagolfclub.com.au
SUMMARY:Stableford / Mona Clark Round 2
DESCRIPTION:Stableford
URL:https://www.yeagolfclub.com.au/event/stableford-mona-clark-round-2-2/
LOCATION:Yea GC
CATEGORIES:Ladies,Mens
END:VEVENT
BEGIN:VEVENT
DTSTART;VALUE=DATE:20260613
DTEND;VALUE=DATE:20260614
DTSTAMP:20260420T183521
CREATED:20260318T114229Z
LAST-MODIFIED:20260318T114229Z
UID:9131-1781308800-1781395199@www.yeagolfclub.com.au
SUMMARY:Stableford
DESCRIPTION:Men  – Birdie Hole 18th
URL:https://www.yeagolfclub.com.au/event/stableford-126/
LOCATION:Yea GC
CATEGORIES:Ladies,Mens
END:VEVENT
BEGIN:VEVENT
DTSTART;VALUE=DATE:20260617
DTEND;VALUE=DATE:20260618
DTSTAMP:20260420T183521
CREATED:20260318T114229Z
LAST-MODIFIED:20260318T114229Z
UID:9132-1781654400-1781740799@www.yeagolfclub.com.au
SUMMARY:Par / Bisque Par
DESCRIPTION:Played against Par but with the allowable strokes taken wherever the player wishes-not as set on the card   Strokes taken must be decided upon when marking the card hole by hole- not at the conclusion of the round
URL:https://www.yeagolfclub.com.au/event/par-bisque-par-3/
LOCATION:Yea GC
CATEGORIES:Ladies,Mens
END:VEVENT
BEGIN:VEVENT
DTSTART;VALUE=DATE:20260618
DTEND;VALUE=DATE:20260619
DTSTAMP:20260420T183521
CREATED:20260318T114229Z
LAST-MODIFIED:20260318T114229Z
UID:9133-1781740800-1781827199@www.yeagolfclub.com.au
SUMMARY:Vets(Seymour)
DESCRIPTION:
URL:https://www.yeagolfclub.com.au/event/vetsseymour/
LOCATION:Seymour GC
CATEGORIES:Ladies,Mens
END:VEVENT
BEGIN:VEVENT
DTSTART;VALUE=DATE:20260619
DTEND;VALUE=DATE:20260620
DTSTAMP:20260420T183521
CREATED:20260318T114320Z
LAST-MODIFIED:20260318T114320Z
UID:9136-1781827200-1781913599@www.yeagolfclub.com.au
SUMMARY:Mens  Knockout - 2nd round to be completed by now
DESCRIPTION:Second round to be completed by now
URL:https://www.yeagolfclub.com.au/event/mens-knockout-2nd-round-to-be-completed-by-now-5/
LOCATION:Yea GC
CATEGORIES:Mens
END:VEVENT
BEGIN:VEVENT
DTSTART;VALUE=DATE:20260624
DTEND;VALUE=DATE:20260625
DTSTAMP:20260420T183521
CREATED:20260318T114320Z
LAST-MODIFIED:20260318T114320Z
UID:9138-1782259200-1782345599@www.yeagolfclub.com.au
SUMMARY:Silver Spoon Round 3 / Stableford
DESCRIPTION:Stableford
URL:https://www.yeagolfclub.com.au/event/silver-spoon-round-3-stableford-2/
LOCATION:Yea GC
CATEGORIES:Ladies,Mens
END:VEVENT
BEGIN:VEVENT
DTSTART;VALUE=DATE:20260627
DTEND;VALUE=DATE:20260628
DTSTAMP:20260420T183521
CREATED:20260318T114320Z
LAST-MODIFIED:20260318T114320Z
UID:9139-1782518400-1782604799@www.yeagolfclub.com.au
SUMMARY:Stableford BH 11th
DESCRIPTION:Men – Birdie Hole 15th
URL:https://www.yeagolfclub.com.au/event/stableford-bh-11th-2/
LOCATION:Yea GC
CATEGORIES:Ladies,Mens
END:VEVENT
BEGIN:VEVENT
DTSTART;VALUE=DATE:20260701
DTEND;VALUE=DATE:20260702
DTSTAMP:20260420T183521
CREATED:20260318T114320Z
LAST-MODIFIED:20260318T114320Z
UID:9140-1782864000-1782950399@www.yeagolfclub.com.au
SUMMARY:Ladies Monthly Medal #6 / Stableford
DESCRIPTION:
URL:https://www.yeagolfclub.com.au/event/ladies-monthly-medal-6-stableford-2/
LOCATION:Yea GC
CATEGORIES:Ladies,Mens
END:VEVENT
BEGIN:VEVENT
DTSTART;VALUE=DATE:20260706
DTEND;VALUE=DATE:20260707
DTSTAMP:20260420T183521
CREATED:20260318T114335Z
LAST-MODIFIED:20260318T114335Z
UID:9141-1783296000-1783382399@www.yeagolfclub.com.au
SUMMARY:Stableford
DESCRIPTION:
URL:https://www.yeagolfclub.com.au/event/stableford-127/
LOCATION:Yea GC
CATEGORIES:Ladies,Mens
END:VEVENT
BEGIN:VEVENT
DTSTART;VALUE=DATE:20260711
DTEND;VALUE=DATE:20260712
DTSTAMP:20260420T183521
CREATED:20260318T114335Z
LAST-MODIFIED:20260318T114335Z
UID:9143-1783728000-1783814399@www.yeagolfclub.com.au
SUMMARY:Men Monthly Medal - BH 1st / Stroke & Putting
DESCRIPTION:Stroke  & Putting  / Birdie Hole 1st
URL:https://www.yeagolfclub.com.au/event/men-monthly-medal-bh-1st-stroke-putting-2/
LOCATION:Yea GC
CATEGORIES:Ladies,Mens
END:VEVENT
BEGIN:VEVENT
DTSTART;VALUE=DATE:20260722
DTEND;VALUE=DATE:20260723
DTSTAMP:20260420T183521
CREATED:20260318T114442Z
LAST-MODIFIED:20260318T114442Z
UID:9147-1784678400-1784764799@www.yeagolfclub.com.au
SUMMARY:Stableford - 22 Pairs
DESCRIPTION:Two players playing Individual Stableford with their points on each hole earning a combined number determining their result   If either player earns 0 or 1 then that means the team can only receive a low outcome: ie. 01-02-03-04-05    11-12-13-14-15If both score 2 then they receive a Pair 22 result    If they score better than 22 they receive a high outcome: ie.32-33     42-43-etc
URL:https://www.yeagolfclub.com.au/event/stableford-22-pairs-16/
LOCATION:Yea GC
CATEGORIES:Ladies,Mens
END:VEVENT
BEGIN:VEVENT
DTSTART;VALUE=DATE:20260725
DTEND;VALUE=DATE:20260726
DTSTAMP:20260420T183521
CREATED:20260318T114442Z
LAST-MODIFIED:20260318T114442Z
UID:9148-1784937600-1785023999@www.yeagolfclub.com.au
SUMMARY:Stableford / 54 Holes Points Event - Round 1 Stableford
DESCRIPTION:Men – Birdie Hole 13th
URL:https://www.yeagolfclub.com.au/event/stableford-54-holes-points-event-round-1-stableford-2/
LOCATION:Yea GC
CATEGORIES:Ladies,Mens
END:VEVENT
BEGIN:VEVENT
DTSTART;VALUE=DATE:20260801
DTEND;VALUE=DATE:20260802
DTSTAMP:20260420T183521
CREATED:20260318T114442Z
LAST-MODIFIED:20260318T114442Z
UID:9150-1785542400-1785628799@www.yeagolfclub.com.au
SUMMARY:54 Holes Points Event - Round 2 \, Ladies Stableford
DESCRIPTION:Birdie Hole 8th
URL:https://www.yeagolfclub.com.au/event/54-holes-points-event-round-2-ladies-stableford-2/
LOCATION:Yea GC
CATEGORIES:Ladies,Mens
END:VEVENT
BEGIN:VEVENT
DTSTART;VALUE=DATE:20260808
DTEND;VALUE=DATE:20260809
DTSTAMP:20260420T183521
CREATED:20260318T114457Z
LAST-MODIFIED:20260318T114457Z
UID:9153-1786147200-1786233599@www.yeagolfclub.com.au
SUMMARY:54 Holes Points Event - Rnd 3 - Mens Monthly Medal @ Stroke & Putting
DESCRIPTION:Also Mens Monthly Medal Stroke & Putting – Birdie Hole 17th
URL:https://www.yeagolfclub.com.au/event/54-holes-points-event-rnd-3-mens-monthly-medal-stroke-putting-2/
LOCATION:Yea GC
CATEGORIES:Ladies,Mens
END:VEVENT
END:VCALENDAR