BEGIN:VCALENDAR
VERSION:2.0
PRODID:-//Yea Golf Club - ECPv6.15.17.1//NONSGML v1.0//EN
CALSCALE:GREGORIAN
METHOD:PUBLISH
X-ORIGINAL-URL:https://www.yeagolfclub.com.au
X-WR-CALDESC:Events for Yea Golf Club
REFRESH-INTERVAL;VALUE=DURATION:PT1H
X-Robots-Tag:noindex
X-PUBLISHED-TTL:PT1H
BEGIN:VTIMEZONE
TZID:Australia/Melbourne
BEGIN:STANDARD
TZOFFSETFROM:+1100
TZOFFSETTO:+1000
TZNAME:AEST
DTSTART:20200404T160000
END:STANDARD
BEGIN:DAYLIGHT
TZOFFSETFROM:+1000
TZOFFSETTO:+1100
TZNAME:AEDT
DTSTART:20201003T160000
END:DAYLIGHT
BEGIN:STANDARD
TZOFFSETFROM:+1100
TZOFFSETTO:+1000
TZNAME:AEST
DTSTART:20210403T160000
END:STANDARD
BEGIN:DAYLIGHT
TZOFFSETFROM:+1000
TZOFFSETTO:+1100
TZNAME:AEDT
DTSTART:20211002T160000
END:DAYLIGHT
BEGIN:STANDARD
TZOFFSETFROM:+1100
TZOFFSETTO:+1000
TZNAME:AEST
DTSTART:20220402T160000
END:STANDARD
BEGIN:DAYLIGHT
TZOFFSETFROM:+1000
TZOFFSETTO:+1100
TZNAME:AEDT
DTSTART:20221001T160000
END:DAYLIGHT
END:VTIMEZONE
BEGIN:VEVENT
DTSTART;VALUE=DATE:20211021
DTEND;VALUE=DATE:20211022
DTSTAMP:20260420T211006
CREATED:20210131T022548Z
LAST-MODIFIED:20210204T014952Z
UID:4922-1634774400-1634860799@www.yeagolfclub.com.au
SUMMARY:Isobel Bett Tournament Yea
DESCRIPTION:18 Hole Stroke.\nIsobel was a tireless worker for the community in general and the Yea Golf Club in particular. She was President in 1970\, 71 & 78 and represented the Club at tournaments throughout the district\, as well as at Dalhousie meetings and events.  She died in 1980 in her mid-50s and the following year\, her family donated the trophy which is played for each year at the tournament named in her honour.
URL:https://www.yeagolfclub.com.au/event/isobel-bett-tournament-yea/
LOCATION:Yea GC
CATEGORIES:Board,Ladies
ORGANIZER;CN="Yea GC":MAILTO:secretary@yeagolfclub.com.au
END:VEVENT
BEGIN:VEVENT
DTSTART;VALUE=DATE:20211016
DTEND;VALUE=DATE:20211017
DTSTAMP:20260420T211006
CREATED:20210131T022533Z
LAST-MODIFIED:20210204T030005Z
UID:4916-1634342400-1634428799@www.yeagolfclub.com.au
SUMMARY:Men's Club Championship - Round 3 (Final)
DESCRIPTION:Final Round Stroke- The Men’s Championships in A\, B and C grades are determined over the aggregated scores over three Stroke rounds. The Club Champion being the player with the lowest scratch score.\nGrade cut offs are to be decided by the Match Committee. Players will remain in the Grade in which they commenced the Championship.  \nIn the event of a tie in any grade there will be a sudden death play off. Play off holes will be 10\, 18\, 10\, 18 etc. Handicap Championship will run concurrent with this event. – Birdie Hole 14th.
URL:https://www.yeagolfclub.com.au/event/mens-club-championship-round-3-final/
LOCATION:Yea GC
CATEGORIES:Board,Mens
ORGANIZER;CN="Yea GC":MAILTO:secretary@yeagolfclub.com.au
END:VEVENT
BEGIN:VEVENT
DTSTART;VALUE=DATE:20211006
DTEND;VALUE=DATE:20211007
DTSTAMP:20260420T211006
CREATED:20210131T022449Z
LAST-MODIFIED:20210131T022449Z
UID:4905-1633478400-1633564799@www.yeagolfclub.com.au
SUMMARY:Gold Medal Play Off.
DESCRIPTION:Please bring a plate
URL:https://www.yeagolfclub.com.au/event/gold-medal-play-off/
LOCATION:Yea GC
CATEGORIES:Board,Ladies
ORGANIZER;CN="Yea GC":MAILTO:secretary@yeagolfclub.com.au
END:VEVENT
BEGIN:VEVENT
DTSTART;VALUE=DATE:20211002
DTEND;VALUE=DATE:20211003
DTSTAMP:20260420T211006
CREATED:20210131T022434Z
LAST-MODIFIED:20210131T022434Z
UID:4898-1633132800-1633219199@www.yeagolfclub.com.au
SUMMARY:Men's Club Championship / Men's Monthly Medal #9
DESCRIPTION:Stroke – Round 1 of 3 – Stroke – Birdie Hole 7th
URL:https://www.yeagolfclub.com.au/event/mens-club-championship-mens-monthly-medal-9/
LOCATION:Yea GC
CATEGORIES:Board,Mens
ORGANIZER;CN="Yea GC":MAILTO:secretary@yeagolfclub.com.au
END:VEVENT
BEGIN:VEVENT
DTSTART;VALUE=DATE:20210924
DTEND;VALUE=DATE:20210925
DTSTAMP:20260420T211006
CREATED:20210131T022419Z
LAST-MODIFIED:20210131T022419Z
UID:4893-1632441600-1632527999@www.yeagolfclub.com.au
SUMMARY:Bruce Kindred Cup - Yea Grand Final Holiday.
DESCRIPTION:4BBB plus Individual Stableford. 8.30 for 9am. Please bring a plate
URL:https://www.yeagolfclub.com.au/event/bruce-kindred-cup-yea-grand-final-holiday/
LOCATION:Yea GC
CATEGORIES:Board,Ladies,Mens,Mixed
ORGANIZER;CN="Yea GC":MAILTO:secretary@yeagolfclub.com.au
END:VEVENT
BEGIN:VEVENT
DTSTART;VALUE=DATE:20210917
DTEND;VALUE=DATE:20210918
DTSTAMP:20260420T211006
CREATED:20210131T022403Z
LAST-MODIFIED:20210131T022403Z
UID:4886-1631836800-1631923199@www.yeagolfclub.com.au
SUMMARY:Men's Knockout - Final Knockout to be played
DESCRIPTION:Come along and cheer the finalists on!
URL:https://www.yeagolfclub.com.au/event/mens-knockout-final-knockout-to-be-played/
LOCATION:Yea GC
CATEGORIES:Board,Mens
ORGANIZER;CN="Yea GC":MAILTO:secretary@yeagolfclub.com.au
END:VEVENT
BEGIN:VEVENT
DTSTART;VALUE=DATE:20210814
DTEND;VALUE=DATE:20210815
DTSTAMP:20260420T211006
CREATED:20210131T021317Z
LAST-MODIFIED:20210131T021317Z
UID:4851-1628899200-1628985599@www.yeagolfclub.com.au
SUMMARY:54 Holes Points Event - Round 3 - Stroke & Putting - Rd 3 of 54 Holes Points Event. Birdie Hole 17th.
DESCRIPTION:Also Men’s Monthly Medal #7\, Stroke & Putting – Birdie Hole 17th.
URL:https://www.yeagolfclub.com.au/event/54-holes-points-event-round-3-stroke-putting-rd-3-of-54-holes-points-event-birdie-hole-17th/
LOCATION:Yea GC
CATEGORIES:Board,Mens
ORGANIZER;CN="Yea GC":MAILTO:secretary@yeagolfclub.com.au
END:VEVENT
BEGIN:VEVENT
DTSTART;VALUE=DATE:20210811
DTEND;VALUE=DATE:20210812
DTSTAMP:20260420T211006
CREATED:20210131T021317Z
LAST-MODIFIED:20210204T002400Z
UID:4849-1628640000-1628726399@www.yeagolfclub.com.au
SUMMARY:Margaret Samblebe Brooch - 18 hole Stableford
DESCRIPTION:Pls bring a plate of afternoon tea. Margaret joined the club in 1989 and was a member until 1996.  During this time\, she was a Handicap Manager.  Margaret Samblebe Brooch donated in memory of Margaret by her family in 1996.  The brooch can only be won once\, but in the event of this happening the winner will have her name engraved on the plaque.
URL:https://www.yeagolfclub.com.au/event/margaret-samblebe-brooch-18-hole-stableford/
LOCATION:Yea GC
CATEGORIES:Board,Ladies
ORGANIZER;CN="Yea GC":MAILTO:secretary@yeagolfclub.com.au
END:VEVENT
BEGIN:VEVENT
DTSTART;VALUE=DATE:20210807
DTEND;VALUE=DATE:20210808
DTSTAMP:20260420T211006
CREATED:20210131T021302Z
LAST-MODIFIED:20210131T021302Z
UID:4845-1628294400-1628380799@www.yeagolfclub.com.au
SUMMARY:54 Holes Points Event - Round 2 - Par
DESCRIPTION:Birdie Hole 8th.
URL:https://www.yeagolfclub.com.au/event/54-holes-points-event-round-2-par/
LOCATION:Yea GC
CATEGORIES:Board,Mens
ORGANIZER;CN="Yea GC":MAILTO:secretary@yeagolfclub.com.au
END:VEVENT
BEGIN:VEVENT
DTSTART;VALUE=DATE:20210731
DTEND;VALUE=DATE:20210801
DTSTAMP:20260420T211006
CREATED:20210131T021247Z
LAST-MODIFIED:20210131T021247Z
UID:4841-1627689600-1627775999@www.yeagolfclub.com.au
SUMMARY:54 Holes Points Event - Round 1 Stableford .
DESCRIPTION:Men – Birdie Hole 13th
URL:https://www.yeagolfclub.com.au/event/54-holes-points-event-round-1-stableford/
LOCATION:Yea GC
CATEGORIES:Board,Mens
ORGANIZER;CN="Yea GC":MAILTO:secretary@yeagolfclub.com.au
END:VEVENT
BEGIN:VEVENT
DTSTART;VALUE=DATE:20210626
DTEND;VALUE=DATE:20210627
DTSTAMP:20260420T211006
CREATED:20210131T021202Z
LAST-MODIFIED:20210131T021202Z
UID:4824-1624665600-1624751999@www.yeagolfclub.com.au
SUMMARY:Mixed Championships - 4BBB
DESCRIPTION:11.30 arrive for 12.00 Shotgun Start – Pls bring a plate.
URL:https://www.yeagolfclub.com.au/event/mixed-championships-4bbb/
LOCATION:Yea GC
CATEGORIES:Board,Ladies,Mens,Mixed
ORGANIZER;CN="Yea GC":MAILTO:secretary@yeagolfclub.com.au
END:VEVENT
BEGIN:VEVENT
DTSTART;VALUE=DATE:20210619
DTEND;VALUE=DATE:20210620
DTSTAMP:20260420T211006
CREATED:20210131T020955Z
LAST-MODIFIED:20210519T073842Z
UID:4816-1624060800-1624147199@www.yeagolfclub.com.au
SUMMARY:Prideaux Cup - Final Round -Stableford
DESCRIPTION:Final round of Prideaux Cup – Birdie Hole 9th.
URL:https://www.yeagolfclub.com.au/event/prideaux-cup-final-round-stableford/
LOCATION:Yea GC
CATEGORIES:Board,Mens
ORGANIZER;CN="Yea GC":MAILTO:secretary@yeagolfclub.com.au
END:VEVENT
BEGIN:VEVENT
DTSTART;VALUE=DATE:20210612
DTEND;VALUE=DATE:20210613
DTSTAMP:20260420T211006
CREATED:20210131T020804Z
LAST-MODIFIED:20210519T073751Z
UID:4803-1623456000-1623542399@www.yeagolfclub.com.au
SUMMARY:Prideaux Cup - 36 Hole Stableford - Round 1
DESCRIPTION:Round 1 of 2 for Prideaux Cup – Birdie Hole 7th
URL:https://www.yeagolfclub.com.au/event/prideaux-cup-36-hole-stableford-round-1/
LOCATION:Yea GC
CATEGORIES:Board,Mens
ORGANIZER;CN="Yea GC":MAILTO:secretary@yeagolfclub.com.au
END:VEVENT
BEGIN:VEVENT
DTSTART;VALUE=DATE:20210512
DTEND;VALUE=DATE:20210513
DTSTAMP:20260420T211006
CREATED:20210131T020559Z
LAST-MODIFIED:20210131T020559Z
UID:4782-1620777600-1620863999@www.yeagolfclub.com.au
SUMMARY:Kath Homewood - 36 Hole Aggregate
DESCRIPTION:Final Round – 18 Holes of Stroke. Please bring a plate.
URL:https://www.yeagolfclub.com.au/event/kath-homewood-36-hole-aggregate-2/
LOCATION:Yea GC
CATEGORIES:Board,Ladies
ORGANIZER;CN="Yea GC":MAILTO:secretary@yeagolfclub.com.au
END:VEVENT
BEGIN:VEVENT
DTSTART;VALUE=DATE:20210501
DTEND;VALUE=DATE:20210502
DTSTAMP:20260420T211006
CREATED:20210131T020328Z
LAST-MODIFIED:20210204T003019Z
UID:4771-1619827200-1619913599@www.yeagolfclub.com.au
SUMMARY:Jack Baynes Memorial Day - Canadian Mixed.
DESCRIPTION:11.30 for 12pm start. Pls arrange own partner and bring a plate.\nThe Jack Baynes Memorial Day commenced in 1988.  It is a Canadian Mixed Handicap event. The day is hosted by his family as a loving memorial.  Stableford for those not in foursomes.  Birdie Hole 10th.
URL:https://www.yeagolfclub.com.au/event/jack-baynes-memorial-day-canadian-mixed/
LOCATION:Yea GC
CATEGORIES:Board,Mens,Mixed
ORGANIZER;CN="Yea GC":MAILTO:secretary@yeagolfclub.com.au
END:VEVENT
BEGIN:VEVENT
DTSTART;VALUE=DATE:20210424
DTEND;VALUE=DATE:20210425
DTSTAMP:20260420T211006
CREATED:20210131T020313Z
LAST-MODIFIED:20210131T020313Z
UID:4765-1619222400-1619308799@www.yeagolfclub.com.au
SUMMARY:Foursomes Championships
DESCRIPTION:12:30pm start both Mixed & Mens.
URL:https://www.yeagolfclub.com.au/event/foursomes-championships/
LOCATION:Yea GC
CATEGORIES:Board,Mens
ORGANIZER;CN="Yea GC":MAILTO:secretary@yeagolfclub.com.au
END:VEVENT
BEGIN:VEVENT
DTSTART;VALUE=DATE:20210424
DTEND;VALUE=DATE:20210425
DTSTAMP:20260420T211006
CREATED:20210131T020304Z
LAST-MODIFIED:20210131T020304Z
UID:4763-1619222400-1619308799@www.yeagolfclub.com.au
SUMMARY:Stableford
DESCRIPTION:
URL:https://www.yeagolfclub.com.au/event/stableford-8/
LOCATION:Yea GC
CATEGORIES:Board,Ladies
ORGANIZER;CN="Yea GC":MAILTO:secretary@yeagolfclub.com.au
END:VEVENT
BEGIN:VEVENT
DTSTART;VALUE=DATE:20210414
DTEND;VALUE=DATE:20210415
DTSTAMP:20260420T211006
CREATED:20210131T015920Z
LAST-MODIFIED:20210203T235052Z
UID:4752-1618358400-1618444799@www.yeagolfclub.com.au
SUMMARY:Kath Homewood - 36 Hole Aggregate
DESCRIPTION:Round 1 – 18 Holes – Stroke\nThis Board event is 36 HOLE STROKE AGGREGATE played over two rounds\nKath join the club in 1959(approx).  Lady Captain in 1971\, 72\, 74\, 75\, 97 & 98.  Lady President in 1985\, 86\, 94\, 95 & 96.  Pennant player for years.  Lady President of Dalhousie.  Life Member of Yea Golf Club.  Represented Yea at many\, many Inter-Club tournaments\, etc with much success. During her membership she won most club events\, sometimes more than once.  Tireless club worker\, generous with her food and flowers for all events.
URL:https://www.yeagolfclub.com.au/event/kath-homewood-36-hole-aggregate/
LOCATION:Yea GC
CATEGORIES:Board,Ladies
ORGANIZER;CN="Yea GC":MAILTO:secretary@yeagolfclub.com.au
END:VEVENT
BEGIN:VEVENT
DTSTART;VALUE=DATE:20210403
DTEND;VALUE=DATE:20210404
DTSTAMP:20260420T211006
CREATED:20210131T015850Z
LAST-MODIFIED:20210131T015850Z
UID:4742-1617408000-1617494399@www.yeagolfclub.com.au
SUMMARY:Barry Moore Trophy - Stableford - Final Round
DESCRIPTION:Final Round of Barry Moore Trophy – Birdie Hole – 16th.
URL:https://www.yeagolfclub.com.au/event/barry-moore-trophy-stableford-final-round/
LOCATION:Yea GC
CATEGORIES:Board,Mens
ORGANIZER;CN="Yea GC":MAILTO:secretary@yeagolfclub.com.au
END:VEVENT
BEGIN:VEVENT
DTSTART;VALUE=DATE:20210306
DTEND;VALUE=DATE:20210307
DTSTAMP:20260420T211006
CREATED:20210131T015716Z
LAST-MODIFIED:20210204T001230Z
UID:4717-1614988800-1615075199@www.yeagolfclub.com.au
SUMMARY:Barry Moore Trophy - Stableford - 1st Round
DESCRIPTION:Played over two 18 hole Rounds – Birdie Hole 14th\nIn the event of a tie there will be  a countback using the AGU system. Handicaps will be as at the day of play.
URL:https://www.yeagolfclub.com.au/event/barry-moore-trophy-stableford-1st-round/
LOCATION:Yea GC
CATEGORIES:Board,Mens
ORGANIZER;CN="Yea GC":MAILTO:secretary@yeagolfclub.com.au
END:VEVENT
END:VCALENDAR